BEGIN:VCALENDAR
VERSION:2.0
PRODID:-//Cobblestone Quilters Guild - ECPv6.15.20//NONSGML v1.0//EN
CALSCALE:GREGORIAN
METHOD:PUBLISH
X-ORIGINAL-URL:https://cobblestonequilters.com
X-WR-CALDESC:Events for Cobblestone Quilters Guild
REFRESH-INTERVAL;VALUE=DURATION:PT1H
X-Robots-Tag:noindex
X-PUBLISHED-TTL:PT1H
BEGIN:VTIMEZONE
TZID:America/New_York
BEGIN:DAYLIGHT
TZOFFSETFROM:-0500
TZOFFSETTO:-0400
TZNAME:EDT
DTSTART:20260308T070000
END:DAYLIGHT
BEGIN:STANDARD
TZOFFSETFROM:-0400
TZOFFSETTO:-0500
TZNAME:EST
DTSTART:20261101T060000
END:STANDARD
BEGIN:DAYLIGHT
TZOFFSETFROM:-0500
TZOFFSETTO:-0400
TZNAME:EDT
DTSTART:20270314T070000
END:DAYLIGHT
BEGIN:STANDARD
TZOFFSETFROM:-0400
TZOFFSETTO:-0500
TZNAME:EST
DTSTART:20271107T060000
END:STANDARD
BEGIN:DAYLIGHT
TZOFFSETFROM:-0500
TZOFFSETTO:-0400
TZNAME:EDT
DTSTART:20280312T070000
END:DAYLIGHT
BEGIN:STANDARD
TZOFFSETFROM:-0400
TZOFFSETTO:-0500
TZNAME:EST
DTSTART:20281105T060000
END:STANDARD
BEGIN:DAYLIGHT
TZOFFSETFROM:-0500
TZOFFSETTO:-0400
TZNAME:EDT
DTSTART:20290311T070000
END:DAYLIGHT
BEGIN:STANDARD
TZOFFSETFROM:-0400
TZOFFSETTO:-0500
TZNAME:EST
DTSTART:20291104T060000
END:STANDARD
BEGIN:DAYLIGHT
TZOFFSETFROM:-0500
TZOFFSETTO:-0400
TZNAME:EDT
DTSTART:20300310T070000
END:DAYLIGHT
BEGIN:STANDARD
TZOFFSETFROM:-0400
TZOFFSETTO:-0500
TZNAME:EST
DTSTART:20301103T060000
END:STANDARD
END:VTIMEZONE
BEGIN:VEVENT
DTSTART;TZID=America/New_York:20270313T110000
DTEND;TZID=America/New_York:20270313T130000
DTSTAMP:20260425T160445
CREATED:20251230T135532Z
LAST-MODIFIED:20260101T130035Z
UID:10002936-1804935600-1804942800@cobblestonequilters.com
SUMMARY:Monthly Guild Meeting
DESCRIPTION:9:30    Business Meeting  AM \nWorkshop PM
URL:https://cobblestonequilters.com/events/monthly-guild-meeting-6/2027-03-13/
LOCATION:Yeamans Presbyterian Park Church\, 5931 Murray Drive\, Hanahan\, SC\, 29410
ORGANIZER;CN="Cobblestone Quilters Guild":MAILTO:website@csq.websmithshop.com/
END:VEVENT
BEGIN:VEVENT
DTSTART;TZID=America/New_York:20270410T110000
DTEND;TZID=America/New_York:20270410T130000
DTSTAMP:20260425T160446
CREATED:20251230T135532Z
LAST-MODIFIED:20260101T130035Z
UID:10002937-1807354800-1807362000@cobblestonequilters.com
SUMMARY:Monthly Guild Meeting
DESCRIPTION:9:30    Business Meeting  AM \nWorkshop PM
URL:https://cobblestonequilters.com/events/monthly-guild-meeting-6/2027-04-10/
LOCATION:Yeamans Presbyterian Park Church\, 5931 Murray Drive\, Hanahan\, SC\, 29410
ORGANIZER;CN="Cobblestone Quilters Guild":MAILTO:website@csq.websmithshop.com/
END:VEVENT
BEGIN:VEVENT
DTSTART;TZID=America/New_York:20270508T110000
DTEND;TZID=America/New_York:20270508T130000
DTSTAMP:20260425T160446
CREATED:20251230T135532Z
LAST-MODIFIED:20260101T130035Z
UID:10002938-1809774000-1809781200@cobblestonequilters.com
SUMMARY:Monthly Guild Meeting
DESCRIPTION:9:30    Business Meeting  AM \nWorkshop PM
URL:https://cobblestonequilters.com/events/monthly-guild-meeting-6/2027-05-08/
LOCATION:Yeamans Presbyterian Park Church\, 5931 Murray Drive\, Hanahan\, SC\, 29410
ORGANIZER;CN="Cobblestone Quilters Guild":MAILTO:website@csq.websmithshop.com/
END:VEVENT
BEGIN:VEVENT
DTSTART;TZID=America/New_York:20270612T110000
DTEND;TZID=America/New_York:20270612T130000
DTSTAMP:20260425T160446
CREATED:20251230T135532Z
LAST-MODIFIED:20260101T130035Z
UID:10002939-1812798000-1812805200@cobblestonequilters.com
SUMMARY:Monthly Guild Meeting
DESCRIPTION:9:30    Business Meeting  AM \nWorkshop PM
URL:https://cobblestonequilters.com/events/monthly-guild-meeting-6/2027-06-12/
LOCATION:Yeamans Presbyterian Park Church\, 5931 Murray Drive\, Hanahan\, SC\, 29410
ORGANIZER;CN="Cobblestone Quilters Guild":MAILTO:website@csq.websmithshop.com/
END:VEVENT
BEGIN:VEVENT
DTSTART;TZID=America/New_York:20270710T110000
DTEND;TZID=America/New_York:20270710T130000
DTSTAMP:20260425T160446
CREATED:20251230T135532Z
LAST-MODIFIED:20260101T130035Z
UID:10002940-1815217200-1815224400@cobblestonequilters.com
SUMMARY:Monthly Guild Meeting
DESCRIPTION:9:30    Business Meeting  AM \nWorkshop PM
URL:https://cobblestonequilters.com/events/monthly-guild-meeting-6/2027-07-10/
LOCATION:Yeamans Presbyterian Park Church\, 5931 Murray Drive\, Hanahan\, SC\, 29410
ORGANIZER;CN="Cobblestone Quilters Guild":MAILTO:website@csq.websmithshop.com/
END:VEVENT
BEGIN:VEVENT
DTSTART;TZID=America/New_York:20270814T110000
DTEND;TZID=America/New_York:20270814T130000
DTSTAMP:20260425T160446
CREATED:20251230T135532Z
LAST-MODIFIED:20260101T130035Z
UID:10002941-1818241200-1818248400@cobblestonequilters.com
SUMMARY:Monthly Guild Meeting
DESCRIPTION:9:30    Business Meeting  AM \nWorkshop PM
URL:https://cobblestonequilters.com/events/monthly-guild-meeting-6/2027-08-14/
LOCATION:Yeamans Presbyterian Park Church\, 5931 Murray Drive\, Hanahan\, SC\, 29410
ORGANIZER;CN="Cobblestone Quilters Guild":MAILTO:website@csq.websmithshop.com/
END:VEVENT
BEGIN:VEVENT
DTSTART;TZID=America/New_York:20270911T110000
DTEND;TZID=America/New_York:20270911T130000
DTSTAMP:20260425T160446
CREATED:20251230T135532Z
LAST-MODIFIED:20260101T130035Z
UID:10002942-1820660400-1820667600@cobblestonequilters.com
SUMMARY:Monthly Guild Meeting
DESCRIPTION:9:30    Business Meeting  AM \nWorkshop PM
URL:https://cobblestonequilters.com/events/monthly-guild-meeting-6/2027-09-11/
LOCATION:Yeamans Presbyterian Park Church\, 5931 Murray Drive\, Hanahan\, SC\, 29410
ORGANIZER;CN="Cobblestone Quilters Guild":MAILTO:website@csq.websmithshop.com/
END:VEVENT
BEGIN:VEVENT
DTSTART;TZID=America/New_York:20271009T110000
DTEND;TZID=America/New_York:20271009T130000
DTSTAMP:20260425T160446
CREATED:20251230T135532Z
LAST-MODIFIED:20260101T130035Z
UID:10002943-1823079600-1823086800@cobblestonequilters.com
SUMMARY:Monthly Guild Meeting
DESCRIPTION:9:30    Business Meeting  AM \nWorkshop PM
URL:https://cobblestonequilters.com/events/monthly-guild-meeting-6/2027-10-09/
LOCATION:Yeamans Presbyterian Park Church\, 5931 Murray Drive\, Hanahan\, SC\, 29410
ORGANIZER;CN="Cobblestone Quilters Guild":MAILTO:website@csq.websmithshop.com/
END:VEVENT
BEGIN:VEVENT
DTSTART;TZID=America/New_York:20271113T110000
DTEND;TZID=America/New_York:20271113T130000
DTSTAMP:20260425T160446
CREATED:20251230T135532Z
LAST-MODIFIED:20260101T130035Z
UID:10002944-1826103600-1826110800@cobblestonequilters.com
SUMMARY:Monthly Guild Meeting
DESCRIPTION:9:30    Business Meeting  AM \nWorkshop PM
URL:https://cobblestonequilters.com/events/monthly-guild-meeting-6/2027-11-13/
LOCATION:Yeamans Presbyterian Park Church\, 5931 Murray Drive\, Hanahan\, SC\, 29410
ORGANIZER;CN="Cobblestone Quilters Guild":MAILTO:website@csq.websmithshop.com/
END:VEVENT
BEGIN:VEVENT
DTSTART;TZID=America/New_York:20271211T110000
DTEND;TZID=America/New_York:20271211T130000
DTSTAMP:20260425T160446
CREATED:20251230T135532Z
LAST-MODIFIED:20260101T130035Z
UID:10002945-1828522800-1828530000@cobblestonequilters.com
SUMMARY:Monthly Guild Meeting
DESCRIPTION:9:30    Business Meeting  AM \nWorkshop PM
URL:https://cobblestonequilters.com/events/monthly-guild-meeting-6/2027-12-11/
LOCATION:Yeamans Presbyterian Park Church\, 5931 Murray Drive\, Hanahan\, SC\, 29410
ORGANIZER;CN="Cobblestone Quilters Guild":MAILTO:website@csq.websmithshop.com/
END:VEVENT
BEGIN:VEVENT
DTSTART;TZID=America/New_York:20280108T110000
DTEND;TZID=America/New_York:20280108T130000
DTSTAMP:20260425T160446
CREATED:20251230T135532Z
LAST-MODIFIED:20260101T130035Z
UID:10002946-1830942000-1830949200@cobblestonequilters.com
SUMMARY:Monthly Guild Meeting
DESCRIPTION:9:30    Business Meeting  AM \nWorkshop PM
URL:https://cobblestonequilters.com/events/monthly-guild-meeting-6/2028-01-08/
LOCATION:Yeamans Presbyterian Park Church\, 5931 Murray Drive\, Hanahan\, SC\, 29410
ORGANIZER;CN="Cobblestone Quilters Guild":MAILTO:website@csq.websmithshop.com/
END:VEVENT
BEGIN:VEVENT
DTSTART;TZID=America/New_York:20280212T110000
DTEND;TZID=America/New_York:20280212T130000
DTSTAMP:20260425T160446
CREATED:20251230T135532Z
LAST-MODIFIED:20260101T130035Z
UID:10002947-1833966000-1833973200@cobblestonequilters.com
SUMMARY:Monthly Guild Meeting
DESCRIPTION:9:30    Business Meeting  AM \nWorkshop PM
URL:https://cobblestonequilters.com/events/monthly-guild-meeting-6/2028-02-12/
LOCATION:Yeamans Presbyterian Park Church\, 5931 Murray Drive\, Hanahan\, SC\, 29410
ORGANIZER;CN="Cobblestone Quilters Guild":MAILTO:website@csq.websmithshop.com/
END:VEVENT
BEGIN:VEVENT
DTSTART;TZID=America/New_York:20280311T110000
DTEND;TZID=America/New_York:20280311T130000
DTSTAMP:20260425T160446
CREATED:20251230T135532Z
LAST-MODIFIED:20260101T130035Z
UID:10002948-1836385200-1836392400@cobblestonequilters.com
SUMMARY:Monthly Guild Meeting
DESCRIPTION:9:30    Business Meeting  AM \nWorkshop PM
URL:https://cobblestonequilters.com/events/monthly-guild-meeting-6/2028-03-11/
LOCATION:Yeamans Presbyterian Park Church\, 5931 Murray Drive\, Hanahan\, SC\, 29410
ORGANIZER;CN="Cobblestone Quilters Guild":MAILTO:website@csq.websmithshop.com/
END:VEVENT
BEGIN:VEVENT
DTSTART;TZID=America/New_York:20280408T110000
DTEND;TZID=America/New_York:20280408T130000
DTSTAMP:20260425T160446
CREATED:20251230T135532Z
LAST-MODIFIED:20260101T130035Z
UID:10002949-1838804400-1838811600@cobblestonequilters.com
SUMMARY:Monthly Guild Meeting
DESCRIPTION:9:30    Business Meeting  AM \nWorkshop PM
URL:https://cobblestonequilters.com/events/monthly-guild-meeting-6/2028-04-08/
LOCATION:Yeamans Presbyterian Park Church\, 5931 Murray Drive\, Hanahan\, SC\, 29410
ORGANIZER;CN="Cobblestone Quilters Guild":MAILTO:website@csq.websmithshop.com/
END:VEVENT
BEGIN:VEVENT
DTSTART;TZID=America/New_York:20280513T110000
DTEND;TZID=America/New_York:20280513T130000
DTSTAMP:20260425T160446
CREATED:20251230T135532Z
LAST-MODIFIED:20260101T130035Z
UID:10002950-1841828400-1841835600@cobblestonequilters.com
SUMMARY:Monthly Guild Meeting
DESCRIPTION:9:30    Business Meeting  AM \nWorkshop PM
URL:https://cobblestonequilters.com/events/monthly-guild-meeting-6/2028-05-13/
LOCATION:Yeamans Presbyterian Park Church\, 5931 Murray Drive\, Hanahan\, SC\, 29410
ORGANIZER;CN="Cobblestone Quilters Guild":MAILTO:website@csq.websmithshop.com/
END:VEVENT
BEGIN:VEVENT
DTSTART;TZID=America/New_York:20280610T110000
DTEND;TZID=America/New_York:20280610T130000
DTSTAMP:20260425T160446
CREATED:20251230T135532Z
LAST-MODIFIED:20260101T130035Z
UID:10002951-1844247600-1844254800@cobblestonequilters.com
SUMMARY:Monthly Guild Meeting
DESCRIPTION:9:30    Business Meeting  AM \nWorkshop PM
URL:https://cobblestonequilters.com/events/monthly-guild-meeting-6/2028-06-10/
LOCATION:Yeamans Presbyterian Park Church\, 5931 Murray Drive\, Hanahan\, SC\, 29410
ORGANIZER;CN="Cobblestone Quilters Guild":MAILTO:website@csq.websmithshop.com/
END:VEVENT
BEGIN:VEVENT
DTSTART;TZID=America/New_York:20280708T110000
DTEND;TZID=America/New_York:20280708T130000
DTSTAMP:20260425T160446
CREATED:20251230T135532Z
LAST-MODIFIED:20260101T130035Z
UID:10002952-1846666800-1846674000@cobblestonequilters.com
SUMMARY:Monthly Guild Meeting
DESCRIPTION:9:30    Business Meeting  AM \nWorkshop PM
URL:https://cobblestonequilters.com/events/monthly-guild-meeting-6/2028-07-08/
LOCATION:Yeamans Presbyterian Park Church\, 5931 Murray Drive\, Hanahan\, SC\, 29410
ORGANIZER;CN="Cobblestone Quilters Guild":MAILTO:website@csq.websmithshop.com/
END:VEVENT
BEGIN:VEVENT
DTSTART;TZID=America/New_York:20280812T110000
DTEND;TZID=America/New_York:20280812T130000
DTSTAMP:20260425T160446
CREATED:20251230T135532Z
LAST-MODIFIED:20260101T130035Z
UID:10002953-1849690800-1849698000@cobblestonequilters.com
SUMMARY:Monthly Guild Meeting
DESCRIPTION:9:30    Business Meeting  AM \nWorkshop PM
URL:https://cobblestonequilters.com/events/monthly-guild-meeting-6/2028-08-12/
LOCATION:Yeamans Presbyterian Park Church\, 5931 Murray Drive\, Hanahan\, SC\, 29410
ORGANIZER;CN="Cobblestone Quilters Guild":MAILTO:website@csq.websmithshop.com/
END:VEVENT
BEGIN:VEVENT
DTSTART;TZID=America/New_York:20280909T110000
DTEND;TZID=America/New_York:20280909T130000
DTSTAMP:20260425T160446
CREATED:20251230T135532Z
LAST-MODIFIED:20260101T130035Z
UID:10002954-1852110000-1852117200@cobblestonequilters.com
SUMMARY:Monthly Guild Meeting
DESCRIPTION:9:30    Business Meeting  AM \nWorkshop PM
URL:https://cobblestonequilters.com/events/monthly-guild-meeting-6/2028-09-09/
LOCATION:Yeamans Presbyterian Park Church\, 5931 Murray Drive\, Hanahan\, SC\, 29410
ORGANIZER;CN="Cobblestone Quilters Guild":MAILTO:website@csq.websmithshop.com/
END:VEVENT
BEGIN:VEVENT
DTSTART;TZID=America/New_York:20281014T110000
DTEND;TZID=America/New_York:20281014T130000
DTSTAMP:20260425T160446
CREATED:20251230T135532Z
LAST-MODIFIED:20260101T130035Z
UID:10002955-1855134000-1855141200@cobblestonequilters.com
SUMMARY:Monthly Guild Meeting
DESCRIPTION:9:30    Business Meeting  AM \nWorkshop PM
URL:https://cobblestonequilters.com/events/monthly-guild-meeting-6/2028-10-14/
LOCATION:Yeamans Presbyterian Park Church\, 5931 Murray Drive\, Hanahan\, SC\, 29410
ORGANIZER;CN="Cobblestone Quilters Guild":MAILTO:website@csq.websmithshop.com/
END:VEVENT
BEGIN:VEVENT
DTSTART;TZID=America/New_York:20281111T110000
DTEND;TZID=America/New_York:20281111T130000
DTSTAMP:20260425T160446
CREATED:20251230T135532Z
LAST-MODIFIED:20260101T130035Z
UID:10002956-1857553200-1857560400@cobblestonequilters.com
SUMMARY:Monthly Guild Meeting
DESCRIPTION:9:30    Business Meeting  AM \nWorkshop PM
URL:https://cobblestonequilters.com/events/monthly-guild-meeting-6/2028-11-11/
LOCATION:Yeamans Presbyterian Park Church\, 5931 Murray Drive\, Hanahan\, SC\, 29410
ORGANIZER;CN="Cobblestone Quilters Guild":MAILTO:website@csq.websmithshop.com/
END:VEVENT
BEGIN:VEVENT
DTSTART;TZID=America/New_York:20281209T110000
DTEND;TZID=America/New_York:20281209T130000
DTSTAMP:20260425T160446
CREATED:20251230T135532Z
LAST-MODIFIED:20260101T130035Z
UID:10002957-1859972400-1859979600@cobblestonequilters.com
SUMMARY:Monthly Guild Meeting
DESCRIPTION:9:30    Business Meeting  AM \nWorkshop PM
URL:https://cobblestonequilters.com/events/monthly-guild-meeting-6/2028-12-09/
LOCATION:Yeamans Presbyterian Park Church\, 5931 Murray Drive\, Hanahan\, SC\, 29410
ORGANIZER;CN="Cobblestone Quilters Guild":MAILTO:website@csq.websmithshop.com/
END:VEVENT
BEGIN:VEVENT
DTSTART;TZID=America/New_York:20290113T110000
DTEND;TZID=America/New_York:20290113T130000
DTSTAMP:20260425T160446
CREATED:20251230T135532Z
LAST-MODIFIED:20260101T130035Z
UID:10002958-1862996400-1863003600@cobblestonequilters.com
SUMMARY:Monthly Guild Meeting
DESCRIPTION:9:30    Business Meeting  AM \nWorkshop PM
URL:https://cobblestonequilters.com/events/monthly-guild-meeting-6/2029-01-13/
LOCATION:Yeamans Presbyterian Park Church\, 5931 Murray Drive\, Hanahan\, SC\, 29410
ORGANIZER;CN="Cobblestone Quilters Guild":MAILTO:website@csq.websmithshop.com/
END:VEVENT
BEGIN:VEVENT
DTSTART;TZID=America/New_York:20290210T110000
DTEND;TZID=America/New_York:20290210T130000
DTSTAMP:20260425T160446
CREATED:20251230T135532Z
LAST-MODIFIED:20260101T130035Z
UID:10002959-1865415600-1865422800@cobblestonequilters.com
SUMMARY:Monthly Guild Meeting
DESCRIPTION:9:30    Business Meeting  AM \nWorkshop PM
URL:https://cobblestonequilters.com/events/monthly-guild-meeting-6/2029-02-10/
LOCATION:Yeamans Presbyterian Park Church\, 5931 Murray Drive\, Hanahan\, SC\, 29410
ORGANIZER;CN="Cobblestone Quilters Guild":MAILTO:website@csq.websmithshop.com/
END:VEVENT
BEGIN:VEVENT
DTSTART;TZID=America/New_York:20290310T110000
DTEND;TZID=America/New_York:20290310T130000
DTSTAMP:20260425T160446
CREATED:20251230T135532Z
LAST-MODIFIED:20260101T130035Z
UID:10002960-1867834800-1867842000@cobblestonequilters.com
SUMMARY:Monthly Guild Meeting
DESCRIPTION:9:30    Business Meeting  AM \nWorkshop PM
URL:https://cobblestonequilters.com/events/monthly-guild-meeting-6/2029-03-10/
LOCATION:Yeamans Presbyterian Park Church\, 5931 Murray Drive\, Hanahan\, SC\, 29410
ORGANIZER;CN="Cobblestone Quilters Guild":MAILTO:website@csq.websmithshop.com/
END:VEVENT
BEGIN:VEVENT
DTSTART;TZID=America/New_York:20290414T110000
DTEND;TZID=America/New_York:20290414T130000
DTSTAMP:20260425T160446
CREATED:20251230T135532Z
LAST-MODIFIED:20260101T130035Z
UID:10002961-1870858800-1870866000@cobblestonequilters.com
SUMMARY:Monthly Guild Meeting
DESCRIPTION:9:30    Business Meeting  AM \nWorkshop PM
URL:https://cobblestonequilters.com/events/monthly-guild-meeting-6/2029-04-14/
LOCATION:Yeamans Presbyterian Park Church\, 5931 Murray Drive\, Hanahan\, SC\, 29410
ORGANIZER;CN="Cobblestone Quilters Guild":MAILTO:website@csq.websmithshop.com/
END:VEVENT
BEGIN:VEVENT
DTSTART;TZID=America/New_York:20290512T110000
DTEND;TZID=America/New_York:20290512T130000
DTSTAMP:20260425T160446
CREATED:20251230T135532Z
LAST-MODIFIED:20260101T130035Z
UID:10002962-1873278000-1873285200@cobblestonequilters.com
SUMMARY:Monthly Guild Meeting
DESCRIPTION:9:30    Business Meeting  AM \nWorkshop PM
URL:https://cobblestonequilters.com/events/monthly-guild-meeting-6/2029-05-12/
LOCATION:Yeamans Presbyterian Park Church\, 5931 Murray Drive\, Hanahan\, SC\, 29410
ORGANIZER;CN="Cobblestone Quilters Guild":MAILTO:website@csq.websmithshop.com/
END:VEVENT
BEGIN:VEVENT
DTSTART;TZID=America/New_York:20290609T110000
DTEND;TZID=America/New_York:20290609T130000
DTSTAMP:20260425T160446
CREATED:20251230T135532Z
LAST-MODIFIED:20260101T130035Z
UID:10002963-1875697200-1875704400@cobblestonequilters.com
SUMMARY:Monthly Guild Meeting
DESCRIPTION:9:30    Business Meeting  AM \nWorkshop PM
URL:https://cobblestonequilters.com/events/monthly-guild-meeting-6/2029-06-09/
LOCATION:Yeamans Presbyterian Park Church\, 5931 Murray Drive\, Hanahan\, SC\, 29410
ORGANIZER;CN="Cobblestone Quilters Guild":MAILTO:website@csq.websmithshop.com/
END:VEVENT
BEGIN:VEVENT
DTSTART;TZID=America/New_York:20290714T110000
DTEND;TZID=America/New_York:20290714T130000
DTSTAMP:20260425T160446
CREATED:20251230T135532Z
LAST-MODIFIED:20260101T130035Z
UID:10002964-1878721200-1878728400@cobblestonequilters.com
SUMMARY:Monthly Guild Meeting
DESCRIPTION:9:30    Business Meeting  AM \nWorkshop PM
URL:https://cobblestonequilters.com/events/monthly-guild-meeting-6/2029-07-14/
LOCATION:Yeamans Presbyterian Park Church\, 5931 Murray Drive\, Hanahan\, SC\, 29410
ORGANIZER;CN="Cobblestone Quilters Guild":MAILTO:website@csq.websmithshop.com/
END:VEVENT
BEGIN:VEVENT
DTSTART;TZID=America/New_York:20290811T110000
DTEND;TZID=America/New_York:20290811T130000
DTSTAMP:20260425T160446
CREATED:20251230T135532Z
LAST-MODIFIED:20260101T130035Z
UID:10002965-1881140400-1881147600@cobblestonequilters.com
SUMMARY:Monthly Guild Meeting
DESCRIPTION:9:30    Business Meeting  AM \nWorkshop PM
URL:https://cobblestonequilters.com/events/monthly-guild-meeting-6/2029-08-11/
LOCATION:Yeamans Presbyterian Park Church\, 5931 Murray Drive\, Hanahan\, SC\, 29410
ORGANIZER;CN="Cobblestone Quilters Guild":MAILTO:website@csq.websmithshop.com/
END:VEVENT
END:VCALENDAR