BEGIN:VCALENDAR
VERSION:2.0
PRODID:-//Cobblestone Quilters Guild - ECPv6.15.20//NONSGML v1.0//EN
CALSCALE:GREGORIAN
METHOD:PUBLISH
X-ORIGINAL-URL:https://cobblestonequilters.com
X-WR-CALDESC:Events for Cobblestone Quilters Guild
REFRESH-INTERVAL;VALUE=DURATION:PT1H
X-Robots-Tag:noindex
X-PUBLISHED-TTL:PT1H
BEGIN:VTIMEZONE
TZID:America/New_York
BEGIN:DAYLIGHT
TZOFFSETFROM:-0500
TZOFFSETTO:-0400
TZNAME:EDT
DTSTART:20250309T070000
END:DAYLIGHT
BEGIN:STANDARD
TZOFFSETFROM:-0400
TZOFFSETTO:-0500
TZNAME:EST
DTSTART:20251102T060000
END:STANDARD
BEGIN:DAYLIGHT
TZOFFSETFROM:-0500
TZOFFSETTO:-0400
TZNAME:EDT
DTSTART:20260308T070000
END:DAYLIGHT
BEGIN:STANDARD
TZOFFSETFROM:-0400
TZOFFSETTO:-0500
TZNAME:EST
DTSTART:20261101T060000
END:STANDARD
BEGIN:DAYLIGHT
TZOFFSETFROM:-0500
TZOFFSETTO:-0400
TZNAME:EDT
DTSTART:20270314T070000
END:DAYLIGHT
BEGIN:STANDARD
TZOFFSETFROM:-0400
TZOFFSETTO:-0500
TZNAME:EST
DTSTART:20271107T060000
END:STANDARD
BEGIN:DAYLIGHT
TZOFFSETFROM:-0500
TZOFFSETTO:-0400
TZNAME:EDT
DTSTART:20280312T070000
END:DAYLIGHT
BEGIN:STANDARD
TZOFFSETFROM:-0400
TZOFFSETTO:-0500
TZNAME:EST
DTSTART:20281105T060000
END:STANDARD
END:VTIMEZONE
BEGIN:VEVENT
DTSTART;TZID=America/New_York:20261014T100000
DTEND;TZID=America/New_York:20261014T150000
DTSTAMP:20260425T173108
CREATED:20241204T181508Z
LAST-MODIFIED:20250810T154125Z
UID:10002503-1791972000-1791990000@cobblestonequilters.com
SUMMARY:QuiltNFriends (Splinter Group)
DESCRIPTION:Meets at Stallsville Church in Summerville every Werdnesday \n10-3
URL:https://cobblestonequilters.com/events/quilt-friends-splinter-group/2026-10-14/
LOCATION:Stallsville Methodist Church\, 255 Stallsville Loop\, Summerville\, SC
ORGANIZER;CN="Cobblestone Quilters Guild":MAILTO:website@csq.websmithshop.com/
END:VEVENT
BEGIN:VEVENT
DTSTART;TZID=America/New_York:20261021T100000
DTEND;TZID=America/New_York:20261021T150000
DTSTAMP:20260425T173108
CREATED:20241204T181508Z
LAST-MODIFIED:20250810T154125Z
UID:10002504-1792576800-1792594800@cobblestonequilters.com
SUMMARY:QuiltNFriends (Splinter Group)
DESCRIPTION:Meets at Stallsville Church in Summerville every Werdnesday \n10-3
URL:https://cobblestonequilters.com/events/quilt-friends-splinter-group/2026-10-21/
LOCATION:Stallsville Methodist Church\, 255 Stallsville Loop\, Summerville\, SC
ORGANIZER;CN="Cobblestone Quilters Guild":MAILTO:website@csq.websmithshop.com/
END:VEVENT
BEGIN:VEVENT
DTSTART;TZID=America/New_York:20261028T100000
DTEND;TZID=America/New_York:20261028T150000
DTSTAMP:20260425T173108
CREATED:20241204T181508Z
LAST-MODIFIED:20250810T154125Z
UID:10002505-1793181600-1793199600@cobblestonequilters.com
SUMMARY:QuiltNFriends (Splinter Group)
DESCRIPTION:Meets at Stallsville Church in Summerville every Werdnesday \n10-3
URL:https://cobblestonequilters.com/events/quilt-friends-splinter-group/2026-10-28/
LOCATION:Stallsville Methodist Church\, 255 Stallsville Loop\, Summerville\, SC
ORGANIZER;CN="Cobblestone Quilters Guild":MAILTO:website@csq.websmithshop.com/
END:VEVENT
BEGIN:VEVENT
DTSTART;TZID=America/New_York:20261104T100000
DTEND;TZID=America/New_York:20261104T150000
DTSTAMP:20260425T173108
CREATED:20241204T181508Z
LAST-MODIFIED:20250810T154125Z
UID:10002506-1793786400-1793804400@cobblestonequilters.com
SUMMARY:QuiltNFriends (Splinter Group)
DESCRIPTION:Meets at Stallsville Church in Summerville every Werdnesday \n10-3
URL:https://cobblestonequilters.com/events/quilt-friends-splinter-group/2026-11-04/
LOCATION:Stallsville Methodist Church\, 255 Stallsville Loop\, Summerville\, SC
ORGANIZER;CN="Cobblestone Quilters Guild":MAILTO:website@csq.websmithshop.com/
END:VEVENT
BEGIN:VEVENT
DTSTART;TZID=America/New_York:20261111T100000
DTEND;TZID=America/New_York:20261111T150000
DTSTAMP:20260425T173108
CREATED:20241204T181508Z
LAST-MODIFIED:20250810T154125Z
UID:10002507-1794391200-1794409200@cobblestonequilters.com
SUMMARY:QuiltNFriends (Splinter Group)
DESCRIPTION:Meets at Stallsville Church in Summerville every Werdnesday \n10-3
URL:https://cobblestonequilters.com/events/quilt-friends-splinter-group/2026-11-11/
LOCATION:Stallsville Methodist Church\, 255 Stallsville Loop\, Summerville\, SC
ORGANIZER;CN="Cobblestone Quilters Guild":MAILTO:website@csq.websmithshop.com/
END:VEVENT
BEGIN:VEVENT
DTSTART;TZID=America/New_York:20261118T100000
DTEND;TZID=America/New_York:20261118T150000
DTSTAMP:20260425T173108
CREATED:20241204T181508Z
LAST-MODIFIED:20250810T154125Z
UID:10002508-1794996000-1795014000@cobblestonequilters.com
SUMMARY:QuiltNFriends (Splinter Group)
DESCRIPTION:Meets at Stallsville Church in Summerville every Werdnesday \n10-3
URL:https://cobblestonequilters.com/events/quilt-friends-splinter-group/2026-11-18/
LOCATION:Stallsville Methodist Church\, 255 Stallsville Loop\, Summerville\, SC
ORGANIZER;CN="Cobblestone Quilters Guild":MAILTO:website@csq.websmithshop.com/
END:VEVENT
BEGIN:VEVENT
DTSTART;TZID=America/New_York:20261125T100000
DTEND;TZID=America/New_York:20261125T150000
DTSTAMP:20260425T173108
CREATED:20241204T181508Z
LAST-MODIFIED:20250810T154125Z
UID:10002509-1795600800-1795618800@cobblestonequilters.com
SUMMARY:QuiltNFriends (Splinter Group)
DESCRIPTION:Meets at Stallsville Church in Summerville every Werdnesday \n10-3
URL:https://cobblestonequilters.com/events/quilt-friends-splinter-group/2026-11-25/
LOCATION:Stallsville Methodist Church\, 255 Stallsville Loop\, Summerville\, SC
ORGANIZER;CN="Cobblestone Quilters Guild":MAILTO:website@csq.websmithshop.com/
END:VEVENT
BEGIN:VEVENT
DTSTART;TZID=America/New_York:20261202T100000
DTEND;TZID=America/New_York:20261202T150000
DTSTAMP:20260425T173108
CREATED:20241204T181508Z
LAST-MODIFIED:20250810T154125Z
UID:10002510-1796205600-1796223600@cobblestonequilters.com
SUMMARY:QuiltNFriends (Splinter Group)
DESCRIPTION:Meets at Stallsville Church in Summerville every Werdnesday \n10-3
URL:https://cobblestonequilters.com/events/quilt-friends-splinter-group/2026-12-02/
LOCATION:Stallsville Methodist Church\, 255 Stallsville Loop\, Summerville\, SC
ORGANIZER;CN="Cobblestone Quilters Guild":MAILTO:website@csq.websmithshop.com/
END:VEVENT
BEGIN:VEVENT
DTSTART;TZID=America/New_York:20261209T100000
DTEND;TZID=America/New_York:20261209T150000
DTSTAMP:20260425T173108
CREATED:20241204T181508Z
LAST-MODIFIED:20250810T154125Z
UID:10002511-1796810400-1796828400@cobblestonequilters.com
SUMMARY:QuiltNFriends (Splinter Group)
DESCRIPTION:Meets at Stallsville Church in Summerville every Werdnesday \n10-3
URL:https://cobblestonequilters.com/events/quilt-friends-splinter-group/2026-12-09/
LOCATION:Stallsville Methodist Church\, 255 Stallsville Loop\, Summerville\, SC
ORGANIZER;CN="Cobblestone Quilters Guild":MAILTO:website@csq.websmithshop.com/
END:VEVENT
BEGIN:VEVENT
DTSTART;TZID=America/New_York:20261216T100000
DTEND;TZID=America/New_York:20261216T150000
DTSTAMP:20260425T173108
CREATED:20241204T181508Z
LAST-MODIFIED:20250810T154125Z
UID:10002512-1797415200-1797433200@cobblestonequilters.com
SUMMARY:QuiltNFriends (Splinter Group)
DESCRIPTION:Meets at Stallsville Church in Summerville every Werdnesday \n10-3
URL:https://cobblestonequilters.com/events/quilt-friends-splinter-group/2026-12-16/
LOCATION:Stallsville Methodist Church\, 255 Stallsville Loop\, Summerville\, SC
ORGANIZER;CN="Cobblestone Quilters Guild":MAILTO:website@csq.websmithshop.com/
END:VEVENT
BEGIN:VEVENT
DTSTART;TZID=America/New_York:20261223T100000
DTEND;TZID=America/New_York:20261223T150000
DTSTAMP:20260425T173108
CREATED:20241204T181508Z
LAST-MODIFIED:20250810T154125Z
UID:10002513-1798020000-1798038000@cobblestonequilters.com
SUMMARY:QuiltNFriends (Splinter Group)
DESCRIPTION:Meets at Stallsville Church in Summerville every Werdnesday \n10-3
URL:https://cobblestonequilters.com/events/quilt-friends-splinter-group/2026-12-23/
LOCATION:Stallsville Methodist Church\, 255 Stallsville Loop\, Summerville\, SC
ORGANIZER;CN="Cobblestone Quilters Guild":MAILTO:website@csq.websmithshop.com/
END:VEVENT
BEGIN:VEVENT
DTSTART;TZID=America/New_York:20261230T100000
DTEND;TZID=America/New_York:20261230T150000
DTSTAMP:20260425T173108
CREATED:20241204T181508Z
LAST-MODIFIED:20250810T154125Z
UID:10002514-1798624800-1798642800@cobblestonequilters.com
SUMMARY:QuiltNFriends (Splinter Group)
DESCRIPTION:Meets at Stallsville Church in Summerville every Werdnesday \n10-3
URL:https://cobblestonequilters.com/events/quilt-friends-splinter-group/2026-12-30/
LOCATION:Stallsville Methodist Church\, 255 Stallsville Loop\, Summerville\, SC
ORGANIZER;CN="Cobblestone Quilters Guild":MAILTO:website@csq.websmithshop.com/
END:VEVENT
BEGIN:VEVENT
DTSTART;TZID=America/New_York:20270106T100000
DTEND;TZID=America/New_York:20270106T150000
DTSTAMP:20260425T173108
CREATED:20241204T181508Z
LAST-MODIFIED:20250810T154125Z
UID:10002515-1799229600-1799247600@cobblestonequilters.com
SUMMARY:QuiltNFriends (Splinter Group)
DESCRIPTION:Meets at Stallsville Church in Summerville every Werdnesday \n10-3
URL:https://cobblestonequilters.com/events/quilt-friends-splinter-group/2027-01-06/
LOCATION:Stallsville Methodist Church\, 255 Stallsville Loop\, Summerville\, SC
ORGANIZER;CN="Cobblestone Quilters Guild":MAILTO:website@csq.websmithshop.com/
END:VEVENT
BEGIN:VEVENT
DTSTART;TZID=America/New_York:20270113T100000
DTEND;TZID=America/New_York:20270113T150000
DTSTAMP:20260425T173108
CREATED:20241204T181508Z
LAST-MODIFIED:20250810T154125Z
UID:10002516-1799834400-1799852400@cobblestonequilters.com
SUMMARY:QuiltNFriends (Splinter Group)
DESCRIPTION:Meets at Stallsville Church in Summerville every Werdnesday \n10-3
URL:https://cobblestonequilters.com/events/quilt-friends-splinter-group/2027-01-13/
LOCATION:Stallsville Methodist Church\, 255 Stallsville Loop\, Summerville\, SC
ORGANIZER;CN="Cobblestone Quilters Guild":MAILTO:website@csq.websmithshop.com/
END:VEVENT
BEGIN:VEVENT
DTSTART;TZID=America/New_York:20270120T100000
DTEND;TZID=America/New_York:20270120T150000
DTSTAMP:20260425T173108
CREATED:20241204T181508Z
LAST-MODIFIED:20250810T154125Z
UID:10002517-1800439200-1800457200@cobblestonequilters.com
SUMMARY:QuiltNFriends (Splinter Group)
DESCRIPTION:Meets at Stallsville Church in Summerville every Werdnesday \n10-3
URL:https://cobblestonequilters.com/events/quilt-friends-splinter-group/2027-01-20/
LOCATION:Stallsville Methodist Church\, 255 Stallsville Loop\, Summerville\, SC
ORGANIZER;CN="Cobblestone Quilters Guild":MAILTO:website@csq.websmithshop.com/
END:VEVENT
BEGIN:VEVENT
DTSTART;TZID=America/New_York:20270127T100000
DTEND;TZID=America/New_York:20270127T150000
DTSTAMP:20260425T173108
CREATED:20241204T181508Z
LAST-MODIFIED:20250810T154125Z
UID:10002518-1801044000-1801062000@cobblestonequilters.com
SUMMARY:QuiltNFriends (Splinter Group)
DESCRIPTION:Meets at Stallsville Church in Summerville every Werdnesday \n10-3
URL:https://cobblestonequilters.com/events/quilt-friends-splinter-group/2027-01-27/
LOCATION:Stallsville Methodist Church\, 255 Stallsville Loop\, Summerville\, SC
ORGANIZER;CN="Cobblestone Quilters Guild":MAILTO:website@csq.websmithshop.com/
END:VEVENT
BEGIN:VEVENT
DTSTART;TZID=America/New_York:20270203T100000
DTEND;TZID=America/New_York:20270203T150000
DTSTAMP:20260425T173108
CREATED:20241204T181508Z
LAST-MODIFIED:20250810T154125Z
UID:10002519-1801648800-1801666800@cobblestonequilters.com
SUMMARY:QuiltNFriends (Splinter Group)
DESCRIPTION:Meets at Stallsville Church in Summerville every Werdnesday \n10-3
URL:https://cobblestonequilters.com/events/quilt-friends-splinter-group/2027-02-03/
LOCATION:Stallsville Methodist Church\, 255 Stallsville Loop\, Summerville\, SC
ORGANIZER;CN="Cobblestone Quilters Guild":MAILTO:website@csq.websmithshop.com/
END:VEVENT
BEGIN:VEVENT
DTSTART;TZID=America/New_York:20270210T100000
DTEND;TZID=America/New_York:20270210T150000
DTSTAMP:20260425T173108
CREATED:20241204T181508Z
LAST-MODIFIED:20250810T154125Z
UID:10002520-1802253600-1802271600@cobblestonequilters.com
SUMMARY:QuiltNFriends (Splinter Group)
DESCRIPTION:Meets at Stallsville Church in Summerville every Werdnesday \n10-3
URL:https://cobblestonequilters.com/events/quilt-friends-splinter-group/2027-02-10/
LOCATION:Stallsville Methodist Church\, 255 Stallsville Loop\, Summerville\, SC
ORGANIZER;CN="Cobblestone Quilters Guild":MAILTO:website@csq.websmithshop.com/
END:VEVENT
BEGIN:VEVENT
DTSTART;TZID=America/New_York:20270217T100000
DTEND;TZID=America/New_York:20270217T150000
DTSTAMP:20260425T173108
CREATED:20241204T181508Z
LAST-MODIFIED:20250810T154125Z
UID:10002521-1802858400-1802876400@cobblestonequilters.com
SUMMARY:QuiltNFriends (Splinter Group)
DESCRIPTION:Meets at Stallsville Church in Summerville every Werdnesday \n10-3
URL:https://cobblestonequilters.com/events/quilt-friends-splinter-group/2027-02-17/
LOCATION:Stallsville Methodist Church\, 255 Stallsville Loop\, Summerville\, SC
ORGANIZER;CN="Cobblestone Quilters Guild":MAILTO:website@csq.websmithshop.com/
END:VEVENT
BEGIN:VEVENT
DTSTART;TZID=America/New_York:20270224T100000
DTEND;TZID=America/New_York:20270224T150000
DTSTAMP:20260425T173108
CREATED:20241204T181508Z
LAST-MODIFIED:20250810T154125Z
UID:10002522-1803463200-1803481200@cobblestonequilters.com
SUMMARY:QuiltNFriends (Splinter Group)
DESCRIPTION:Meets at Stallsville Church in Summerville every Werdnesday \n10-3
URL:https://cobblestonequilters.com/events/quilt-friends-splinter-group/2027-02-24/
LOCATION:Stallsville Methodist Church\, 255 Stallsville Loop\, Summerville\, SC
ORGANIZER;CN="Cobblestone Quilters Guild":MAILTO:website@csq.websmithshop.com/
END:VEVENT
BEGIN:VEVENT
DTSTART;TZID=America/New_York:20270303T100000
DTEND;TZID=America/New_York:20270303T150000
DTSTAMP:20260425T173108
CREATED:20241204T181508Z
LAST-MODIFIED:20250810T154125Z
UID:10002523-1804068000-1804086000@cobblestonequilters.com
SUMMARY:QuiltNFriends (Splinter Group)
DESCRIPTION:Meets at Stallsville Church in Summerville every Werdnesday \n10-3
URL:https://cobblestonequilters.com/events/quilt-friends-splinter-group/2027-03-03/
LOCATION:Stallsville Methodist Church\, 255 Stallsville Loop\, Summerville\, SC
ORGANIZER;CN="Cobblestone Quilters Guild":MAILTO:website@csq.websmithshop.com/
END:VEVENT
BEGIN:VEVENT
DTSTART;TZID=America/New_York:20270310T100000
DTEND;TZID=America/New_York:20270310T150000
DTSTAMP:20260425T173108
CREATED:20241204T181508Z
LAST-MODIFIED:20250810T154125Z
UID:10002524-1804672800-1804690800@cobblestonequilters.com
SUMMARY:QuiltNFriends (Splinter Group)
DESCRIPTION:Meets at Stallsville Church in Summerville every Werdnesday \n10-3
URL:https://cobblestonequilters.com/events/quilt-friends-splinter-group/2027-03-10/
LOCATION:Stallsville Methodist Church\, 255 Stallsville Loop\, Summerville\, SC
ORGANIZER;CN="Cobblestone Quilters Guild":MAILTO:website@csq.websmithshop.com/
END:VEVENT
BEGIN:VEVENT
DTSTART;TZID=America/New_York:20270317T100000
DTEND;TZID=America/New_York:20270317T150000
DTSTAMP:20260425T173108
CREATED:20241204T181508Z
LAST-MODIFIED:20250810T154125Z
UID:10002525-1805277600-1805295600@cobblestonequilters.com
SUMMARY:QuiltNFriends (Splinter Group)
DESCRIPTION:Meets at Stallsville Church in Summerville every Werdnesday \n10-3
URL:https://cobblestonequilters.com/events/quilt-friends-splinter-group/2027-03-17/
LOCATION:Stallsville Methodist Church\, 255 Stallsville Loop\, Summerville\, SC
ORGANIZER;CN="Cobblestone Quilters Guild":MAILTO:website@csq.websmithshop.com/
END:VEVENT
BEGIN:VEVENT
DTSTART;TZID=America/New_York:20270324T100000
DTEND;TZID=America/New_York:20270324T150000
DTSTAMP:20260425T173108
CREATED:20241204T181508Z
LAST-MODIFIED:20250810T154125Z
UID:10002526-1805882400-1805900400@cobblestonequilters.com
SUMMARY:QuiltNFriends (Splinter Group)
DESCRIPTION:Meets at Stallsville Church in Summerville every Werdnesday \n10-3
URL:https://cobblestonequilters.com/events/quilt-friends-splinter-group/2027-03-24/
LOCATION:Stallsville Methodist Church\, 255 Stallsville Loop\, Summerville\, SC
ORGANIZER;CN="Cobblestone Quilters Guild":MAILTO:website@csq.websmithshop.com/
END:VEVENT
BEGIN:VEVENT
DTSTART;TZID=America/New_York:20270331T100000
DTEND;TZID=America/New_York:20270331T150000
DTSTAMP:20260425T173108
CREATED:20241204T181508Z
LAST-MODIFIED:20250810T154125Z
UID:10002527-1806487200-1806505200@cobblestonequilters.com
SUMMARY:QuiltNFriends (Splinter Group)
DESCRIPTION:Meets at Stallsville Church in Summerville every Werdnesday \n10-3
URL:https://cobblestonequilters.com/events/quilt-friends-splinter-group/2027-03-31/
LOCATION:Stallsville Methodist Church\, 255 Stallsville Loop\, Summerville\, SC
ORGANIZER;CN="Cobblestone Quilters Guild":MAILTO:website@csq.websmithshop.com/
END:VEVENT
BEGIN:VEVENT
DTSTART;TZID=America/New_York:20270407T100000
DTEND;TZID=America/New_York:20270407T150000
DTSTAMP:20260425T173108
CREATED:20241204T181508Z
LAST-MODIFIED:20250810T154125Z
UID:10002528-1807092000-1807110000@cobblestonequilters.com
SUMMARY:QuiltNFriends (Splinter Group)
DESCRIPTION:Meets at Stallsville Church in Summerville every Werdnesday \n10-3
URL:https://cobblestonequilters.com/events/quilt-friends-splinter-group/2027-04-07/
LOCATION:Stallsville Methodist Church\, 255 Stallsville Loop\, Summerville\, SC
ORGANIZER;CN="Cobblestone Quilters Guild":MAILTO:website@csq.websmithshop.com/
END:VEVENT
BEGIN:VEVENT
DTSTART;TZID=America/New_York:20270414T100000
DTEND;TZID=America/New_York:20270414T150000
DTSTAMP:20260425T173108
CREATED:20241204T181508Z
LAST-MODIFIED:20250810T154125Z
UID:10002529-1807696800-1807714800@cobblestonequilters.com
SUMMARY:QuiltNFriends (Splinter Group)
DESCRIPTION:Meets at Stallsville Church in Summerville every Werdnesday \n10-3
URL:https://cobblestonequilters.com/events/quilt-friends-splinter-group/2027-04-14/
LOCATION:Stallsville Methodist Church\, 255 Stallsville Loop\, Summerville\, SC
ORGANIZER;CN="Cobblestone Quilters Guild":MAILTO:website@csq.websmithshop.com/
END:VEVENT
BEGIN:VEVENT
DTSTART;TZID=America/New_York:20270421T100000
DTEND;TZID=America/New_York:20270421T150000
DTSTAMP:20260425T173108
CREATED:20241204T181508Z
LAST-MODIFIED:20250810T154125Z
UID:10002530-1808301600-1808319600@cobblestonequilters.com
SUMMARY:QuiltNFriends (Splinter Group)
DESCRIPTION:Meets at Stallsville Church in Summerville every Werdnesday \n10-3
URL:https://cobblestonequilters.com/events/quilt-friends-splinter-group/2027-04-21/
LOCATION:Stallsville Methodist Church\, 255 Stallsville Loop\, Summerville\, SC
ORGANIZER;CN="Cobblestone Quilters Guild":MAILTO:website@csq.websmithshop.com/
END:VEVENT
BEGIN:VEVENT
DTSTART;TZID=America/New_York:20270428T100000
DTEND;TZID=America/New_York:20270428T150000
DTSTAMP:20260425T173108
CREATED:20241204T181508Z
LAST-MODIFIED:20250810T154125Z
UID:10002531-1808906400-1808924400@cobblestonequilters.com
SUMMARY:QuiltNFriends (Splinter Group)
DESCRIPTION:Meets at Stallsville Church in Summerville every Werdnesday \n10-3
URL:https://cobblestonequilters.com/events/quilt-friends-splinter-group/2027-04-28/
LOCATION:Stallsville Methodist Church\, 255 Stallsville Loop\, Summerville\, SC
ORGANIZER;CN="Cobblestone Quilters Guild":MAILTO:website@csq.websmithshop.com/
END:VEVENT
BEGIN:VEVENT
DTSTART;TZID=America/New_York:20270505T100000
DTEND;TZID=America/New_York:20270505T150000
DTSTAMP:20260425T173108
CREATED:20241204T181508Z
LAST-MODIFIED:20250810T154125Z
UID:10002532-1809511200-1809529200@cobblestonequilters.com
SUMMARY:QuiltNFriends (Splinter Group)
DESCRIPTION:Meets at Stallsville Church in Summerville every Werdnesday \n10-3
URL:https://cobblestonequilters.com/events/quilt-friends-splinter-group/2027-05-05/
LOCATION:Stallsville Methodist Church\, 255 Stallsville Loop\, Summerville\, SC
ORGANIZER;CN="Cobblestone Quilters Guild":MAILTO:website@csq.websmithshop.com/
END:VEVENT
END:VCALENDAR