BEGIN:VCALENDAR
VERSION:2.0
PRODID:-//Cobblestone Quilters Guild - ECPv6.15.20//NONSGML v1.0//EN
CALSCALE:GREGORIAN
METHOD:PUBLISH
X-WR-CALNAME:Cobblestone Quilters Guild
X-ORIGINAL-URL:https://cobblestonequilters.com
X-WR-CALDESC:Events for Cobblestone Quilters Guild
REFRESH-INTERVAL;VALUE=DURATION:PT1H
X-Robots-Tag:noindex
X-PUBLISHED-TTL:PT1H
BEGIN:VTIMEZONE
TZID:America/New_York
BEGIN:DAYLIGHT
TZOFFSETFROM:-0500
TZOFFSETTO:-0400
TZNAME:EDT
DTSTART:20270314T070000
END:DAYLIGHT
BEGIN:STANDARD
TZOFFSETFROM:-0400
TZOFFSETTO:-0500
TZNAME:EST
DTSTART:20271107T060000
END:STANDARD
BEGIN:DAYLIGHT
TZOFFSETFROM:-0500
TZOFFSETTO:-0400
TZNAME:EDT
DTSTART:20280312T070000
END:DAYLIGHT
BEGIN:STANDARD
TZOFFSETFROM:-0400
TZOFFSETTO:-0500
TZNAME:EST
DTSTART:20281105T060000
END:STANDARD
BEGIN:DAYLIGHT
TZOFFSETFROM:-0500
TZOFFSETTO:-0400
TZNAME:EDT
DTSTART:20290311T070000
END:DAYLIGHT
BEGIN:STANDARD
TZOFFSETFROM:-0400
TZOFFSETTO:-0500
TZNAME:EST
DTSTART:20291104T060000
END:STANDARD
BEGIN:DAYLIGHT
TZOFFSETFROM:-0500
TZOFFSETTO:-0400
TZNAME:EDT
DTSTART:20300310T070000
END:DAYLIGHT
BEGIN:STANDARD
TZOFFSETFROM:-0400
TZOFFSETTO:-0500
TZNAME:EST
DTSTART:20301103T060000
END:STANDARD
END:VTIMEZONE
BEGIN:VEVENT
DTSTART;TZID=America/New_York:20280509T100000
DTEND;TZID=America/New_York:20280509T120000
DTSTAMP:20260425T173406
CREATED:20241204T184130Z
LAST-MODIFIED:20241204T184130Z
UID:10001883-1841479200-1841486400@cobblestonequilters.com
SUMMARY:Duck Ditch Quilters (Splinter Group)
DESCRIPTION:Meets 2nd Tuesday of Each month at 10:00 \nSt. Luke’s Lutheran Church\, Summerville\, SC
URL:https://cobblestonequilters.com/events/duck-ditch-quilters-splinter-group/2028-05-09/
LOCATION:St. Luke’s Lutheran Church\, 200 Central Avenue\, Summerville\, United States
ORGANIZER;CN="Cobblestone Quilters Guild":MAILTO:website@csq.websmithshop.com/
END:VEVENT
BEGIN:VEVENT
DTSTART;TZID=America/New_York:20280613T100000
DTEND;TZID=America/New_York:20280613T120000
DTSTAMP:20260425T173406
CREATED:20241204T184130Z
LAST-MODIFIED:20241204T184130Z
UID:10001884-1844503200-1844510400@cobblestonequilters.com
SUMMARY:Duck Ditch Quilters (Splinter Group)
DESCRIPTION:Meets 2nd Tuesday of Each month at 10:00 \nSt. Luke’s Lutheran Church\, Summerville\, SC
URL:https://cobblestonequilters.com/events/duck-ditch-quilters-splinter-group/2028-06-13/
LOCATION:St. Luke’s Lutheran Church\, 200 Central Avenue\, Summerville\, United States
ORGANIZER;CN="Cobblestone Quilters Guild":MAILTO:website@csq.websmithshop.com/
END:VEVENT
BEGIN:VEVENT
DTSTART;TZID=America/New_York:20280711T100000
DTEND;TZID=America/New_York:20280711T120000
DTSTAMP:20260425T173406
CREATED:20241204T184130Z
LAST-MODIFIED:20241204T184130Z
UID:10001885-1846922400-1846929600@cobblestonequilters.com
SUMMARY:Duck Ditch Quilters (Splinter Group)
DESCRIPTION:Meets 2nd Tuesday of Each month at 10:00 \nSt. Luke’s Lutheran Church\, Summerville\, SC
URL:https://cobblestonequilters.com/events/duck-ditch-quilters-splinter-group/2028-07-11/
LOCATION:St. Luke’s Lutheran Church\, 200 Central Avenue\, Summerville\, United States
ORGANIZER;CN="Cobblestone Quilters Guild":MAILTO:website@csq.websmithshop.com/
END:VEVENT
BEGIN:VEVENT
DTSTART;TZID=America/New_York:20280808T100000
DTEND;TZID=America/New_York:20280808T120000
DTSTAMP:20260425T173406
CREATED:20241204T184130Z
LAST-MODIFIED:20241204T184130Z
UID:10001886-1849341600-1849348800@cobblestonequilters.com
SUMMARY:Duck Ditch Quilters (Splinter Group)
DESCRIPTION:Meets 2nd Tuesday of Each month at 10:00 \nSt. Luke’s Lutheran Church\, Summerville\, SC
URL:https://cobblestonequilters.com/events/duck-ditch-quilters-splinter-group/2028-08-08/
LOCATION:St. Luke’s Lutheran Church\, 200 Central Avenue\, Summerville\, United States
ORGANIZER;CN="Cobblestone Quilters Guild":MAILTO:website@csq.websmithshop.com/
END:VEVENT
BEGIN:VEVENT
DTSTART;TZID=America/New_York:20280912T100000
DTEND;TZID=America/New_York:20280912T120000
DTSTAMP:20260425T173406
CREATED:20241204T184130Z
LAST-MODIFIED:20241204T184130Z
UID:10001887-1852365600-1852372800@cobblestonequilters.com
SUMMARY:Duck Ditch Quilters (Splinter Group)
DESCRIPTION:Meets 2nd Tuesday of Each month at 10:00 \nSt. Luke’s Lutheran Church\, Summerville\, SC
URL:https://cobblestonequilters.com/events/duck-ditch-quilters-splinter-group/2028-09-12/
LOCATION:St. Luke’s Lutheran Church\, 200 Central Avenue\, Summerville\, United States
ORGANIZER;CN="Cobblestone Quilters Guild":MAILTO:website@csq.websmithshop.com/
END:VEVENT
BEGIN:VEVENT
DTSTART;TZID=America/New_York:20281010T100000
DTEND;TZID=America/New_York:20281010T120000
DTSTAMP:20260425T173406
CREATED:20241204T184130Z
LAST-MODIFIED:20241204T184130Z
UID:10001888-1854784800-1854792000@cobblestonequilters.com
SUMMARY:Duck Ditch Quilters (Splinter Group)
DESCRIPTION:Meets 2nd Tuesday of Each month at 10:00 \nSt. Luke’s Lutheran Church\, Summerville\, SC
URL:https://cobblestonequilters.com/events/duck-ditch-quilters-splinter-group/2028-10-10/
LOCATION:St. Luke’s Lutheran Church\, 200 Central Avenue\, Summerville\, United States
ORGANIZER;CN="Cobblestone Quilters Guild":MAILTO:website@csq.websmithshop.com/
END:VEVENT
BEGIN:VEVENT
DTSTART;TZID=America/New_York:20281114T100000
DTEND;TZID=America/New_York:20281114T120000
DTSTAMP:20260425T173406
CREATED:20241204T184130Z
LAST-MODIFIED:20241204T184130Z
UID:10001889-1857808800-1857816000@cobblestonequilters.com
SUMMARY:Duck Ditch Quilters (Splinter Group)
DESCRIPTION:Meets 2nd Tuesday of Each month at 10:00 \nSt. Luke’s Lutheran Church\, Summerville\, SC
URL:https://cobblestonequilters.com/events/duck-ditch-quilters-splinter-group/2028-11-14/
LOCATION:St. Luke’s Lutheran Church\, 200 Central Avenue\, Summerville\, United States
ORGANIZER;CN="Cobblestone Quilters Guild":MAILTO:website@csq.websmithshop.com/
END:VEVENT
BEGIN:VEVENT
DTSTART;TZID=America/New_York:20281212T100000
DTEND;TZID=America/New_York:20281212T120000
DTSTAMP:20260425T173406
CREATED:20241204T184130Z
LAST-MODIFIED:20241204T184130Z
UID:10001890-1860228000-1860235200@cobblestonequilters.com
SUMMARY:Duck Ditch Quilters (Splinter Group)
DESCRIPTION:Meets 2nd Tuesday of Each month at 10:00 \nSt. Luke’s Lutheran Church\, Summerville\, SC
URL:https://cobblestonequilters.com/events/duck-ditch-quilters-splinter-group/2028-12-12/
LOCATION:St. Luke’s Lutheran Church\, 200 Central Avenue\, Summerville\, United States
ORGANIZER;CN="Cobblestone Quilters Guild":MAILTO:website@csq.websmithshop.com/
END:VEVENT
BEGIN:VEVENT
DTSTART;TZID=America/New_York:20290109T100000
DTEND;TZID=America/New_York:20290109T120000
DTSTAMP:20260425T173406
CREATED:20241204T184130Z
LAST-MODIFIED:20241204T184130Z
UID:10001891-1862647200-1862654400@cobblestonequilters.com
SUMMARY:Duck Ditch Quilters (Splinter Group)
DESCRIPTION:Meets 2nd Tuesday of Each month at 10:00 \nSt. Luke’s Lutheran Church\, Summerville\, SC
URL:https://cobblestonequilters.com/events/duck-ditch-quilters-splinter-group/2029-01-09/
LOCATION:St. Luke’s Lutheran Church\, 200 Central Avenue\, Summerville\, United States
ORGANIZER;CN="Cobblestone Quilters Guild":MAILTO:website@csq.websmithshop.com/
END:VEVENT
BEGIN:VEVENT
DTSTART;TZID=America/New_York:20290213T100000
DTEND;TZID=America/New_York:20290213T120000
DTSTAMP:20260425T173406
CREATED:20241204T184130Z
LAST-MODIFIED:20241204T184130Z
UID:10001892-1865671200-1865678400@cobblestonequilters.com
SUMMARY:Duck Ditch Quilters (Splinter Group)
DESCRIPTION:Meets 2nd Tuesday of Each month at 10:00 \nSt. Luke’s Lutheran Church\, Summerville\, SC
URL:https://cobblestonequilters.com/events/duck-ditch-quilters-splinter-group/2029-02-13/
LOCATION:St. Luke’s Lutheran Church\, 200 Central Avenue\, Summerville\, United States
ORGANIZER;CN="Cobblestone Quilters Guild":MAILTO:website@csq.websmithshop.com/
END:VEVENT
BEGIN:VEVENT
DTSTART;TZID=America/New_York:20290313T100000
DTEND;TZID=America/New_York:20290313T120000
DTSTAMP:20260425T173406
CREATED:20241204T184130Z
LAST-MODIFIED:20241204T184130Z
UID:10001893-1868090400-1868097600@cobblestonequilters.com
SUMMARY:Duck Ditch Quilters (Splinter Group)
DESCRIPTION:Meets 2nd Tuesday of Each month at 10:00 \nSt. Luke’s Lutheran Church\, Summerville\, SC
URL:https://cobblestonequilters.com/events/duck-ditch-quilters-splinter-group/2029-03-13/
LOCATION:St. Luke’s Lutheran Church\, 200 Central Avenue\, Summerville\, United States
ORGANIZER;CN="Cobblestone Quilters Guild":MAILTO:website@csq.websmithshop.com/
END:VEVENT
BEGIN:VEVENT
DTSTART;TZID=America/New_York:20290410T100000
DTEND;TZID=America/New_York:20290410T120000
DTSTAMP:20260425T173406
CREATED:20241204T184130Z
LAST-MODIFIED:20241204T184130Z
UID:10001894-1870509600-1870516800@cobblestonequilters.com
SUMMARY:Duck Ditch Quilters (Splinter Group)
DESCRIPTION:Meets 2nd Tuesday of Each month at 10:00 \nSt. Luke’s Lutheran Church\, Summerville\, SC
URL:https://cobblestonequilters.com/events/duck-ditch-quilters-splinter-group/2029-04-10/
LOCATION:St. Luke’s Lutheran Church\, 200 Central Avenue\, Summerville\, United States
ORGANIZER;CN="Cobblestone Quilters Guild":MAILTO:website@csq.websmithshop.com/
END:VEVENT
BEGIN:VEVENT
DTSTART;TZID=America/New_York:20290508T100000
DTEND;TZID=America/New_York:20290508T120000
DTSTAMP:20260425T173406
CREATED:20241204T184130Z
LAST-MODIFIED:20241204T184130Z
UID:10001895-1872928800-1872936000@cobblestonequilters.com
SUMMARY:Duck Ditch Quilters (Splinter Group)
DESCRIPTION:Meets 2nd Tuesday of Each month at 10:00 \nSt. Luke’s Lutheran Church\, Summerville\, SC
URL:https://cobblestonequilters.com/events/duck-ditch-quilters-splinter-group/2029-05-08/
LOCATION:St. Luke’s Lutheran Church\, 200 Central Avenue\, Summerville\, United States
ORGANIZER;CN="Cobblestone Quilters Guild":MAILTO:website@csq.websmithshop.com/
END:VEVENT
BEGIN:VEVENT
DTSTART;TZID=America/New_York:20290612T100000
DTEND;TZID=America/New_York:20290612T120000
DTSTAMP:20260425T173406
CREATED:20241204T184130Z
LAST-MODIFIED:20241204T184130Z
UID:10001896-1875952800-1875960000@cobblestonequilters.com
SUMMARY:Duck Ditch Quilters (Splinter Group)
DESCRIPTION:Meets 2nd Tuesday of Each month at 10:00 \nSt. Luke’s Lutheran Church\, Summerville\, SC
URL:https://cobblestonequilters.com/events/duck-ditch-quilters-splinter-group/2029-06-12/
LOCATION:St. Luke’s Lutheran Church\, 200 Central Avenue\, Summerville\, United States
ORGANIZER;CN="Cobblestone Quilters Guild":MAILTO:website@csq.websmithshop.com/
END:VEVENT
BEGIN:VEVENT
DTSTART;TZID=America/New_York:20290710T100000
DTEND;TZID=America/New_York:20290710T120000
DTSTAMP:20260425T173406
CREATED:20241204T184130Z
LAST-MODIFIED:20241204T184130Z
UID:10001897-1878372000-1878379200@cobblestonequilters.com
SUMMARY:Duck Ditch Quilters (Splinter Group)
DESCRIPTION:Meets 2nd Tuesday of Each month at 10:00 \nSt. Luke’s Lutheran Church\, Summerville\, SC
URL:https://cobblestonequilters.com/events/duck-ditch-quilters-splinter-group/2029-07-10/
LOCATION:St. Luke’s Lutheran Church\, 200 Central Avenue\, Summerville\, United States
ORGANIZER;CN="Cobblestone Quilters Guild":MAILTO:website@csq.websmithshop.com/
END:VEVENT
BEGIN:VEVENT
DTSTART;TZID=America/New_York:20290814T100000
DTEND;TZID=America/New_York:20290814T120000
DTSTAMP:20260425T173406
CREATED:20241204T184130Z
LAST-MODIFIED:20241204T184130Z
UID:10001898-1881396000-1881403200@cobblestonequilters.com
SUMMARY:Duck Ditch Quilters (Splinter Group)
DESCRIPTION:Meets 2nd Tuesday of Each month at 10:00 \nSt. Luke’s Lutheran Church\, Summerville\, SC
URL:https://cobblestonequilters.com/events/duck-ditch-quilters-splinter-group/2029-08-14/
LOCATION:St. Luke’s Lutheran Church\, 200 Central Avenue\, Summerville\, United States
ORGANIZER;CN="Cobblestone Quilters Guild":MAILTO:website@csq.websmithshop.com/
END:VEVENT
BEGIN:VEVENT
DTSTART;TZID=America/New_York:20290911T100000
DTEND;TZID=America/New_York:20290911T120000
DTSTAMP:20260425T173406
CREATED:20241204T184130Z
LAST-MODIFIED:20241204T184130Z
UID:10001899-1883815200-1883822400@cobblestonequilters.com
SUMMARY:Duck Ditch Quilters (Splinter Group)
DESCRIPTION:Meets 2nd Tuesday of Each month at 10:00 \nSt. Luke’s Lutheran Church\, Summerville\, SC
URL:https://cobblestonequilters.com/events/duck-ditch-quilters-splinter-group/2029-09-11/
LOCATION:St. Luke’s Lutheran Church\, 200 Central Avenue\, Summerville\, United States
ORGANIZER;CN="Cobblestone Quilters Guild":MAILTO:website@csq.websmithshop.com/
END:VEVENT
BEGIN:VEVENT
DTSTART;TZID=America/New_York:20291009T100000
DTEND;TZID=America/New_York:20291009T120000
DTSTAMP:20260425T173406
CREATED:20241204T184130Z
LAST-MODIFIED:20241204T184130Z
UID:10001900-1886234400-1886241600@cobblestonequilters.com
SUMMARY:Duck Ditch Quilters (Splinter Group)
DESCRIPTION:Meets 2nd Tuesday of Each month at 10:00 \nSt. Luke’s Lutheran Church\, Summerville\, SC
URL:https://cobblestonequilters.com/events/duck-ditch-quilters-splinter-group/2029-10-09/
LOCATION:St. Luke’s Lutheran Church\, 200 Central Avenue\, Summerville\, United States
ORGANIZER;CN="Cobblestone Quilters Guild":MAILTO:website@csq.websmithshop.com/
END:VEVENT
BEGIN:VEVENT
DTSTART;TZID=America/New_York:20291113T100000
DTEND;TZID=America/New_York:20291113T120000
DTSTAMP:20260425T173406
CREATED:20241204T184130Z
LAST-MODIFIED:20241204T184130Z
UID:10001901-1889258400-1889265600@cobblestonequilters.com
SUMMARY:Duck Ditch Quilters (Splinter Group)
DESCRIPTION:Meets 2nd Tuesday of Each month at 10:00 \nSt. Luke’s Lutheran Church\, Summerville\, SC
URL:https://cobblestonequilters.com/events/duck-ditch-quilters-splinter-group/2029-11-13/
LOCATION:St. Luke’s Lutheran Church\, 200 Central Avenue\, Summerville\, United States
ORGANIZER;CN="Cobblestone Quilters Guild":MAILTO:website@csq.websmithshop.com/
END:VEVENT
END:VCALENDAR