BEGIN:VCALENDAR
VERSION:2.0
PRODID:-//Cobblestone Quilters Guild - ECPv6.15.20//NONSGML v1.0//EN
CALSCALE:GREGORIAN
METHOD:PUBLISH
X-WR-CALNAME:Cobblestone Quilters Guild
X-ORIGINAL-URL:https://cobblestonequilters.com
X-WR-CALDESC:Events for Cobblestone Quilters Guild
REFRESH-INTERVAL;VALUE=DURATION:PT1H
X-Robots-Tag:noindex
X-PUBLISHED-TTL:PT1H
BEGIN:VTIMEZONE
TZID:America/New_York
BEGIN:DAYLIGHT
TZOFFSETFROM:-0500
TZOFFSETTO:-0400
TZNAME:EDT
DTSTART:20270314T070000
END:DAYLIGHT
BEGIN:STANDARD
TZOFFSETFROM:-0400
TZOFFSETTO:-0500
TZNAME:EST
DTSTART:20271107T060000
END:STANDARD
BEGIN:DAYLIGHT
TZOFFSETFROM:-0500
TZOFFSETTO:-0400
TZNAME:EDT
DTSTART:20280312T070000
END:DAYLIGHT
BEGIN:STANDARD
TZOFFSETFROM:-0400
TZOFFSETTO:-0500
TZNAME:EST
DTSTART:20281105T060000
END:STANDARD
BEGIN:DAYLIGHT
TZOFFSETFROM:-0500
TZOFFSETTO:-0400
TZNAME:EDT
DTSTART:20290311T070000
END:DAYLIGHT
BEGIN:STANDARD
TZOFFSETFROM:-0400
TZOFFSETTO:-0500
TZNAME:EST
DTSTART:20291104T060000
END:STANDARD
BEGIN:DAYLIGHT
TZOFFSETFROM:-0500
TZOFFSETTO:-0400
TZNAME:EDT
DTSTART:20300310T070000
END:DAYLIGHT
BEGIN:STANDARD
TZOFFSETFROM:-0400
TZOFFSETTO:-0500
TZNAME:EST
DTSTART:20301103T060000
END:STANDARD
END:VTIMEZONE
BEGIN:VEVENT
DTSTART;TZID=America/New_York:20280509T183000
DTEND;TZID=America/New_York:20280509T210000
DTSTAMP:20260425T171803
CREATED:20241204T183516Z
LAST-MODIFIED:20241204T183516Z
UID:10001823-1841509800-1841518800@cobblestonequilters.com
SUMMARY:Indigo Quilters (Splinter Group)
DESCRIPTION:Meets 2nd Tuesday at 6:30 pm \nREV Credit Union
URL:https://cobblestonequilters.com/events/indigo-quilters-splinter-group/2028-05-09/
LOCATION:REV Credit Union Coleman\, 847 Coleman Blvd\, Mt Pleasant\, SC
ORGANIZER;CN="Cobblestone Quilters Guild":MAILTO:website@csq.websmithshop.com/
END:VEVENT
BEGIN:VEVENT
DTSTART;TZID=America/New_York:20280613T183000
DTEND;TZID=America/New_York:20280613T210000
DTSTAMP:20260425T171803
CREATED:20241204T183516Z
LAST-MODIFIED:20241204T183516Z
UID:10001824-1844533800-1844542800@cobblestonequilters.com
SUMMARY:Indigo Quilters (Splinter Group)
DESCRIPTION:Meets 2nd Tuesday at 6:30 pm \nREV Credit Union
URL:https://cobblestonequilters.com/events/indigo-quilters-splinter-group/2028-06-13/
LOCATION:REV Credit Union Coleman\, 847 Coleman Blvd\, Mt Pleasant\, SC
ORGANIZER;CN="Cobblestone Quilters Guild":MAILTO:website@csq.websmithshop.com/
END:VEVENT
BEGIN:VEVENT
DTSTART;TZID=America/New_York:20280711T183000
DTEND;TZID=America/New_York:20280711T210000
DTSTAMP:20260425T171803
CREATED:20241204T183516Z
LAST-MODIFIED:20241204T183516Z
UID:10001825-1846953000-1846962000@cobblestonequilters.com
SUMMARY:Indigo Quilters (Splinter Group)
DESCRIPTION:Meets 2nd Tuesday at 6:30 pm \nREV Credit Union
URL:https://cobblestonequilters.com/events/indigo-quilters-splinter-group/2028-07-11/
LOCATION:REV Credit Union Coleman\, 847 Coleman Blvd\, Mt Pleasant\, SC
ORGANIZER;CN="Cobblestone Quilters Guild":MAILTO:website@csq.websmithshop.com/
END:VEVENT
BEGIN:VEVENT
DTSTART;TZID=America/New_York:20280808T183000
DTEND;TZID=America/New_York:20280808T210000
DTSTAMP:20260425T171803
CREATED:20241204T183516Z
LAST-MODIFIED:20241204T183516Z
UID:10001826-1849372200-1849381200@cobblestonequilters.com
SUMMARY:Indigo Quilters (Splinter Group)
DESCRIPTION:Meets 2nd Tuesday at 6:30 pm \nREV Credit Union
URL:https://cobblestonequilters.com/events/indigo-quilters-splinter-group/2028-08-08/
LOCATION:REV Credit Union Coleman\, 847 Coleman Blvd\, Mt Pleasant\, SC
ORGANIZER;CN="Cobblestone Quilters Guild":MAILTO:website@csq.websmithshop.com/
END:VEVENT
BEGIN:VEVENT
DTSTART;TZID=America/New_York:20280912T183000
DTEND;TZID=America/New_York:20280912T210000
DTSTAMP:20260425T171803
CREATED:20241204T183516Z
LAST-MODIFIED:20241204T183516Z
UID:10001827-1852396200-1852405200@cobblestonequilters.com
SUMMARY:Indigo Quilters (Splinter Group)
DESCRIPTION:Meets 2nd Tuesday at 6:30 pm \nREV Credit Union
URL:https://cobblestonequilters.com/events/indigo-quilters-splinter-group/2028-09-12/
LOCATION:REV Credit Union Coleman\, 847 Coleman Blvd\, Mt Pleasant\, SC
ORGANIZER;CN="Cobblestone Quilters Guild":MAILTO:website@csq.websmithshop.com/
END:VEVENT
BEGIN:VEVENT
DTSTART;TZID=America/New_York:20281010T183000
DTEND;TZID=America/New_York:20281010T210000
DTSTAMP:20260425T171803
CREATED:20241204T183516Z
LAST-MODIFIED:20241204T183516Z
UID:10001828-1854815400-1854824400@cobblestonequilters.com
SUMMARY:Indigo Quilters (Splinter Group)
DESCRIPTION:Meets 2nd Tuesday at 6:30 pm \nREV Credit Union
URL:https://cobblestonequilters.com/events/indigo-quilters-splinter-group/2028-10-10/
LOCATION:REV Credit Union Coleman\, 847 Coleman Blvd\, Mt Pleasant\, SC
ORGANIZER;CN="Cobblestone Quilters Guild":MAILTO:website@csq.websmithshop.com/
END:VEVENT
BEGIN:VEVENT
DTSTART;TZID=America/New_York:20281114T183000
DTEND;TZID=America/New_York:20281114T210000
DTSTAMP:20260425T171803
CREATED:20241204T183516Z
LAST-MODIFIED:20241204T183516Z
UID:10001829-1857839400-1857848400@cobblestonequilters.com
SUMMARY:Indigo Quilters (Splinter Group)
DESCRIPTION:Meets 2nd Tuesday at 6:30 pm \nREV Credit Union
URL:https://cobblestonequilters.com/events/indigo-quilters-splinter-group/2028-11-14/
LOCATION:REV Credit Union Coleman\, 847 Coleman Blvd\, Mt Pleasant\, SC
ORGANIZER;CN="Cobblestone Quilters Guild":MAILTO:website@csq.websmithshop.com/
END:VEVENT
BEGIN:VEVENT
DTSTART;TZID=America/New_York:20281212T183000
DTEND;TZID=America/New_York:20281212T210000
DTSTAMP:20260425T171803
CREATED:20241204T183516Z
LAST-MODIFIED:20241204T183516Z
UID:10001830-1860258600-1860267600@cobblestonequilters.com
SUMMARY:Indigo Quilters (Splinter Group)
DESCRIPTION:Meets 2nd Tuesday at 6:30 pm \nREV Credit Union
URL:https://cobblestonequilters.com/events/indigo-quilters-splinter-group/2028-12-12/
LOCATION:REV Credit Union Coleman\, 847 Coleman Blvd\, Mt Pleasant\, SC
ORGANIZER;CN="Cobblestone Quilters Guild":MAILTO:website@csq.websmithshop.com/
END:VEVENT
BEGIN:VEVENT
DTSTART;TZID=America/New_York:20290109T183000
DTEND;TZID=America/New_York:20290109T210000
DTSTAMP:20260425T171803
CREATED:20241204T183516Z
LAST-MODIFIED:20241204T183516Z
UID:10001831-1862677800-1862686800@cobblestonequilters.com
SUMMARY:Indigo Quilters (Splinter Group)
DESCRIPTION:Meets 2nd Tuesday at 6:30 pm \nREV Credit Union
URL:https://cobblestonequilters.com/events/indigo-quilters-splinter-group/2029-01-09/
LOCATION:REV Credit Union Coleman\, 847 Coleman Blvd\, Mt Pleasant\, SC
ORGANIZER;CN="Cobblestone Quilters Guild":MAILTO:website@csq.websmithshop.com/
END:VEVENT
BEGIN:VEVENT
DTSTART;TZID=America/New_York:20290213T183000
DTEND;TZID=America/New_York:20290213T210000
DTSTAMP:20260425T171803
CREATED:20241204T183516Z
LAST-MODIFIED:20241204T183516Z
UID:10001832-1865701800-1865710800@cobblestonequilters.com
SUMMARY:Indigo Quilters (Splinter Group)
DESCRIPTION:Meets 2nd Tuesday at 6:30 pm \nREV Credit Union
URL:https://cobblestonequilters.com/events/indigo-quilters-splinter-group/2029-02-13/
LOCATION:REV Credit Union Coleman\, 847 Coleman Blvd\, Mt Pleasant\, SC
ORGANIZER;CN="Cobblestone Quilters Guild":MAILTO:website@csq.websmithshop.com/
END:VEVENT
BEGIN:VEVENT
DTSTART;TZID=America/New_York:20290313T183000
DTEND;TZID=America/New_York:20290313T210000
DTSTAMP:20260425T171803
CREATED:20241204T183516Z
LAST-MODIFIED:20241204T183516Z
UID:10001833-1868121000-1868130000@cobblestonequilters.com
SUMMARY:Indigo Quilters (Splinter Group)
DESCRIPTION:Meets 2nd Tuesday at 6:30 pm \nREV Credit Union
URL:https://cobblestonequilters.com/events/indigo-quilters-splinter-group/2029-03-13/
LOCATION:REV Credit Union Coleman\, 847 Coleman Blvd\, Mt Pleasant\, SC
ORGANIZER;CN="Cobblestone Quilters Guild":MAILTO:website@csq.websmithshop.com/
END:VEVENT
BEGIN:VEVENT
DTSTART;TZID=America/New_York:20290410T183000
DTEND;TZID=America/New_York:20290410T210000
DTSTAMP:20260425T171803
CREATED:20241204T183516Z
LAST-MODIFIED:20241204T183516Z
UID:10001834-1870540200-1870549200@cobblestonequilters.com
SUMMARY:Indigo Quilters (Splinter Group)
DESCRIPTION:Meets 2nd Tuesday at 6:30 pm \nREV Credit Union
URL:https://cobblestonequilters.com/events/indigo-quilters-splinter-group/2029-04-10/
LOCATION:REV Credit Union Coleman\, 847 Coleman Blvd\, Mt Pleasant\, SC
ORGANIZER;CN="Cobblestone Quilters Guild":MAILTO:website@csq.websmithshop.com/
END:VEVENT
BEGIN:VEVENT
DTSTART;TZID=America/New_York:20290508T183000
DTEND;TZID=America/New_York:20290508T210000
DTSTAMP:20260425T171803
CREATED:20241204T183516Z
LAST-MODIFIED:20241204T183516Z
UID:10001835-1872959400-1872968400@cobblestonequilters.com
SUMMARY:Indigo Quilters (Splinter Group)
DESCRIPTION:Meets 2nd Tuesday at 6:30 pm \nREV Credit Union
URL:https://cobblestonequilters.com/events/indigo-quilters-splinter-group/2029-05-08/
LOCATION:REV Credit Union Coleman\, 847 Coleman Blvd\, Mt Pleasant\, SC
ORGANIZER;CN="Cobblestone Quilters Guild":MAILTO:website@csq.websmithshop.com/
END:VEVENT
BEGIN:VEVENT
DTSTART;TZID=America/New_York:20290612T183000
DTEND;TZID=America/New_York:20290612T210000
DTSTAMP:20260425T171803
CREATED:20241204T183516Z
LAST-MODIFIED:20241204T183516Z
UID:10001836-1875983400-1875992400@cobblestonequilters.com
SUMMARY:Indigo Quilters (Splinter Group)
DESCRIPTION:Meets 2nd Tuesday at 6:30 pm \nREV Credit Union
URL:https://cobblestonequilters.com/events/indigo-quilters-splinter-group/2029-06-12/
LOCATION:REV Credit Union Coleman\, 847 Coleman Blvd\, Mt Pleasant\, SC
ORGANIZER;CN="Cobblestone Quilters Guild":MAILTO:website@csq.websmithshop.com/
END:VEVENT
BEGIN:VEVENT
DTSTART;TZID=America/New_York:20290710T183000
DTEND;TZID=America/New_York:20290710T210000
DTSTAMP:20260425T171803
CREATED:20241204T183516Z
LAST-MODIFIED:20241204T183516Z
UID:10001837-1878402600-1878411600@cobblestonequilters.com
SUMMARY:Indigo Quilters (Splinter Group)
DESCRIPTION:Meets 2nd Tuesday at 6:30 pm \nREV Credit Union
URL:https://cobblestonequilters.com/events/indigo-quilters-splinter-group/2029-07-10/
LOCATION:REV Credit Union Coleman\, 847 Coleman Blvd\, Mt Pleasant\, SC
ORGANIZER;CN="Cobblestone Quilters Guild":MAILTO:website@csq.websmithshop.com/
END:VEVENT
BEGIN:VEVENT
DTSTART;TZID=America/New_York:20290814T183000
DTEND;TZID=America/New_York:20290814T210000
DTSTAMP:20260425T171803
CREATED:20241204T183516Z
LAST-MODIFIED:20241204T183516Z
UID:10001838-1881426600-1881435600@cobblestonequilters.com
SUMMARY:Indigo Quilters (Splinter Group)
DESCRIPTION:Meets 2nd Tuesday at 6:30 pm \nREV Credit Union
URL:https://cobblestonequilters.com/events/indigo-quilters-splinter-group/2029-08-14/
LOCATION:REV Credit Union Coleman\, 847 Coleman Blvd\, Mt Pleasant\, SC
ORGANIZER;CN="Cobblestone Quilters Guild":MAILTO:website@csq.websmithshop.com/
END:VEVENT
BEGIN:VEVENT
DTSTART;TZID=America/New_York:20290911T183000
DTEND;TZID=America/New_York:20290911T210000
DTSTAMP:20260425T171803
CREATED:20241204T183516Z
LAST-MODIFIED:20241204T183516Z
UID:10001839-1883845800-1883854800@cobblestonequilters.com
SUMMARY:Indigo Quilters (Splinter Group)
DESCRIPTION:Meets 2nd Tuesday at 6:30 pm \nREV Credit Union
URL:https://cobblestonequilters.com/events/indigo-quilters-splinter-group/2029-09-11/
LOCATION:REV Credit Union Coleman\, 847 Coleman Blvd\, Mt Pleasant\, SC
ORGANIZER;CN="Cobblestone Quilters Guild":MAILTO:website@csq.websmithshop.com/
END:VEVENT
BEGIN:VEVENT
DTSTART;TZID=America/New_York:20291009T183000
DTEND;TZID=America/New_York:20291009T210000
DTSTAMP:20260425T171803
CREATED:20241204T183516Z
LAST-MODIFIED:20241204T183516Z
UID:10001840-1886265000-1886274000@cobblestonequilters.com
SUMMARY:Indigo Quilters (Splinter Group)
DESCRIPTION:Meets 2nd Tuesday at 6:30 pm \nREV Credit Union
URL:https://cobblestonequilters.com/events/indigo-quilters-splinter-group/2029-10-09/
LOCATION:REV Credit Union Coleman\, 847 Coleman Blvd\, Mt Pleasant\, SC
ORGANIZER;CN="Cobblestone Quilters Guild":MAILTO:website@csq.websmithshop.com/
END:VEVENT
BEGIN:VEVENT
DTSTART;TZID=America/New_York:20291113T183000
DTEND;TZID=America/New_York:20291113T210000
DTSTAMP:20260425T171803
CREATED:20241204T183516Z
LAST-MODIFIED:20241204T183516Z
UID:10001841-1889289000-1889298000@cobblestonequilters.com
SUMMARY:Indigo Quilters (Splinter Group)
DESCRIPTION:Meets 2nd Tuesday at 6:30 pm \nREV Credit Union
URL:https://cobblestonequilters.com/events/indigo-quilters-splinter-group/2029-11-13/
LOCATION:REV Credit Union Coleman\, 847 Coleman Blvd\, Mt Pleasant\, SC
ORGANIZER;CN="Cobblestone Quilters Guild":MAILTO:website@csq.websmithshop.com/
END:VEVENT
END:VCALENDAR