BEGIN:VCALENDAR
VERSION:2.0
PRODID:-//Cobblestone Quilters Guild - ECPv6.15.20//NONSGML v1.0//EN
CALSCALE:GREGORIAN
METHOD:PUBLISH
X-ORIGINAL-URL:https://cobblestonequilters.com
X-WR-CALDESC:Events for Cobblestone Quilters Guild
REFRESH-INTERVAL;VALUE=DURATION:PT1H
X-Robots-Tag:noindex
X-PUBLISHED-TTL:PT1H
BEGIN:VTIMEZONE
TZID:America/New_York
BEGIN:DAYLIGHT
TZOFFSETFROM:-0500
TZOFFSETTO:-0400
TZNAME:EDT
DTSTART:20260308T070000
END:DAYLIGHT
BEGIN:STANDARD
TZOFFSETFROM:-0400
TZOFFSETTO:-0500
TZNAME:EST
DTSTART:20261101T060000
END:STANDARD
BEGIN:DAYLIGHT
TZOFFSETFROM:-0500
TZOFFSETTO:-0400
TZNAME:EDT
DTSTART:20270314T070000
END:DAYLIGHT
BEGIN:STANDARD
TZOFFSETFROM:-0400
TZOFFSETTO:-0500
TZNAME:EST
DTSTART:20271107T060000
END:STANDARD
BEGIN:DAYLIGHT
TZOFFSETFROM:-0500
TZOFFSETTO:-0400
TZNAME:EDT
DTSTART:20280312T070000
END:DAYLIGHT
BEGIN:STANDARD
TZOFFSETFROM:-0400
TZOFFSETTO:-0500
TZNAME:EST
DTSTART:20281105T060000
END:STANDARD
END:VTIMEZONE
BEGIN:VEVENT
DTSTART;TZID=America/New_York:20270402T110000
DTEND;TZID=America/New_York:20270402T160000
DTSTAMP:20260425T204448
CREATED:20241201T141716Z
LAST-MODIFIED:20241204T171643Z
UID:10001368-1806663600-1806681600@cobblestonequilters.com
SUMMARY:Friendship Quilting Group (Splinter Group)
DESCRIPTION:Hanahan Senior Center \nEvery Friday \nll:15 – 5 \n 
URL:https://cobblestonequilters.com/events/friendship-quilting-group-splinter-group-9/2027-04-02/
LOCATION:Hanahan Senior Center\, 3100 Mabeline Road\, Hanahan\, SC
ORGANIZER;CN="Cobblestone Quilters Guild":MAILTO:website@csq.websmithshop.com/
END:VEVENT
BEGIN:VEVENT
DTSTART;TZID=America/New_York:20270409T110000
DTEND;TZID=America/New_York:20270409T160000
DTSTAMP:20260425T204448
CREATED:20241201T141716Z
LAST-MODIFIED:20241204T171643Z
UID:10001369-1807268400-1807286400@cobblestonequilters.com
SUMMARY:Friendship Quilting Group (Splinter Group)
DESCRIPTION:Hanahan Senior Center \nEvery Friday \nll:15 – 5 \n 
URL:https://cobblestonequilters.com/events/friendship-quilting-group-splinter-group-9/2027-04-09/
LOCATION:Hanahan Senior Center\, 3100 Mabeline Road\, Hanahan\, SC
ORGANIZER;CN="Cobblestone Quilters Guild":MAILTO:website@csq.websmithshop.com/
END:VEVENT
BEGIN:VEVENT
DTSTART;TZID=America/New_York:20270416T110000
DTEND;TZID=America/New_York:20270416T160000
DTSTAMP:20260425T204448
CREATED:20241201T141716Z
LAST-MODIFIED:20241204T171643Z
UID:10001370-1807873200-1807891200@cobblestonequilters.com
SUMMARY:Friendship Quilting Group (Splinter Group)
DESCRIPTION:Hanahan Senior Center \nEvery Friday \nll:15 – 5 \n 
URL:https://cobblestonequilters.com/events/friendship-quilting-group-splinter-group-9/2027-04-16/
LOCATION:Hanahan Senior Center\, 3100 Mabeline Road\, Hanahan\, SC
ORGANIZER;CN="Cobblestone Quilters Guild":MAILTO:website@csq.websmithshop.com/
END:VEVENT
BEGIN:VEVENT
DTSTART;TZID=America/New_York:20270423T110000
DTEND;TZID=America/New_York:20270423T160000
DTSTAMP:20260425T204448
CREATED:20241201T141716Z
LAST-MODIFIED:20241204T171643Z
UID:10001371-1808478000-1808496000@cobblestonequilters.com
SUMMARY:Friendship Quilting Group (Splinter Group)
DESCRIPTION:Hanahan Senior Center \nEvery Friday \nll:15 – 5 \n 
URL:https://cobblestonequilters.com/events/friendship-quilting-group-splinter-group-9/2027-04-23/
LOCATION:Hanahan Senior Center\, 3100 Mabeline Road\, Hanahan\, SC
ORGANIZER;CN="Cobblestone Quilters Guild":MAILTO:website@csq.websmithshop.com/
END:VEVENT
BEGIN:VEVENT
DTSTART;TZID=America/New_York:20270430T110000
DTEND;TZID=America/New_York:20270430T160000
DTSTAMP:20260425T204448
CREATED:20241201T141716Z
LAST-MODIFIED:20241204T171643Z
UID:10001372-1809082800-1809100800@cobblestonequilters.com
SUMMARY:Friendship Quilting Group (Splinter Group)
DESCRIPTION:Hanahan Senior Center \nEvery Friday \nll:15 – 5 \n 
URL:https://cobblestonequilters.com/events/friendship-quilting-group-splinter-group-9/2027-04-30/
LOCATION:Hanahan Senior Center\, 3100 Mabeline Road\, Hanahan\, SC
ORGANIZER;CN="Cobblestone Quilters Guild":MAILTO:website@csq.websmithshop.com/
END:VEVENT
BEGIN:VEVENT
DTSTART;TZID=America/New_York:20270507T110000
DTEND;TZID=America/New_York:20270507T160000
DTSTAMP:20260425T204448
CREATED:20241201T141716Z
LAST-MODIFIED:20241204T171643Z
UID:10001373-1809687600-1809705600@cobblestonequilters.com
SUMMARY:Friendship Quilting Group (Splinter Group)
DESCRIPTION:Hanahan Senior Center \nEvery Friday \nll:15 – 5 \n 
URL:https://cobblestonequilters.com/events/friendship-quilting-group-splinter-group-9/2027-05-07/
LOCATION:Hanahan Senior Center\, 3100 Mabeline Road\, Hanahan\, SC
ORGANIZER;CN="Cobblestone Quilters Guild":MAILTO:website@csq.websmithshop.com/
END:VEVENT
BEGIN:VEVENT
DTSTART;TZID=America/New_York:20270514T110000
DTEND;TZID=America/New_York:20270514T160000
DTSTAMP:20260425T204448
CREATED:20241201T141716Z
LAST-MODIFIED:20241204T171643Z
UID:10001374-1810292400-1810310400@cobblestonequilters.com
SUMMARY:Friendship Quilting Group (Splinter Group)
DESCRIPTION:Hanahan Senior Center \nEvery Friday \nll:15 – 5 \n 
URL:https://cobblestonequilters.com/events/friendship-quilting-group-splinter-group-9/2027-05-14/
LOCATION:Hanahan Senior Center\, 3100 Mabeline Road\, Hanahan\, SC
ORGANIZER;CN="Cobblestone Quilters Guild":MAILTO:website@csq.websmithshop.com/
END:VEVENT
BEGIN:VEVENT
DTSTART;TZID=America/New_York:20270521T110000
DTEND;TZID=America/New_York:20270521T160000
DTSTAMP:20260425T204448
CREATED:20241201T141716Z
LAST-MODIFIED:20241204T171643Z
UID:10001375-1810897200-1810915200@cobblestonequilters.com
SUMMARY:Friendship Quilting Group (Splinter Group)
DESCRIPTION:Hanahan Senior Center \nEvery Friday \nll:15 – 5 \n 
URL:https://cobblestonequilters.com/events/friendship-quilting-group-splinter-group-9/2027-05-21/
LOCATION:Hanahan Senior Center\, 3100 Mabeline Road\, Hanahan\, SC
ORGANIZER;CN="Cobblestone Quilters Guild":MAILTO:website@csq.websmithshop.com/
END:VEVENT
BEGIN:VEVENT
DTSTART;TZID=America/New_York:20270528T110000
DTEND;TZID=America/New_York:20270528T160000
DTSTAMP:20260425T204448
CREATED:20241201T141716Z
LAST-MODIFIED:20241204T171643Z
UID:10001376-1811502000-1811520000@cobblestonequilters.com
SUMMARY:Friendship Quilting Group (Splinter Group)
DESCRIPTION:Hanahan Senior Center \nEvery Friday \nll:15 – 5 \n 
URL:https://cobblestonequilters.com/events/friendship-quilting-group-splinter-group-9/2027-05-28/
LOCATION:Hanahan Senior Center\, 3100 Mabeline Road\, Hanahan\, SC
ORGANIZER;CN="Cobblestone Quilters Guild":MAILTO:website@csq.websmithshop.com/
END:VEVENT
BEGIN:VEVENT
DTSTART;TZID=America/New_York:20270604T110000
DTEND;TZID=America/New_York:20270604T160000
DTSTAMP:20260425T204448
CREATED:20241201T141716Z
LAST-MODIFIED:20241204T171643Z
UID:10001377-1812106800-1812124800@cobblestonequilters.com
SUMMARY:Friendship Quilting Group (Splinter Group)
DESCRIPTION:Hanahan Senior Center \nEvery Friday \nll:15 – 5 \n 
URL:https://cobblestonequilters.com/events/friendship-quilting-group-splinter-group-9/2027-06-04/
LOCATION:Hanahan Senior Center\, 3100 Mabeline Road\, Hanahan\, SC
ORGANIZER;CN="Cobblestone Quilters Guild":MAILTO:website@csq.websmithshop.com/
END:VEVENT
BEGIN:VEVENT
DTSTART;TZID=America/New_York:20270611T110000
DTEND;TZID=America/New_York:20270611T160000
DTSTAMP:20260425T204448
CREATED:20241201T141716Z
LAST-MODIFIED:20241204T171643Z
UID:10001378-1812711600-1812729600@cobblestonequilters.com
SUMMARY:Friendship Quilting Group (Splinter Group)
DESCRIPTION:Hanahan Senior Center \nEvery Friday \nll:15 – 5 \n 
URL:https://cobblestonequilters.com/events/friendship-quilting-group-splinter-group-9/2027-06-11/
LOCATION:Hanahan Senior Center\, 3100 Mabeline Road\, Hanahan\, SC
ORGANIZER;CN="Cobblestone Quilters Guild":MAILTO:website@csq.websmithshop.com/
END:VEVENT
BEGIN:VEVENT
DTSTART;TZID=America/New_York:20270618T110000
DTEND;TZID=America/New_York:20270618T160000
DTSTAMP:20260425T204448
CREATED:20241201T141716Z
LAST-MODIFIED:20241204T171643Z
UID:10001379-1813316400-1813334400@cobblestonequilters.com
SUMMARY:Friendship Quilting Group (Splinter Group)
DESCRIPTION:Hanahan Senior Center \nEvery Friday \nll:15 – 5 \n 
URL:https://cobblestonequilters.com/events/friendship-quilting-group-splinter-group-9/2027-06-18/
LOCATION:Hanahan Senior Center\, 3100 Mabeline Road\, Hanahan\, SC
ORGANIZER;CN="Cobblestone Quilters Guild":MAILTO:website@csq.websmithshop.com/
END:VEVENT
BEGIN:VEVENT
DTSTART;TZID=America/New_York:20270625T110000
DTEND;TZID=America/New_York:20270625T160000
DTSTAMP:20260425T204448
CREATED:20241201T141716Z
LAST-MODIFIED:20241204T171643Z
UID:10001380-1813921200-1813939200@cobblestonequilters.com
SUMMARY:Friendship Quilting Group (Splinter Group)
DESCRIPTION:Hanahan Senior Center \nEvery Friday \nll:15 – 5 \n 
URL:https://cobblestonequilters.com/events/friendship-quilting-group-splinter-group-9/2027-06-25/
LOCATION:Hanahan Senior Center\, 3100 Mabeline Road\, Hanahan\, SC
ORGANIZER;CN="Cobblestone Quilters Guild":MAILTO:website@csq.websmithshop.com/
END:VEVENT
BEGIN:VEVENT
DTSTART;TZID=America/New_York:20270702T110000
DTEND;TZID=America/New_York:20270702T160000
DTSTAMP:20260425T204448
CREATED:20241201T141716Z
LAST-MODIFIED:20241204T171643Z
UID:10001381-1814526000-1814544000@cobblestonequilters.com
SUMMARY:Friendship Quilting Group (Splinter Group)
DESCRIPTION:Hanahan Senior Center \nEvery Friday \nll:15 – 5 \n 
URL:https://cobblestonequilters.com/events/friendship-quilting-group-splinter-group-9/2027-07-02/
LOCATION:Hanahan Senior Center\, 3100 Mabeline Road\, Hanahan\, SC
ORGANIZER;CN="Cobblestone Quilters Guild":MAILTO:website@csq.websmithshop.com/
END:VEVENT
BEGIN:VEVENT
DTSTART;TZID=America/New_York:20270709T110000
DTEND;TZID=America/New_York:20270709T160000
DTSTAMP:20260425T204448
CREATED:20241201T141716Z
LAST-MODIFIED:20241204T171643Z
UID:10001382-1815130800-1815148800@cobblestonequilters.com
SUMMARY:Friendship Quilting Group (Splinter Group)
DESCRIPTION:Hanahan Senior Center \nEvery Friday \nll:15 – 5 \n 
URL:https://cobblestonequilters.com/events/friendship-quilting-group-splinter-group-9/2027-07-09/
LOCATION:Hanahan Senior Center\, 3100 Mabeline Road\, Hanahan\, SC
ORGANIZER;CN="Cobblestone Quilters Guild":MAILTO:website@csq.websmithshop.com/
END:VEVENT
BEGIN:VEVENT
DTSTART;TZID=America/New_York:20270716T110000
DTEND;TZID=America/New_York:20270716T160000
DTSTAMP:20260425T204448
CREATED:20241201T141716Z
LAST-MODIFIED:20241204T171643Z
UID:10001383-1815735600-1815753600@cobblestonequilters.com
SUMMARY:Friendship Quilting Group (Splinter Group)
DESCRIPTION:Hanahan Senior Center \nEvery Friday \nll:15 – 5 \n 
URL:https://cobblestonequilters.com/events/friendship-quilting-group-splinter-group-9/2027-07-16/
LOCATION:Hanahan Senior Center\, 3100 Mabeline Road\, Hanahan\, SC
ORGANIZER;CN="Cobblestone Quilters Guild":MAILTO:website@csq.websmithshop.com/
END:VEVENT
BEGIN:VEVENT
DTSTART;TZID=America/New_York:20270723T110000
DTEND;TZID=America/New_York:20270723T160000
DTSTAMP:20260425T204448
CREATED:20241201T141716Z
LAST-MODIFIED:20241204T171643Z
UID:10001384-1816340400-1816358400@cobblestonequilters.com
SUMMARY:Friendship Quilting Group (Splinter Group)
DESCRIPTION:Hanahan Senior Center \nEvery Friday \nll:15 – 5 \n 
URL:https://cobblestonequilters.com/events/friendship-quilting-group-splinter-group-9/2027-07-23/
LOCATION:Hanahan Senior Center\, 3100 Mabeline Road\, Hanahan\, SC
ORGANIZER;CN="Cobblestone Quilters Guild":MAILTO:website@csq.websmithshop.com/
END:VEVENT
BEGIN:VEVENT
DTSTART;TZID=America/New_York:20270730T110000
DTEND;TZID=America/New_York:20270730T160000
DTSTAMP:20260425T204448
CREATED:20241201T141716Z
LAST-MODIFIED:20241204T171643Z
UID:10001385-1816945200-1816963200@cobblestonequilters.com
SUMMARY:Friendship Quilting Group (Splinter Group)
DESCRIPTION:Hanahan Senior Center \nEvery Friday \nll:15 – 5 \n 
URL:https://cobblestonequilters.com/events/friendship-quilting-group-splinter-group-9/2027-07-30/
LOCATION:Hanahan Senior Center\, 3100 Mabeline Road\, Hanahan\, SC
ORGANIZER;CN="Cobblestone Quilters Guild":MAILTO:website@csq.websmithshop.com/
END:VEVENT
BEGIN:VEVENT
DTSTART;TZID=America/New_York:20270806T110000
DTEND;TZID=America/New_York:20270806T160000
DTSTAMP:20260425T204448
CREATED:20241201T141716Z
LAST-MODIFIED:20241204T171643Z
UID:10001386-1817550000-1817568000@cobblestonequilters.com
SUMMARY:Friendship Quilting Group (Splinter Group)
DESCRIPTION:Hanahan Senior Center \nEvery Friday \nll:15 – 5 \n 
URL:https://cobblestonequilters.com/events/friendship-quilting-group-splinter-group-9/2027-08-06/
LOCATION:Hanahan Senior Center\, 3100 Mabeline Road\, Hanahan\, SC
ORGANIZER;CN="Cobblestone Quilters Guild":MAILTO:website@csq.websmithshop.com/
END:VEVENT
BEGIN:VEVENT
DTSTART;TZID=America/New_York:20270813T110000
DTEND;TZID=America/New_York:20270813T160000
DTSTAMP:20260425T204448
CREATED:20241201T141716Z
LAST-MODIFIED:20241204T171643Z
UID:10001387-1818154800-1818172800@cobblestonequilters.com
SUMMARY:Friendship Quilting Group (Splinter Group)
DESCRIPTION:Hanahan Senior Center \nEvery Friday \nll:15 – 5 \n 
URL:https://cobblestonequilters.com/events/friendship-quilting-group-splinter-group-9/2027-08-13/
LOCATION:Hanahan Senior Center\, 3100 Mabeline Road\, Hanahan\, SC
ORGANIZER;CN="Cobblestone Quilters Guild":MAILTO:website@csq.websmithshop.com/
END:VEVENT
BEGIN:VEVENT
DTSTART;TZID=America/New_York:20270820T110000
DTEND;TZID=America/New_York:20270820T160000
DTSTAMP:20260425T204448
CREATED:20241201T141716Z
LAST-MODIFIED:20241204T171643Z
UID:10001388-1818759600-1818777600@cobblestonequilters.com
SUMMARY:Friendship Quilting Group (Splinter Group)
DESCRIPTION:Hanahan Senior Center \nEvery Friday \nll:15 – 5 \n 
URL:https://cobblestonequilters.com/events/friendship-quilting-group-splinter-group-9/2027-08-20/
LOCATION:Hanahan Senior Center\, 3100 Mabeline Road\, Hanahan\, SC
ORGANIZER;CN="Cobblestone Quilters Guild":MAILTO:website@csq.websmithshop.com/
END:VEVENT
BEGIN:VEVENT
DTSTART;TZID=America/New_York:20270827T110000
DTEND;TZID=America/New_York:20270827T160000
DTSTAMP:20260425T204448
CREATED:20241201T141716Z
LAST-MODIFIED:20241204T171643Z
UID:10001389-1819364400-1819382400@cobblestonequilters.com
SUMMARY:Friendship Quilting Group (Splinter Group)
DESCRIPTION:Hanahan Senior Center \nEvery Friday \nll:15 – 5 \n 
URL:https://cobblestonequilters.com/events/friendship-quilting-group-splinter-group-9/2027-08-27/
LOCATION:Hanahan Senior Center\, 3100 Mabeline Road\, Hanahan\, SC
ORGANIZER;CN="Cobblestone Quilters Guild":MAILTO:website@csq.websmithshop.com/
END:VEVENT
BEGIN:VEVENT
DTSTART;TZID=America/New_York:20270903T110000
DTEND;TZID=America/New_York:20270903T160000
DTSTAMP:20260425T204448
CREATED:20241201T141716Z
LAST-MODIFIED:20241204T171643Z
UID:10001390-1819969200-1819987200@cobblestonequilters.com
SUMMARY:Friendship Quilting Group (Splinter Group)
DESCRIPTION:Hanahan Senior Center \nEvery Friday \nll:15 – 5 \n 
URL:https://cobblestonequilters.com/events/friendship-quilting-group-splinter-group-9/2027-09-03/
LOCATION:Hanahan Senior Center\, 3100 Mabeline Road\, Hanahan\, SC
ORGANIZER;CN="Cobblestone Quilters Guild":MAILTO:website@csq.websmithshop.com/
END:VEVENT
BEGIN:VEVENT
DTSTART;TZID=America/New_York:20270910T110000
DTEND;TZID=America/New_York:20270910T160000
DTSTAMP:20260425T204448
CREATED:20241201T141716Z
LAST-MODIFIED:20241204T171643Z
UID:10001391-1820574000-1820592000@cobblestonequilters.com
SUMMARY:Friendship Quilting Group (Splinter Group)
DESCRIPTION:Hanahan Senior Center \nEvery Friday \nll:15 – 5 \n 
URL:https://cobblestonequilters.com/events/friendship-quilting-group-splinter-group-9/2027-09-10/
LOCATION:Hanahan Senior Center\, 3100 Mabeline Road\, Hanahan\, SC
ORGANIZER;CN="Cobblestone Quilters Guild":MAILTO:website@csq.websmithshop.com/
END:VEVENT
BEGIN:VEVENT
DTSTART;TZID=America/New_York:20270917T110000
DTEND;TZID=America/New_York:20270917T160000
DTSTAMP:20260425T204448
CREATED:20241201T141716Z
LAST-MODIFIED:20241204T171643Z
UID:10001392-1821178800-1821196800@cobblestonequilters.com
SUMMARY:Friendship Quilting Group (Splinter Group)
DESCRIPTION:Hanahan Senior Center \nEvery Friday \nll:15 – 5 \n 
URL:https://cobblestonequilters.com/events/friendship-quilting-group-splinter-group-9/2027-09-17/
LOCATION:Hanahan Senior Center\, 3100 Mabeline Road\, Hanahan\, SC
ORGANIZER;CN="Cobblestone Quilters Guild":MAILTO:website@csq.websmithshop.com/
END:VEVENT
BEGIN:VEVENT
DTSTART;TZID=America/New_York:20270924T110000
DTEND;TZID=America/New_York:20270924T160000
DTSTAMP:20260425T204448
CREATED:20241201T141716Z
LAST-MODIFIED:20241204T171643Z
UID:10001393-1821783600-1821801600@cobblestonequilters.com
SUMMARY:Friendship Quilting Group (Splinter Group)
DESCRIPTION:Hanahan Senior Center \nEvery Friday \nll:15 – 5 \n 
URL:https://cobblestonequilters.com/events/friendship-quilting-group-splinter-group-9/2027-09-24/
LOCATION:Hanahan Senior Center\, 3100 Mabeline Road\, Hanahan\, SC
ORGANIZER;CN="Cobblestone Quilters Guild":MAILTO:website@csq.websmithshop.com/
END:VEVENT
BEGIN:VEVENT
DTSTART;TZID=America/New_York:20271001T110000
DTEND;TZID=America/New_York:20271001T160000
DTSTAMP:20260425T204448
CREATED:20241201T141716Z
LAST-MODIFIED:20241204T171643Z
UID:10001394-1822388400-1822406400@cobblestonequilters.com
SUMMARY:Friendship Quilting Group (Splinter Group)
DESCRIPTION:Hanahan Senior Center \nEvery Friday \nll:15 – 5 \n 
URL:https://cobblestonequilters.com/events/friendship-quilting-group-splinter-group-9/2027-10-01/
LOCATION:Hanahan Senior Center\, 3100 Mabeline Road\, Hanahan\, SC
ORGANIZER;CN="Cobblestone Quilters Guild":MAILTO:website@csq.websmithshop.com/
END:VEVENT
BEGIN:VEVENT
DTSTART;TZID=America/New_York:20271008T110000
DTEND;TZID=America/New_York:20271008T160000
DTSTAMP:20260425T204448
CREATED:20241201T141716Z
LAST-MODIFIED:20241204T171643Z
UID:10001395-1822993200-1823011200@cobblestonequilters.com
SUMMARY:Friendship Quilting Group (Splinter Group)
DESCRIPTION:Hanahan Senior Center \nEvery Friday \nll:15 – 5 \n 
URL:https://cobblestonequilters.com/events/friendship-quilting-group-splinter-group-9/2027-10-08/
LOCATION:Hanahan Senior Center\, 3100 Mabeline Road\, Hanahan\, SC
ORGANIZER;CN="Cobblestone Quilters Guild":MAILTO:website@csq.websmithshop.com/
END:VEVENT
BEGIN:VEVENT
DTSTART;TZID=America/New_York:20271015T110000
DTEND;TZID=America/New_York:20271015T160000
DTSTAMP:20260425T204448
CREATED:20241201T141716Z
LAST-MODIFIED:20241204T171643Z
UID:10001396-1823598000-1823616000@cobblestonequilters.com
SUMMARY:Friendship Quilting Group (Splinter Group)
DESCRIPTION:Hanahan Senior Center \nEvery Friday \nll:15 – 5 \n 
URL:https://cobblestonequilters.com/events/friendship-quilting-group-splinter-group-9/2027-10-15/
LOCATION:Hanahan Senior Center\, 3100 Mabeline Road\, Hanahan\, SC
ORGANIZER;CN="Cobblestone Quilters Guild":MAILTO:website@csq.websmithshop.com/
END:VEVENT
BEGIN:VEVENT
DTSTART;TZID=America/New_York:20271022T110000
DTEND;TZID=America/New_York:20271022T160000
DTSTAMP:20260425T204448
CREATED:20241201T141716Z
LAST-MODIFIED:20241204T171643Z
UID:10001397-1824202800-1824220800@cobblestonequilters.com
SUMMARY:Friendship Quilting Group (Splinter Group)
DESCRIPTION:Hanahan Senior Center \nEvery Friday \nll:15 – 5 \n 
URL:https://cobblestonequilters.com/events/friendship-quilting-group-splinter-group-9/2027-10-22/
LOCATION:Hanahan Senior Center\, 3100 Mabeline Road\, Hanahan\, SC
ORGANIZER;CN="Cobblestone Quilters Guild":MAILTO:website@csq.websmithshop.com/
END:VEVENT
END:VCALENDAR