BEGIN:VCALENDAR
VERSION:2.0
PRODID:-//Cobblestone Quilters Guild - ECPv6.15.20//NONSGML v1.0//EN
CALSCALE:GREGORIAN
METHOD:PUBLISH
X-WR-CALNAME:Cobblestone Quilters Guild
X-ORIGINAL-URL:https://cobblestonequilters.com
X-WR-CALDESC:Events for Cobblestone Quilters Guild
REFRESH-INTERVAL;VALUE=DURATION:PT1H
X-Robots-Tag:noindex
X-PUBLISHED-TTL:PT1H
BEGIN:VTIMEZONE
TZID:America/New_York
BEGIN:DAYLIGHT
TZOFFSETFROM:-0500
TZOFFSETTO:-0400
TZNAME:EDT
DTSTART:20240310T070000
END:DAYLIGHT
BEGIN:STANDARD
TZOFFSETFROM:-0400
TZOFFSETTO:-0500
TZNAME:EST
DTSTART:20241103T060000
END:STANDARD
BEGIN:DAYLIGHT
TZOFFSETFROM:-0500
TZOFFSETTO:-0400
TZNAME:EDT
DTSTART:20250309T070000
END:DAYLIGHT
BEGIN:STANDARD
TZOFFSETFROM:-0400
TZOFFSETTO:-0500
TZNAME:EST
DTSTART:20251102T060000
END:STANDARD
BEGIN:DAYLIGHT
TZOFFSETFROM:-0500
TZOFFSETTO:-0400
TZNAME:EDT
DTSTART:20260308T070000
END:DAYLIGHT
BEGIN:STANDARD
TZOFFSETFROM:-0400
TZOFFSETTO:-0500
TZNAME:EST
DTSTART:20261101T060000
END:STANDARD
END:VTIMEZONE
BEGIN:VEVENT
DTSTART;TZID=America/New_York:20251107T110000
DTEND;TZID=America/New_York:20251107T160000
DTSTAMP:20260425T203034
CREATED:20241201T141716Z
LAST-MODIFIED:20241204T171643Z
UID:10001295-1762513200-1762531200@cobblestonequilters.com
SUMMARY:Friendship Quilting Group (Splinter Group)
DESCRIPTION:Hanahan Senior Center \nEvery Friday \nll:15 – 5 \n 
URL:https://cobblestonequilters.com/events/friendship-quilting-group-splinter-group-9/2025-11-07/
LOCATION:Hanahan Senior Center\, 3100 Mabeline Road\, Hanahan\, SC
ORGANIZER;CN="Cobblestone Quilters Guild":MAILTO:website@csq.websmithshop.com/
END:VEVENT
BEGIN:VEVENT
DTSTART;TZID=America/New_York:20251031T110000
DTEND;TZID=America/New_York:20251031T160000
DTSTAMP:20260425T203034
CREATED:20241201T141716Z
LAST-MODIFIED:20241204T171643Z
UID:10001294-1761908400-1761926400@cobblestonequilters.com
SUMMARY:Friendship Quilting Group (Splinter Group)
DESCRIPTION:Hanahan Senior Center \nEvery Friday \nll:15 – 5 \n 
URL:https://cobblestonequilters.com/events/friendship-quilting-group-splinter-group-9/2025-10-31/
LOCATION:Hanahan Senior Center\, 3100 Mabeline Road\, Hanahan\, SC
ORGANIZER;CN="Cobblestone Quilters Guild":MAILTO:website@csq.websmithshop.com/
END:VEVENT
BEGIN:VEVENT
DTSTART;TZID=America/New_York:20251024T110000
DTEND;TZID=America/New_York:20251024T160000
DTSTAMP:20260425T203034
CREATED:20241201T141716Z
LAST-MODIFIED:20241204T171643Z
UID:10001293-1761303600-1761321600@cobblestonequilters.com
SUMMARY:Friendship Quilting Group (Splinter Group)
DESCRIPTION:Hanahan Senior Center \nEvery Friday \nll:15 – 5 \n 
URL:https://cobblestonequilters.com/events/friendship-quilting-group-splinter-group-9/2025-10-24/
LOCATION:Hanahan Senior Center\, 3100 Mabeline Road\, Hanahan\, SC
ORGANIZER;CN="Cobblestone Quilters Guild":MAILTO:website@csq.websmithshop.com/
END:VEVENT
BEGIN:VEVENT
DTSTART;TZID=America/New_York:20251017T110000
DTEND;TZID=America/New_York:20251017T160000
DTSTAMP:20260425T203034
CREATED:20241201T141716Z
LAST-MODIFIED:20241204T171643Z
UID:10001292-1760698800-1760716800@cobblestonequilters.com
SUMMARY:Friendship Quilting Group (Splinter Group)
DESCRIPTION:Hanahan Senior Center \nEvery Friday \nll:15 – 5 \n 
URL:https://cobblestonequilters.com/events/friendship-quilting-group-splinter-group-9/2025-10-17/
LOCATION:Hanahan Senior Center\, 3100 Mabeline Road\, Hanahan\, SC
ORGANIZER;CN="Cobblestone Quilters Guild":MAILTO:website@csq.websmithshop.com/
END:VEVENT
BEGIN:VEVENT
DTSTART;TZID=America/New_York:20251010T110000
DTEND;TZID=America/New_York:20251010T160000
DTSTAMP:20260425T203034
CREATED:20241201T141716Z
LAST-MODIFIED:20241204T171643Z
UID:10001291-1760094000-1760112000@cobblestonequilters.com
SUMMARY:Friendship Quilting Group (Splinter Group)
DESCRIPTION:Hanahan Senior Center \nEvery Friday \nll:15 – 5 \n 
URL:https://cobblestonequilters.com/events/friendship-quilting-group-splinter-group-9/2025-10-10/
LOCATION:Hanahan Senior Center\, 3100 Mabeline Road\, Hanahan\, SC
ORGANIZER;CN="Cobblestone Quilters Guild":MAILTO:website@csq.websmithshop.com/
END:VEVENT
BEGIN:VEVENT
DTSTART;TZID=America/New_York:20251003T110000
DTEND;TZID=America/New_York:20251003T160000
DTSTAMP:20260425T203034
CREATED:20241201T141716Z
LAST-MODIFIED:20241204T171643Z
UID:10001290-1759489200-1759507200@cobblestonequilters.com
SUMMARY:Friendship Quilting Group (Splinter Group)
DESCRIPTION:Hanahan Senior Center \nEvery Friday \nll:15 – 5 \n 
URL:https://cobblestonequilters.com/events/friendship-quilting-group-splinter-group-9/2025-10-03/
LOCATION:Hanahan Senior Center\, 3100 Mabeline Road\, Hanahan\, SC
ORGANIZER;CN="Cobblestone Quilters Guild":MAILTO:website@csq.websmithshop.com/
END:VEVENT
BEGIN:VEVENT
DTSTART;TZID=America/New_York:20250926T110000
DTEND;TZID=America/New_York:20250926T160000
DTSTAMP:20260425T203034
CREATED:20241201T141716Z
LAST-MODIFIED:20241204T171643Z
UID:10001289-1758884400-1758902400@cobblestonequilters.com
SUMMARY:Friendship Quilting Group (Splinter Group)
DESCRIPTION:Hanahan Senior Center \nEvery Friday \nll:15 – 5 \n 
URL:https://cobblestonequilters.com/events/friendship-quilting-group-splinter-group-9/2025-09-26/
LOCATION:Hanahan Senior Center\, 3100 Mabeline Road\, Hanahan\, SC
ORGANIZER;CN="Cobblestone Quilters Guild":MAILTO:website@csq.websmithshop.com/
END:VEVENT
BEGIN:VEVENT
DTSTART;TZID=America/New_York:20250919T110000
DTEND;TZID=America/New_York:20250919T160000
DTSTAMP:20260425T203034
CREATED:20241201T141716Z
LAST-MODIFIED:20241204T171643Z
UID:10001288-1758279600-1758297600@cobblestonequilters.com
SUMMARY:Friendship Quilting Group (Splinter Group)
DESCRIPTION:Hanahan Senior Center \nEvery Friday \nll:15 – 5 \n 
URL:https://cobblestonequilters.com/events/friendship-quilting-group-splinter-group-9/2025-09-19/
LOCATION:Hanahan Senior Center\, 3100 Mabeline Road\, Hanahan\, SC
ORGANIZER;CN="Cobblestone Quilters Guild":MAILTO:website@csq.websmithshop.com/
END:VEVENT
BEGIN:VEVENT
DTSTART;TZID=America/New_York:20250912T110000
DTEND;TZID=America/New_York:20250912T160000
DTSTAMP:20260425T203034
CREATED:20241201T141716Z
LAST-MODIFIED:20241204T171643Z
UID:10001287-1757674800-1757692800@cobblestonequilters.com
SUMMARY:Friendship Quilting Group (Splinter Group)
DESCRIPTION:Hanahan Senior Center \nEvery Friday \nll:15 – 5 \n 
URL:https://cobblestonequilters.com/events/friendship-quilting-group-splinter-group-9/2025-09-12/
LOCATION:Hanahan Senior Center\, 3100 Mabeline Road\, Hanahan\, SC
ORGANIZER;CN="Cobblestone Quilters Guild":MAILTO:website@csq.websmithshop.com/
END:VEVENT
BEGIN:VEVENT
DTSTART;TZID=America/New_York:20250905T110000
DTEND;TZID=America/New_York:20250905T160000
DTSTAMP:20260425T203034
CREATED:20241201T141716Z
LAST-MODIFIED:20241204T171643Z
UID:10001286-1757070000-1757088000@cobblestonequilters.com
SUMMARY:Friendship Quilting Group (Splinter Group)
DESCRIPTION:Hanahan Senior Center \nEvery Friday \nll:15 – 5 \n 
URL:https://cobblestonequilters.com/events/friendship-quilting-group-splinter-group-9/2025-09-05/
LOCATION:Hanahan Senior Center\, 3100 Mabeline Road\, Hanahan\, SC
ORGANIZER;CN="Cobblestone Quilters Guild":MAILTO:website@csq.websmithshop.com/
END:VEVENT
BEGIN:VEVENT
DTSTART;TZID=America/New_York:20250829T110000
DTEND;TZID=America/New_York:20250829T160000
DTSTAMP:20260425T203035
CREATED:20241201T141716Z
LAST-MODIFIED:20241204T171643Z
UID:10001285-1756465200-1756483200@cobblestonequilters.com
SUMMARY:Friendship Quilting Group (Splinter Group)
DESCRIPTION:Hanahan Senior Center \nEvery Friday \nll:15 – 5 \n 
URL:https://cobblestonequilters.com/events/friendship-quilting-group-splinter-group-9/2025-08-29/
LOCATION:Hanahan Senior Center\, 3100 Mabeline Road\, Hanahan\, SC
ORGANIZER;CN="Cobblestone Quilters Guild":MAILTO:website@csq.websmithshop.com/
END:VEVENT
BEGIN:VEVENT
DTSTART;TZID=America/New_York:20250822T110000
DTEND;TZID=America/New_York:20250822T160000
DTSTAMP:20260425T203035
CREATED:20241201T141716Z
LAST-MODIFIED:20241204T171643Z
UID:10001284-1755860400-1755878400@cobblestonequilters.com
SUMMARY:Friendship Quilting Group (Splinter Group)
DESCRIPTION:Hanahan Senior Center \nEvery Friday \nll:15 – 5 \n 
URL:https://cobblestonequilters.com/events/friendship-quilting-group-splinter-group-9/2025-08-22/
LOCATION:Hanahan Senior Center\, 3100 Mabeline Road\, Hanahan\, SC
ORGANIZER;CN="Cobblestone Quilters Guild":MAILTO:website@csq.websmithshop.com/
END:VEVENT
BEGIN:VEVENT
DTSTART;TZID=America/New_York:20250815T110000
DTEND;TZID=America/New_York:20250815T160000
DTSTAMP:20260425T203035
CREATED:20241201T141716Z
LAST-MODIFIED:20241204T171643Z
UID:10001283-1755255600-1755273600@cobblestonequilters.com
SUMMARY:Friendship Quilting Group (Splinter Group)
DESCRIPTION:Hanahan Senior Center \nEvery Friday \nll:15 – 5 \n 
URL:https://cobblestonequilters.com/events/friendship-quilting-group-splinter-group-9/2025-08-15/
LOCATION:Hanahan Senior Center\, 3100 Mabeline Road\, Hanahan\, SC
ORGANIZER;CN="Cobblestone Quilters Guild":MAILTO:website@csq.websmithshop.com/
END:VEVENT
BEGIN:VEVENT
DTSTART;TZID=America/New_York:20250808T110000
DTEND;TZID=America/New_York:20250808T160000
DTSTAMP:20260425T203035
CREATED:20241201T141716Z
LAST-MODIFIED:20241204T171643Z
UID:10001282-1754650800-1754668800@cobblestonequilters.com
SUMMARY:Friendship Quilting Group (Splinter Group)
DESCRIPTION:Hanahan Senior Center \nEvery Friday \nll:15 – 5 \n 
URL:https://cobblestonequilters.com/events/friendship-quilting-group-splinter-group-9/2025-08-08/
LOCATION:Hanahan Senior Center\, 3100 Mabeline Road\, Hanahan\, SC
ORGANIZER;CN="Cobblestone Quilters Guild":MAILTO:website@csq.websmithshop.com/
END:VEVENT
BEGIN:VEVENT
DTSTART;TZID=America/New_York:20250801T110000
DTEND;TZID=America/New_York:20250801T160000
DTSTAMP:20260425T203035
CREATED:20241201T141716Z
LAST-MODIFIED:20241204T171643Z
UID:10001281-1754046000-1754064000@cobblestonequilters.com
SUMMARY:Friendship Quilting Group (Splinter Group)
DESCRIPTION:Hanahan Senior Center \nEvery Friday \nll:15 – 5 \n 
URL:https://cobblestonequilters.com/events/friendship-quilting-group-splinter-group-9/2025-08-01/
LOCATION:Hanahan Senior Center\, 3100 Mabeline Road\, Hanahan\, SC
ORGANIZER;CN="Cobblestone Quilters Guild":MAILTO:website@csq.websmithshop.com/
END:VEVENT
BEGIN:VEVENT
DTSTART;TZID=America/New_York:20250725T110000
DTEND;TZID=America/New_York:20250725T160000
DTSTAMP:20260425T203035
CREATED:20241201T141716Z
LAST-MODIFIED:20241204T171643Z
UID:10001280-1753441200-1753459200@cobblestonequilters.com
SUMMARY:Friendship Quilting Group (Splinter Group)
DESCRIPTION:Hanahan Senior Center \nEvery Friday \nll:15 – 5 \n 
URL:https://cobblestonequilters.com/events/friendship-quilting-group-splinter-group-9/2025-07-25/
LOCATION:Hanahan Senior Center\, 3100 Mabeline Road\, Hanahan\, SC
ORGANIZER;CN="Cobblestone Quilters Guild":MAILTO:website@csq.websmithshop.com/
END:VEVENT
BEGIN:VEVENT
DTSTART;TZID=America/New_York:20250718T110000
DTEND;TZID=America/New_York:20250718T160000
DTSTAMP:20260425T203035
CREATED:20241201T141716Z
LAST-MODIFIED:20241204T171643Z
UID:10001279-1752836400-1752854400@cobblestonequilters.com
SUMMARY:Friendship Quilting Group (Splinter Group)
DESCRIPTION:Hanahan Senior Center \nEvery Friday \nll:15 – 5 \n 
URL:https://cobblestonequilters.com/events/friendship-quilting-group-splinter-group-9/2025-07-18/
LOCATION:Hanahan Senior Center\, 3100 Mabeline Road\, Hanahan\, SC
ORGANIZER;CN="Cobblestone Quilters Guild":MAILTO:website@csq.websmithshop.com/
END:VEVENT
BEGIN:VEVENT
DTSTART;TZID=America/New_York:20250711T110000
DTEND;TZID=America/New_York:20250711T160000
DTSTAMP:20260425T203035
CREATED:20241201T141716Z
LAST-MODIFIED:20241204T171643Z
UID:10001278-1752231600-1752249600@cobblestonequilters.com
SUMMARY:Friendship Quilting Group (Splinter Group)
DESCRIPTION:Hanahan Senior Center \nEvery Friday \nll:15 – 5 \n 
URL:https://cobblestonequilters.com/events/friendship-quilting-group-splinter-group-9/2025-07-11/
LOCATION:Hanahan Senior Center\, 3100 Mabeline Road\, Hanahan\, SC
ORGANIZER;CN="Cobblestone Quilters Guild":MAILTO:website@csq.websmithshop.com/
END:VEVENT
BEGIN:VEVENT
DTSTART;TZID=America/New_York:20250704T110000
DTEND;TZID=America/New_York:20250704T160000
DTSTAMP:20260425T203035
CREATED:20241201T141716Z
LAST-MODIFIED:20241204T171643Z
UID:10001277-1751626800-1751644800@cobblestonequilters.com
SUMMARY:Friendship Quilting Group (Splinter Group)
DESCRIPTION:Hanahan Senior Center \nEvery Friday \nll:15 – 5 \n 
URL:https://cobblestonequilters.com/events/friendship-quilting-group-splinter-group-9/2025-07-04/
LOCATION:Hanahan Senior Center\, 3100 Mabeline Road\, Hanahan\, SC
ORGANIZER;CN="Cobblestone Quilters Guild":MAILTO:website@csq.websmithshop.com/
END:VEVENT
BEGIN:VEVENT
DTSTART;TZID=America/New_York:20250627T110000
DTEND;TZID=America/New_York:20250627T160000
DTSTAMP:20260425T203035
CREATED:20241201T141716Z
LAST-MODIFIED:20241204T171643Z
UID:10001276-1751022000-1751040000@cobblestonequilters.com
SUMMARY:Friendship Quilting Group (Splinter Group)
DESCRIPTION:Hanahan Senior Center \nEvery Friday \nll:15 – 5 \n 
URL:https://cobblestonequilters.com/events/friendship-quilting-group-splinter-group-9/2025-06-27/
LOCATION:Hanahan Senior Center\, 3100 Mabeline Road\, Hanahan\, SC
ORGANIZER;CN="Cobblestone Quilters Guild":MAILTO:website@csq.websmithshop.com/
END:VEVENT
BEGIN:VEVENT
DTSTART;TZID=America/New_York:20250620T110000
DTEND;TZID=America/New_York:20250620T160000
DTSTAMP:20260425T203035
CREATED:20241201T141716Z
LAST-MODIFIED:20241204T171643Z
UID:10001275-1750417200-1750435200@cobblestonequilters.com
SUMMARY:Friendship Quilting Group (Splinter Group)
DESCRIPTION:Hanahan Senior Center \nEvery Friday \nll:15 – 5 \n 
URL:https://cobblestonequilters.com/events/friendship-quilting-group-splinter-group-9/2025-06-20/
LOCATION:Hanahan Senior Center\, 3100 Mabeline Road\, Hanahan\, SC
ORGANIZER;CN="Cobblestone Quilters Guild":MAILTO:website@csq.websmithshop.com/
END:VEVENT
BEGIN:VEVENT
DTSTART;TZID=America/New_York:20250613T110000
DTEND;TZID=America/New_York:20250613T160000
DTSTAMP:20260425T203035
CREATED:20241201T141716Z
LAST-MODIFIED:20241204T171643Z
UID:10001274-1749812400-1749830400@cobblestonequilters.com
SUMMARY:Friendship Quilting Group (Splinter Group)
DESCRIPTION:Hanahan Senior Center \nEvery Friday \nll:15 – 5 \n 
URL:https://cobblestonequilters.com/events/friendship-quilting-group-splinter-group-9/2025-06-13/
LOCATION:Hanahan Senior Center\, 3100 Mabeline Road\, Hanahan\, SC
ORGANIZER;CN="Cobblestone Quilters Guild":MAILTO:website@csq.websmithshop.com/
END:VEVENT
BEGIN:VEVENT
DTSTART;TZID=America/New_York:20250606T110000
DTEND;TZID=America/New_York:20250606T160000
DTSTAMP:20260425T203035
CREATED:20241201T141716Z
LAST-MODIFIED:20241204T171643Z
UID:10001273-1749207600-1749225600@cobblestonequilters.com
SUMMARY:Friendship Quilting Group (Splinter Group)
DESCRIPTION:Hanahan Senior Center \nEvery Friday \nll:15 – 5 \n 
URL:https://cobblestonequilters.com/events/friendship-quilting-group-splinter-group-9/2025-06-06/
LOCATION:Hanahan Senior Center\, 3100 Mabeline Road\, Hanahan\, SC
ORGANIZER;CN="Cobblestone Quilters Guild":MAILTO:website@csq.websmithshop.com/
END:VEVENT
BEGIN:VEVENT
DTSTART;TZID=America/New_York:20250530T110000
DTEND;TZID=America/New_York:20250530T160000
DTSTAMP:20260425T203035
CREATED:20241201T141716Z
LAST-MODIFIED:20241204T171643Z
UID:10001272-1748602800-1748620800@cobblestonequilters.com
SUMMARY:Friendship Quilting Group (Splinter Group)
DESCRIPTION:Hanahan Senior Center \nEvery Friday \nll:15 – 5 \n 
URL:https://cobblestonequilters.com/events/friendship-quilting-group-splinter-group-9/2025-05-30/
LOCATION:Hanahan Senior Center\, 3100 Mabeline Road\, Hanahan\, SC
ORGANIZER;CN="Cobblestone Quilters Guild":MAILTO:website@csq.websmithshop.com/
END:VEVENT
BEGIN:VEVENT
DTSTART;TZID=America/New_York:20250523T110000
DTEND;TZID=America/New_York:20250523T160000
DTSTAMP:20260425T203035
CREATED:20241201T141716Z
LAST-MODIFIED:20241204T171643Z
UID:10001271-1747998000-1748016000@cobblestonequilters.com
SUMMARY:Friendship Quilting Group (Splinter Group)
DESCRIPTION:Hanahan Senior Center \nEvery Friday \nll:15 – 5 \n 
URL:https://cobblestonequilters.com/events/friendship-quilting-group-splinter-group-9/2025-05-23/
LOCATION:Hanahan Senior Center\, 3100 Mabeline Road\, Hanahan\, SC
ORGANIZER;CN="Cobblestone Quilters Guild":MAILTO:website@csq.websmithshop.com/
END:VEVENT
BEGIN:VEVENT
DTSTART;TZID=America/New_York:20250516T110000
DTEND;TZID=America/New_York:20250516T160000
DTSTAMP:20260425T203035
CREATED:20241201T141716Z
LAST-MODIFIED:20241204T171643Z
UID:10001270-1747393200-1747411200@cobblestonequilters.com
SUMMARY:Friendship Quilting Group (Splinter Group)
DESCRIPTION:Hanahan Senior Center \nEvery Friday \nll:15 – 5 \n 
URL:https://cobblestonequilters.com/events/friendship-quilting-group-splinter-group-9/2025-05-16/
LOCATION:Hanahan Senior Center\, 3100 Mabeline Road\, Hanahan\, SC
ORGANIZER;CN="Cobblestone Quilters Guild":MAILTO:website@csq.websmithshop.com/
END:VEVENT
BEGIN:VEVENT
DTSTART;TZID=America/New_York:20250509T110000
DTEND;TZID=America/New_York:20250509T160000
DTSTAMP:20260425T203035
CREATED:20241201T141716Z
LAST-MODIFIED:20241204T171643Z
UID:10001269-1746788400-1746806400@cobblestonequilters.com
SUMMARY:Friendship Quilting Group (Splinter Group)
DESCRIPTION:Hanahan Senior Center \nEvery Friday \nll:15 – 5 \n 
URL:https://cobblestonequilters.com/events/friendship-quilting-group-splinter-group-9/2025-05-09/
LOCATION:Hanahan Senior Center\, 3100 Mabeline Road\, Hanahan\, SC
ORGANIZER;CN="Cobblestone Quilters Guild":MAILTO:website@csq.websmithshop.com/
END:VEVENT
BEGIN:VEVENT
DTSTART;TZID=America/New_York:20250502T110000
DTEND;TZID=America/New_York:20250502T160000
DTSTAMP:20260425T203035
CREATED:20241201T141716Z
LAST-MODIFIED:20241204T171643Z
UID:10001268-1746183600-1746201600@cobblestonequilters.com
SUMMARY:Friendship Quilting Group (Splinter Group)
DESCRIPTION:Hanahan Senior Center \nEvery Friday \nll:15 – 5 \n 
URL:https://cobblestonequilters.com/events/friendship-quilting-group-splinter-group-9/2025-05-02/
LOCATION:Hanahan Senior Center\, 3100 Mabeline Road\, Hanahan\, SC
ORGANIZER;CN="Cobblestone Quilters Guild":MAILTO:website@csq.websmithshop.com/
END:VEVENT
BEGIN:VEVENT
DTSTART;TZID=America/New_York:20250425T110000
DTEND;TZID=America/New_York:20250425T160000
DTSTAMP:20260425T203035
CREATED:20241201T141716Z
LAST-MODIFIED:20241204T171643Z
UID:10001267-1745578800-1745596800@cobblestonequilters.com
SUMMARY:Friendship Quilting Group (Splinter Group)
DESCRIPTION:Hanahan Senior Center \nEvery Friday \nll:15 – 5 \n 
URL:https://cobblestonequilters.com/events/friendship-quilting-group-splinter-group-9/2025-04-25/
LOCATION:Hanahan Senior Center\, 3100 Mabeline Road\, Hanahan\, SC
ORGANIZER;CN="Cobblestone Quilters Guild":MAILTO:website@csq.websmithshop.com/
END:VEVENT
BEGIN:VEVENT
DTSTART;TZID=America/New_York:20250418T110000
DTEND;TZID=America/New_York:20250418T160000
DTSTAMP:20260425T203035
CREATED:20241201T141716Z
LAST-MODIFIED:20241204T171643Z
UID:10001266-1744974000-1744992000@cobblestonequilters.com
SUMMARY:Friendship Quilting Group (Splinter Group)
DESCRIPTION:Hanahan Senior Center \nEvery Friday \nll:15 – 5 \n 
URL:https://cobblestonequilters.com/events/friendship-quilting-group-splinter-group-9/2025-04-18/
LOCATION:Hanahan Senior Center\, 3100 Mabeline Road\, Hanahan\, SC
ORGANIZER;CN="Cobblestone Quilters Guild":MAILTO:website@csq.websmithshop.com/
END:VEVENT
END:VCALENDAR