BEGIN:VCALENDAR
VERSION:2.0
PRODID:-//Cobblestone Quilters Guild - ECPv6.15.20//NONSGML v1.0//EN
CALSCALE:GREGORIAN
METHOD:PUBLISH
X-WR-CALNAME:Cobblestone Quilters Guild
X-ORIGINAL-URL:https://cobblestonequilters.com
X-WR-CALDESC:Events for Cobblestone Quilters Guild
REFRESH-INTERVAL;VALUE=DURATION:PT1H
X-Robots-Tag:noindex
X-PUBLISHED-TTL:PT1H
BEGIN:VTIMEZONE
TZID:America/New_York
BEGIN:DAYLIGHT
TZOFFSETFROM:-0500
TZOFFSETTO:-0400
TZNAME:EDT
DTSTART:20260308T070000
END:DAYLIGHT
BEGIN:STANDARD
TZOFFSETFROM:-0400
TZOFFSETTO:-0500
TZNAME:EST
DTSTART:20261101T060000
END:STANDARD
BEGIN:DAYLIGHT
TZOFFSETFROM:-0500
TZOFFSETTO:-0400
TZNAME:EDT
DTSTART:20270314T070000
END:DAYLIGHT
BEGIN:STANDARD
TZOFFSETFROM:-0400
TZOFFSETTO:-0500
TZNAME:EST
DTSTART:20271107T060000
END:STANDARD
BEGIN:DAYLIGHT
TZOFFSETFROM:-0500
TZOFFSETTO:-0400
TZNAME:EDT
DTSTART:20280312T070000
END:DAYLIGHT
BEGIN:STANDARD
TZOFFSETFROM:-0400
TZOFFSETTO:-0500
TZNAME:EST
DTSTART:20281105T060000
END:STANDARD
BEGIN:DAYLIGHT
TZOFFSETFROM:-0500
TZOFFSETTO:-0400
TZNAME:EDT
DTSTART:20290311T070000
END:DAYLIGHT
BEGIN:STANDARD
TZOFFSETFROM:-0400
TZOFFSETTO:-0500
TZNAME:EST
DTSTART:20291104T060000
END:STANDARD
END:VTIMEZONE
BEGIN:VEVENT
DTSTART;TZID=America/New_York:20270902T173000
DTEND;TZID=America/New_York:20270902T200000
DTSTAMP:20260425T202915
CREATED:20241204T184726Z
LAST-MODIFIED:20241204T184807Z
UID:10001936-1819906200-1819915200@cobblestonequilters.com
SUMMARY:Bonneau Quilting Group (Splinter Group)
DESCRIPTION:Meets  1st Thursdays at Arise Church Fellowship Hall \n5:30-8
URL:https://cobblestonequilters.com/events/bonneau-quilting-group-splinter-group/2027-09-02/
LOCATION:Arise Church\, 1253 Long Acre Drive\, Bonneau\, SC\, 29431\, United States
ORGANIZER;CN="Cobblestone Quilters Guild":MAILTO:website@csq.websmithshop.com/
END:VEVENT
BEGIN:VEVENT
DTSTART;TZID=America/New_York:20270909T173000
DTEND;TZID=America/New_York:20270909T200000
DTSTAMP:20260425T202915
CREATED:20241204T185028Z
LAST-MODIFIED:20241204T185551Z
UID:10002116-1820511000-1820520000@cobblestonequilters.com
SUMMARY:Bonneau Quilting Group (Splinter Group)
DESCRIPTION:Meets at Arise Church 2nd Thursdays \n5:30
URL:https://cobblestonequilters.com/events/bonneau-quilting-group-splinter-group-2/2027-09-09/
LOCATION:Arise Church\, 1253 Long Acre Drive\, Bonneau\, SC\, 29431\, United States
ORGANIZER;CN="Cobblestone Quilters Guild":MAILTO:website@csq.websmithshop.com/
END:VEVENT
BEGIN:VEVENT
DTSTART;TZID=America/New_York:20270916T173000
DTEND;TZID=America/New_York:20270916T200000
DTSTAMP:20260425T202915
CREATED:20241204T185325Z
LAST-MODIFIED:20241204T185325Z
UID:10002056-1821115800-1821124800@cobblestonequilters.com
SUMMARY:Bonneau Quilting Group (Splinter Group)
DESCRIPTION:Meets 3rd Thursdays at Arise Church in Bonneau \n5:30
URL:https://cobblestonequilters.com/events/bonneau-quilting-group-splinter-group-3/2027-09-16/
LOCATION:Arise Church\, 1253 Long Acre Drive\, Bonneau\, SC\, 29431\, United States
ORGANIZER;CN="Cobblestone Quilters Guild":MAILTO:website@csq.websmithshop.com/
END:VEVENT
BEGIN:VEVENT
DTSTART;TZID=America/New_York:20271007T173000
DTEND;TZID=America/New_York:20271007T200000
DTSTAMP:20260425T202915
CREATED:20241204T184726Z
LAST-MODIFIED:20241204T184807Z
UID:10001937-1822930200-1822939200@cobblestonequilters.com
SUMMARY:Bonneau Quilting Group (Splinter Group)
DESCRIPTION:Meets  1st Thursdays at Arise Church Fellowship Hall \n5:30-8
URL:https://cobblestonequilters.com/events/bonneau-quilting-group-splinter-group/2027-10-07/
LOCATION:Arise Church\, 1253 Long Acre Drive\, Bonneau\, SC\, 29431\, United States
ORGANIZER;CN="Cobblestone Quilters Guild":MAILTO:website@csq.websmithshop.com/
END:VEVENT
BEGIN:VEVENT
DTSTART;TZID=America/New_York:20271014T173000
DTEND;TZID=America/New_York:20271014T200000
DTSTAMP:20260425T202915
CREATED:20241204T185028Z
LAST-MODIFIED:20241204T185551Z
UID:10002117-1823535000-1823544000@cobblestonequilters.com
SUMMARY:Bonneau Quilting Group (Splinter Group)
DESCRIPTION:Meets at Arise Church 2nd Thursdays \n5:30
URL:https://cobblestonequilters.com/events/bonneau-quilting-group-splinter-group-2/2027-10-14/
LOCATION:Arise Church\, 1253 Long Acre Drive\, Bonneau\, SC\, 29431\, United States
ORGANIZER;CN="Cobblestone Quilters Guild":MAILTO:website@csq.websmithshop.com/
END:VEVENT
BEGIN:VEVENT
DTSTART;TZID=America/New_York:20271021T173000
DTEND;TZID=America/New_York:20271021T200000
DTSTAMP:20260425T202915
CREATED:20241204T185325Z
LAST-MODIFIED:20241204T185325Z
UID:10002057-1824139800-1824148800@cobblestonequilters.com
SUMMARY:Bonneau Quilting Group (Splinter Group)
DESCRIPTION:Meets 3rd Thursdays at Arise Church in Bonneau \n5:30
URL:https://cobblestonequilters.com/events/bonneau-quilting-group-splinter-group-3/2027-10-21/
LOCATION:Arise Church\, 1253 Long Acre Drive\, Bonneau\, SC\, 29431\, United States
ORGANIZER;CN="Cobblestone Quilters Guild":MAILTO:website@csq.websmithshop.com/
END:VEVENT
BEGIN:VEVENT
DTSTART;TZID=America/New_York:20271104T173000
DTEND;TZID=America/New_York:20271104T200000
DTSTAMP:20260425T202915
CREATED:20241204T184726Z
LAST-MODIFIED:20241204T184807Z
UID:10001938-1825349400-1825358400@cobblestonequilters.com
SUMMARY:Bonneau Quilting Group (Splinter Group)
DESCRIPTION:Meets  1st Thursdays at Arise Church Fellowship Hall \n5:30-8
URL:https://cobblestonequilters.com/events/bonneau-quilting-group-splinter-group/2027-11-04/
LOCATION:Arise Church\, 1253 Long Acre Drive\, Bonneau\, SC\, 29431\, United States
ORGANIZER;CN="Cobblestone Quilters Guild":MAILTO:website@csq.websmithshop.com/
END:VEVENT
BEGIN:VEVENT
DTSTART;TZID=America/New_York:20271111T173000
DTEND;TZID=America/New_York:20271111T200000
DTSTAMP:20260425T202915
CREATED:20241204T185028Z
LAST-MODIFIED:20241204T185551Z
UID:10002118-1825954200-1825963200@cobblestonequilters.com
SUMMARY:Bonneau Quilting Group (Splinter Group)
DESCRIPTION:Meets at Arise Church 2nd Thursdays \n5:30
URL:https://cobblestonequilters.com/events/bonneau-quilting-group-splinter-group-2/2027-11-11/
LOCATION:Arise Church\, 1253 Long Acre Drive\, Bonneau\, SC\, 29431\, United States
ORGANIZER;CN="Cobblestone Quilters Guild":MAILTO:website@csq.websmithshop.com/
END:VEVENT
BEGIN:VEVENT
DTSTART;TZID=America/New_York:20271118T173000
DTEND;TZID=America/New_York:20271118T200000
DTSTAMP:20260425T202915
CREATED:20241204T185325Z
LAST-MODIFIED:20241204T185325Z
UID:10002058-1826559000-1826568000@cobblestonequilters.com
SUMMARY:Bonneau Quilting Group (Splinter Group)
DESCRIPTION:Meets 3rd Thursdays at Arise Church in Bonneau \n5:30
URL:https://cobblestonequilters.com/events/bonneau-quilting-group-splinter-group-3/2027-11-18/
LOCATION:Arise Church\, 1253 Long Acre Drive\, Bonneau\, SC\, 29431\, United States
ORGANIZER;CN="Cobblestone Quilters Guild":MAILTO:website@csq.websmithshop.com/
END:VEVENT
BEGIN:VEVENT
DTSTART;TZID=America/New_York:20271202T173000
DTEND;TZID=America/New_York:20271202T200000
DTSTAMP:20260425T202915
CREATED:20241204T184726Z
LAST-MODIFIED:20241204T184807Z
UID:10001939-1827768600-1827777600@cobblestonequilters.com
SUMMARY:Bonneau Quilting Group (Splinter Group)
DESCRIPTION:Meets  1st Thursdays at Arise Church Fellowship Hall \n5:30-8
URL:https://cobblestonequilters.com/events/bonneau-quilting-group-splinter-group/2027-12-02/
LOCATION:Arise Church\, 1253 Long Acre Drive\, Bonneau\, SC\, 29431\, United States
ORGANIZER;CN="Cobblestone Quilters Guild":MAILTO:website@csq.websmithshop.com/
END:VEVENT
BEGIN:VEVENT
DTSTART;TZID=America/New_York:20271209T173000
DTEND;TZID=America/New_York:20271209T200000
DTSTAMP:20260425T202915
CREATED:20241204T185028Z
LAST-MODIFIED:20241204T185551Z
UID:10002119-1828373400-1828382400@cobblestonequilters.com
SUMMARY:Bonneau Quilting Group (Splinter Group)
DESCRIPTION:Meets at Arise Church 2nd Thursdays \n5:30
URL:https://cobblestonequilters.com/events/bonneau-quilting-group-splinter-group-2/2027-12-09/
LOCATION:Arise Church\, 1253 Long Acre Drive\, Bonneau\, SC\, 29431\, United States
ORGANIZER;CN="Cobblestone Quilters Guild":MAILTO:website@csq.websmithshop.com/
END:VEVENT
BEGIN:VEVENT
DTSTART;TZID=America/New_York:20271216T173000
DTEND;TZID=America/New_York:20271216T200000
DTSTAMP:20260425T202915
CREATED:20241204T185325Z
LAST-MODIFIED:20241204T185325Z
UID:10002059-1828978200-1828987200@cobblestonequilters.com
SUMMARY:Bonneau Quilting Group (Splinter Group)
DESCRIPTION:Meets 3rd Thursdays at Arise Church in Bonneau \n5:30
URL:https://cobblestonequilters.com/events/bonneau-quilting-group-splinter-group-3/2027-12-16/
LOCATION:Arise Church\, 1253 Long Acre Drive\, Bonneau\, SC\, 29431\, United States
ORGANIZER;CN="Cobblestone Quilters Guild":MAILTO:website@csq.websmithshop.com/
END:VEVENT
BEGIN:VEVENT
DTSTART;TZID=America/New_York:20280106T173000
DTEND;TZID=America/New_York:20280106T200000
DTSTAMP:20260425T202915
CREATED:20241204T184726Z
LAST-MODIFIED:20241204T184807Z
UID:10001940-1830792600-1830801600@cobblestonequilters.com
SUMMARY:Bonneau Quilting Group (Splinter Group)
DESCRIPTION:Meets  1st Thursdays at Arise Church Fellowship Hall \n5:30-8
URL:https://cobblestonequilters.com/events/bonneau-quilting-group-splinter-group/2028-01-06/
LOCATION:Arise Church\, 1253 Long Acre Drive\, Bonneau\, SC\, 29431\, United States
ORGANIZER;CN="Cobblestone Quilters Guild":MAILTO:website@csq.websmithshop.com/
END:VEVENT
BEGIN:VEVENT
DTSTART;TZID=America/New_York:20280113T173000
DTEND;TZID=America/New_York:20280113T200000
DTSTAMP:20260425T202915
CREATED:20241204T185028Z
LAST-MODIFIED:20241204T185551Z
UID:10002120-1831397400-1831406400@cobblestonequilters.com
SUMMARY:Bonneau Quilting Group (Splinter Group)
DESCRIPTION:Meets at Arise Church 2nd Thursdays \n5:30
URL:https://cobblestonequilters.com/events/bonneau-quilting-group-splinter-group-2/2028-01-13/
LOCATION:Arise Church\, 1253 Long Acre Drive\, Bonneau\, SC\, 29431\, United States
ORGANIZER;CN="Cobblestone Quilters Guild":MAILTO:website@csq.websmithshop.com/
END:VEVENT
BEGIN:VEVENT
DTSTART;TZID=America/New_York:20280120T173000
DTEND;TZID=America/New_York:20280120T200000
DTSTAMP:20260425T202915
CREATED:20241204T185325Z
LAST-MODIFIED:20241204T185325Z
UID:10002060-1832002200-1832011200@cobblestonequilters.com
SUMMARY:Bonneau Quilting Group (Splinter Group)
DESCRIPTION:Meets 3rd Thursdays at Arise Church in Bonneau \n5:30
URL:https://cobblestonequilters.com/events/bonneau-quilting-group-splinter-group-3/2028-01-20/
LOCATION:Arise Church\, 1253 Long Acre Drive\, Bonneau\, SC\, 29431\, United States
ORGANIZER;CN="Cobblestone Quilters Guild":MAILTO:website@csq.websmithshop.com/
END:VEVENT
BEGIN:VEVENT
DTSTART;TZID=America/New_York:20280203T173000
DTEND;TZID=America/New_York:20280203T200000
DTSTAMP:20260425T202915
CREATED:20241204T184726Z
LAST-MODIFIED:20241204T184807Z
UID:10001941-1833211800-1833220800@cobblestonequilters.com
SUMMARY:Bonneau Quilting Group (Splinter Group)
DESCRIPTION:Meets  1st Thursdays at Arise Church Fellowship Hall \n5:30-8
URL:https://cobblestonequilters.com/events/bonneau-quilting-group-splinter-group/2028-02-03/
LOCATION:Arise Church\, 1253 Long Acre Drive\, Bonneau\, SC\, 29431\, United States
ORGANIZER;CN="Cobblestone Quilters Guild":MAILTO:website@csq.websmithshop.com/
END:VEVENT
BEGIN:VEVENT
DTSTART;TZID=America/New_York:20280210T173000
DTEND;TZID=America/New_York:20280210T200000
DTSTAMP:20260425T202915
CREATED:20241204T185028Z
LAST-MODIFIED:20241204T185551Z
UID:10002121-1833816600-1833825600@cobblestonequilters.com
SUMMARY:Bonneau Quilting Group (Splinter Group)
DESCRIPTION:Meets at Arise Church 2nd Thursdays \n5:30
URL:https://cobblestonequilters.com/events/bonneau-quilting-group-splinter-group-2/2028-02-10/
LOCATION:Arise Church\, 1253 Long Acre Drive\, Bonneau\, SC\, 29431\, United States
ORGANIZER;CN="Cobblestone Quilters Guild":MAILTO:website@csq.websmithshop.com/
END:VEVENT
BEGIN:VEVENT
DTSTART;TZID=America/New_York:20280217T173000
DTEND;TZID=America/New_York:20280217T200000
DTSTAMP:20260425T202915
CREATED:20241204T185325Z
LAST-MODIFIED:20241204T185325Z
UID:10002061-1834421400-1834430400@cobblestonequilters.com
SUMMARY:Bonneau Quilting Group (Splinter Group)
DESCRIPTION:Meets 3rd Thursdays at Arise Church in Bonneau \n5:30
URL:https://cobblestonequilters.com/events/bonneau-quilting-group-splinter-group-3/2028-02-17/
LOCATION:Arise Church\, 1253 Long Acre Drive\, Bonneau\, SC\, 29431\, United States
ORGANIZER;CN="Cobblestone Quilters Guild":MAILTO:website@csq.websmithshop.com/
END:VEVENT
BEGIN:VEVENT
DTSTART;TZID=America/New_York:20280302T173000
DTEND;TZID=America/New_York:20280302T200000
DTSTAMP:20260425T202915
CREATED:20241204T184726Z
LAST-MODIFIED:20241204T184807Z
UID:10001942-1835631000-1835640000@cobblestonequilters.com
SUMMARY:Bonneau Quilting Group (Splinter Group)
DESCRIPTION:Meets  1st Thursdays at Arise Church Fellowship Hall \n5:30-8
URL:https://cobblestonequilters.com/events/bonneau-quilting-group-splinter-group/2028-03-02/
LOCATION:Arise Church\, 1253 Long Acre Drive\, Bonneau\, SC\, 29431\, United States
ORGANIZER;CN="Cobblestone Quilters Guild":MAILTO:website@csq.websmithshop.com/
END:VEVENT
BEGIN:VEVENT
DTSTART;TZID=America/New_York:20280309T173000
DTEND;TZID=America/New_York:20280309T200000
DTSTAMP:20260425T202915
CREATED:20241204T185028Z
LAST-MODIFIED:20241204T185551Z
UID:10002122-1836235800-1836244800@cobblestonequilters.com
SUMMARY:Bonneau Quilting Group (Splinter Group)
DESCRIPTION:Meets at Arise Church 2nd Thursdays \n5:30
URL:https://cobblestonequilters.com/events/bonneau-quilting-group-splinter-group-2/2028-03-09/
LOCATION:Arise Church\, 1253 Long Acre Drive\, Bonneau\, SC\, 29431\, United States
ORGANIZER;CN="Cobblestone Quilters Guild":MAILTO:website@csq.websmithshop.com/
END:VEVENT
BEGIN:VEVENT
DTSTART;TZID=America/New_York:20280316T173000
DTEND;TZID=America/New_York:20280316T200000
DTSTAMP:20260425T202915
CREATED:20241204T185325Z
LAST-MODIFIED:20241204T185325Z
UID:10002062-1836840600-1836849600@cobblestonequilters.com
SUMMARY:Bonneau Quilting Group (Splinter Group)
DESCRIPTION:Meets 3rd Thursdays at Arise Church in Bonneau \n5:30
URL:https://cobblestonequilters.com/events/bonneau-quilting-group-splinter-group-3/2028-03-16/
LOCATION:Arise Church\, 1253 Long Acre Drive\, Bonneau\, SC\, 29431\, United States
ORGANIZER;CN="Cobblestone Quilters Guild":MAILTO:website@csq.websmithshop.com/
END:VEVENT
BEGIN:VEVENT
DTSTART;TZID=America/New_York:20280406T173000
DTEND;TZID=America/New_York:20280406T200000
DTSTAMP:20260425T202915
CREATED:20241204T184726Z
LAST-MODIFIED:20241204T184807Z
UID:10001943-1838655000-1838664000@cobblestonequilters.com
SUMMARY:Bonneau Quilting Group (Splinter Group)
DESCRIPTION:Meets  1st Thursdays at Arise Church Fellowship Hall \n5:30-8
URL:https://cobblestonequilters.com/events/bonneau-quilting-group-splinter-group/2028-04-06/
LOCATION:Arise Church\, 1253 Long Acre Drive\, Bonneau\, SC\, 29431\, United States
ORGANIZER;CN="Cobblestone Quilters Guild":MAILTO:website@csq.websmithshop.com/
END:VEVENT
BEGIN:VEVENT
DTSTART;TZID=America/New_York:20280413T173000
DTEND;TZID=America/New_York:20280413T200000
DTSTAMP:20260425T202915
CREATED:20241204T185028Z
LAST-MODIFIED:20241204T185551Z
UID:10002123-1839259800-1839268800@cobblestonequilters.com
SUMMARY:Bonneau Quilting Group (Splinter Group)
DESCRIPTION:Meets at Arise Church 2nd Thursdays \n5:30
URL:https://cobblestonequilters.com/events/bonneau-quilting-group-splinter-group-2/2028-04-13/
LOCATION:Arise Church\, 1253 Long Acre Drive\, Bonneau\, SC\, 29431\, United States
ORGANIZER;CN="Cobblestone Quilters Guild":MAILTO:website@csq.websmithshop.com/
END:VEVENT
BEGIN:VEVENT
DTSTART;TZID=America/New_York:20280420T173000
DTEND;TZID=America/New_York:20280420T200000
DTSTAMP:20260425T202915
CREATED:20241204T185325Z
LAST-MODIFIED:20241204T185325Z
UID:10002063-1839864600-1839873600@cobblestonequilters.com
SUMMARY:Bonneau Quilting Group (Splinter Group)
DESCRIPTION:Meets 3rd Thursdays at Arise Church in Bonneau \n5:30
URL:https://cobblestonequilters.com/events/bonneau-quilting-group-splinter-group-3/2028-04-20/
LOCATION:Arise Church\, 1253 Long Acre Drive\, Bonneau\, SC\, 29431\, United States
ORGANIZER;CN="Cobblestone Quilters Guild":MAILTO:website@csq.websmithshop.com/
END:VEVENT
BEGIN:VEVENT
DTSTART;TZID=America/New_York:20280504T173000
DTEND;TZID=America/New_York:20280504T200000
DTSTAMP:20260425T202915
CREATED:20241204T184726Z
LAST-MODIFIED:20241204T184807Z
UID:10001944-1841074200-1841083200@cobblestonequilters.com
SUMMARY:Bonneau Quilting Group (Splinter Group)
DESCRIPTION:Meets  1st Thursdays at Arise Church Fellowship Hall \n5:30-8
URL:https://cobblestonequilters.com/events/bonneau-quilting-group-splinter-group/2028-05-04/
LOCATION:Arise Church\, 1253 Long Acre Drive\, Bonneau\, SC\, 29431\, United States
ORGANIZER;CN="Cobblestone Quilters Guild":MAILTO:website@csq.websmithshop.com/
END:VEVENT
BEGIN:VEVENT
DTSTART;TZID=America/New_York:20280511T173000
DTEND;TZID=America/New_York:20280511T200000
DTSTAMP:20260425T202915
CREATED:20241204T185028Z
LAST-MODIFIED:20241204T185551Z
UID:10002124-1841679000-1841688000@cobblestonequilters.com
SUMMARY:Bonneau Quilting Group (Splinter Group)
DESCRIPTION:Meets at Arise Church 2nd Thursdays \n5:30
URL:https://cobblestonequilters.com/events/bonneau-quilting-group-splinter-group-2/2028-05-11/
LOCATION:Arise Church\, 1253 Long Acre Drive\, Bonneau\, SC\, 29431\, United States
ORGANIZER;CN="Cobblestone Quilters Guild":MAILTO:website@csq.websmithshop.com/
END:VEVENT
BEGIN:VEVENT
DTSTART;TZID=America/New_York:20280518T173000
DTEND;TZID=America/New_York:20280518T200000
DTSTAMP:20260425T202915
CREATED:20241204T185325Z
LAST-MODIFIED:20241204T185325Z
UID:10002064-1842283800-1842292800@cobblestonequilters.com
SUMMARY:Bonneau Quilting Group (Splinter Group)
DESCRIPTION:Meets 3rd Thursdays at Arise Church in Bonneau \n5:30
URL:https://cobblestonequilters.com/events/bonneau-quilting-group-splinter-group-3/2028-05-18/
LOCATION:Arise Church\, 1253 Long Acre Drive\, Bonneau\, SC\, 29431\, United States
ORGANIZER;CN="Cobblestone Quilters Guild":MAILTO:website@csq.websmithshop.com/
END:VEVENT
BEGIN:VEVENT
DTSTART;TZID=America/New_York:20280601T173000
DTEND;TZID=America/New_York:20280601T200000
DTSTAMP:20260425T202915
CREATED:20241204T184726Z
LAST-MODIFIED:20241204T184807Z
UID:10001945-1843493400-1843502400@cobblestonequilters.com
SUMMARY:Bonneau Quilting Group (Splinter Group)
DESCRIPTION:Meets  1st Thursdays at Arise Church Fellowship Hall \n5:30-8
URL:https://cobblestonequilters.com/events/bonneau-quilting-group-splinter-group/2028-06-01/
LOCATION:Arise Church\, 1253 Long Acre Drive\, Bonneau\, SC\, 29431\, United States
ORGANIZER;CN="Cobblestone Quilters Guild":MAILTO:website@csq.websmithshop.com/
END:VEVENT
BEGIN:VEVENT
DTSTART;TZID=America/New_York:20280608T173000
DTEND;TZID=America/New_York:20280608T200000
DTSTAMP:20260425T202915
CREATED:20241204T185028Z
LAST-MODIFIED:20241204T185551Z
UID:10002125-1844098200-1844107200@cobblestonequilters.com
SUMMARY:Bonneau Quilting Group (Splinter Group)
DESCRIPTION:Meets at Arise Church 2nd Thursdays \n5:30
URL:https://cobblestonequilters.com/events/bonneau-quilting-group-splinter-group-2/2028-06-08/
LOCATION:Arise Church\, 1253 Long Acre Drive\, Bonneau\, SC\, 29431\, United States
ORGANIZER;CN="Cobblestone Quilters Guild":MAILTO:website@csq.websmithshop.com/
END:VEVENT
BEGIN:VEVENT
DTSTART;TZID=America/New_York:20280615T173000
DTEND;TZID=America/New_York:20280615T200000
DTSTAMP:20260425T202915
CREATED:20241204T185325Z
LAST-MODIFIED:20241204T185325Z
UID:10002065-1844703000-1844712000@cobblestonequilters.com
SUMMARY:Bonneau Quilting Group (Splinter Group)
DESCRIPTION:Meets 3rd Thursdays at Arise Church in Bonneau \n5:30
URL:https://cobblestonequilters.com/events/bonneau-quilting-group-splinter-group-3/2028-06-15/
LOCATION:Arise Church\, 1253 Long Acre Drive\, Bonneau\, SC\, 29431\, United States
ORGANIZER;CN="Cobblestone Quilters Guild":MAILTO:website@csq.websmithshop.com/
END:VEVENT
END:VCALENDAR