BEGIN:VCALENDAR
VERSION:2.0
PRODID:-//Cobblestone Quilters Guild - ECPv6.15.20//NONSGML v1.0//EN
CALSCALE:GREGORIAN
METHOD:PUBLISH
X-WR-CALNAME:Cobblestone Quilters Guild
X-ORIGINAL-URL:https://cobblestonequilters.com
X-WR-CALDESC:Events for Cobblestone Quilters Guild
REFRESH-INTERVAL;VALUE=DURATION:PT1H
X-Robots-Tag:noindex
X-PUBLISHED-TTL:PT1H
BEGIN:VTIMEZONE
TZID:America/New_York
BEGIN:DAYLIGHT
TZOFFSETFROM:-0500
TZOFFSETTO:-0400
TZNAME:EDT
DTSTART:20250309T070000
END:DAYLIGHT
BEGIN:STANDARD
TZOFFSETFROM:-0400
TZOFFSETTO:-0500
TZNAME:EST
DTSTART:20251102T060000
END:STANDARD
BEGIN:DAYLIGHT
TZOFFSETFROM:-0500
TZOFFSETTO:-0400
TZNAME:EDT
DTSTART:20260308T070000
END:DAYLIGHT
BEGIN:STANDARD
TZOFFSETFROM:-0400
TZOFFSETTO:-0500
TZNAME:EST
DTSTART:20261101T060000
END:STANDARD
BEGIN:DAYLIGHT
TZOFFSETFROM:-0500
TZOFFSETTO:-0400
TZNAME:EDT
DTSTART:20270314T070000
END:DAYLIGHT
BEGIN:STANDARD
TZOFFSETFROM:-0400
TZOFFSETTO:-0500
TZNAME:EST
DTSTART:20271107T060000
END:STANDARD
END:VTIMEZONE
BEGIN:VEVENT
DTSTART;TZID=America/New_York:20260520T100000
DTEND;TZID=America/New_York:20260520T120000
DTSTAMP:20260425T153930
CREATED:20251230T140746Z
LAST-MODIFIED:20251231T231548Z
UID:10002851-1779271200-1779278400@cobblestonequilters.com
SUMMARY:Patchwork Gals (Splinter Group)
DESCRIPTION:Wando Mt. Pleasant Library \nMeets the 3rd Wednesday of each month \nMeeting starts at 10:00 \nALL quilters are WELCOME!
URL:https://cobblestonequilters.com/events/patchwork-gals-splinter-group-2-2/2026-05-20/
LOCATION:Wando Mount Pleasant Library\, 1400 Carolina Boulevard\, Mount Pleasant\, SC\, 29466\, United States
ORGANIZER;CN="Cobblestone Quilters Guild":MAILTO:website@csq.websmithshop.com/
END:VEVENT
BEGIN:VEVENT
DTSTART;TZID=America/New_York:20260617T100000
DTEND;TZID=America/New_York:20260617T120000
DTSTAMP:20260425T153930
CREATED:20251230T140746Z
LAST-MODIFIED:20251231T231548Z
UID:10002852-1781690400-1781697600@cobblestonequilters.com
SUMMARY:Patchwork Gals (Splinter Group)
DESCRIPTION:Wando Mt. Pleasant Library \nMeets the 3rd Wednesday of each month \nMeeting starts at 10:00 \nALL quilters are WELCOME!
URL:https://cobblestonequilters.com/events/patchwork-gals-splinter-group-2-2/2026-06-17/
LOCATION:Wando Mount Pleasant Library\, 1400 Carolina Boulevard\, Mount Pleasant\, SC\, 29466\, United States
ORGANIZER;CN="Cobblestone Quilters Guild":MAILTO:website@csq.websmithshop.com/
END:VEVENT
BEGIN:VEVENT
DTSTART;TZID=America/New_York:20260715T100000
DTEND;TZID=America/New_York:20260715T120000
DTSTAMP:20260425T153930
CREATED:20251230T140746Z
LAST-MODIFIED:20251231T231548Z
UID:10002853-1784109600-1784116800@cobblestonequilters.com
SUMMARY:Patchwork Gals (Splinter Group)
DESCRIPTION:Wando Mt. Pleasant Library \nMeets the 3rd Wednesday of each month \nMeeting starts at 10:00 \nALL quilters are WELCOME!
URL:https://cobblestonequilters.com/events/patchwork-gals-splinter-group-2-2/2026-07-15/
LOCATION:Wando Mount Pleasant Library\, 1400 Carolina Boulevard\, Mount Pleasant\, SC\, 29466\, United States
ORGANIZER;CN="Cobblestone Quilters Guild":MAILTO:website@csq.websmithshop.com/
END:VEVENT
BEGIN:VEVENT
DTSTART;TZID=America/New_York:20260819T100000
DTEND;TZID=America/New_York:20260819T120000
DTSTAMP:20260425T153930
CREATED:20251230T140746Z
LAST-MODIFIED:20251231T231548Z
UID:10002854-1787133600-1787140800@cobblestonequilters.com
SUMMARY:Patchwork Gals (Splinter Group)
DESCRIPTION:Wando Mt. Pleasant Library \nMeets the 3rd Wednesday of each month \nMeeting starts at 10:00 \nALL quilters are WELCOME!
URL:https://cobblestonequilters.com/events/patchwork-gals-splinter-group-2-2/2026-08-19/
LOCATION:Wando Mount Pleasant Library\, 1400 Carolina Boulevard\, Mount Pleasant\, SC\, 29466\, United States
ORGANIZER;CN="Cobblestone Quilters Guild":MAILTO:website@csq.websmithshop.com/
END:VEVENT
BEGIN:VEVENT
DTSTART;TZID=America/New_York:20260916T100000
DTEND;TZID=America/New_York:20260916T120000
DTSTAMP:20260425T153930
CREATED:20251230T140746Z
LAST-MODIFIED:20251231T231548Z
UID:10002855-1789552800-1789560000@cobblestonequilters.com
SUMMARY:Patchwork Gals (Splinter Group)
DESCRIPTION:Wando Mt. Pleasant Library \nMeets the 3rd Wednesday of each month \nMeeting starts at 10:00 \nALL quilters are WELCOME!
URL:https://cobblestonequilters.com/events/patchwork-gals-splinter-group-2-2/2026-09-16/
LOCATION:Wando Mount Pleasant Library\, 1400 Carolina Boulevard\, Mount Pleasant\, SC\, 29466\, United States
ORGANIZER;CN="Cobblestone Quilters Guild":MAILTO:website@csq.websmithshop.com/
END:VEVENT
BEGIN:VEVENT
DTSTART;TZID=America/New_York:20261021T100000
DTEND;TZID=America/New_York:20261021T120000
DTSTAMP:20260425T153930
CREATED:20251230T140746Z
LAST-MODIFIED:20251231T231548Z
UID:10002856-1792576800-1792584000@cobblestonequilters.com
SUMMARY:Patchwork Gals (Splinter Group)
DESCRIPTION:Wando Mt. Pleasant Library \nMeets the 3rd Wednesday of each month \nMeeting starts at 10:00 \nALL quilters are WELCOME!
URL:https://cobblestonequilters.com/events/patchwork-gals-splinter-group-2-2/2026-10-21/
LOCATION:Wando Mount Pleasant Library\, 1400 Carolina Boulevard\, Mount Pleasant\, SC\, 29466\, United States
ORGANIZER;CN="Cobblestone Quilters Guild":MAILTO:website@csq.websmithshop.com/
END:VEVENT
BEGIN:VEVENT
DTSTART;TZID=America/New_York:20261118T100000
DTEND;TZID=America/New_York:20261118T120000
DTSTAMP:20260425T153930
CREATED:20251230T140746Z
LAST-MODIFIED:20251231T231548Z
UID:10002857-1794996000-1795003200@cobblestonequilters.com
SUMMARY:Patchwork Gals (Splinter Group)
DESCRIPTION:Wando Mt. Pleasant Library \nMeets the 3rd Wednesday of each month \nMeeting starts at 10:00 \nALL quilters are WELCOME!
URL:https://cobblestonequilters.com/events/patchwork-gals-splinter-group-2-2/2026-11-18/
LOCATION:Wando Mount Pleasant Library\, 1400 Carolina Boulevard\, Mount Pleasant\, SC\, 29466\, United States
ORGANIZER;CN="Cobblestone Quilters Guild":MAILTO:website@csq.websmithshop.com/
END:VEVENT
BEGIN:VEVENT
DTSTART;TZID=America/New_York:20261216T100000
DTEND;TZID=America/New_York:20261216T120000
DTSTAMP:20260425T153930
CREATED:20251230T140746Z
LAST-MODIFIED:20251231T231548Z
UID:10002858-1797415200-1797422400@cobblestonequilters.com
SUMMARY:Patchwork Gals (Splinter Group)
DESCRIPTION:Wando Mt. Pleasant Library \nMeets the 3rd Wednesday of each month \nMeeting starts at 10:00 \nALL quilters are WELCOME!
URL:https://cobblestonequilters.com/events/patchwork-gals-splinter-group-2-2/2026-12-16/
LOCATION:Wando Mount Pleasant Library\, 1400 Carolina Boulevard\, Mount Pleasant\, SC\, 29466\, United States
ORGANIZER;CN="Cobblestone Quilters Guild":MAILTO:website@csq.websmithshop.com/
END:VEVENT
END:VCALENDAR