BEGIN:VCALENDAR
VERSION:2.0
PRODID:-//Cobblestone Quilters Guild - ECPv6.15.20//NONSGML v1.0//EN
CALSCALE:GREGORIAN
METHOD:PUBLISH
X-ORIGINAL-URL:https://cobblestonequilters.com
X-WR-CALDESC:Events for Cobblestone Quilters Guild
REFRESH-INTERVAL;VALUE=DURATION:PT1H
X-Robots-Tag:noindex
X-PUBLISHED-TTL:PT1H
BEGIN:VTIMEZONE
TZID:America/New_York
BEGIN:DAYLIGHT
TZOFFSETFROM:-0500
TZOFFSETTO:-0400
TZNAME:EDT
DTSTART:20240310T070000
END:DAYLIGHT
BEGIN:STANDARD
TZOFFSETFROM:-0400
TZOFFSETTO:-0500
TZNAME:EST
DTSTART:20241103T060000
END:STANDARD
BEGIN:DAYLIGHT
TZOFFSETFROM:-0500
TZOFFSETTO:-0400
TZNAME:EDT
DTSTART:20250309T070000
END:DAYLIGHT
BEGIN:STANDARD
TZOFFSETFROM:-0400
TZOFFSETTO:-0500
TZNAME:EST
DTSTART:20251102T060000
END:STANDARD
BEGIN:DAYLIGHT
TZOFFSETFROM:-0500
TZOFFSETTO:-0400
TZNAME:EDT
DTSTART:20260308T070000
END:DAYLIGHT
BEGIN:STANDARD
TZOFFSETFROM:-0400
TZOFFSETTO:-0500
TZNAME:EST
DTSTART:20261101T060000
END:STANDARD
END:VTIMEZONE
BEGIN:VEVENT
DTSTART;TZID=America/New_York:20251105T100000
DTEND;TZID=America/New_York:20251105T150000
DTSTAMP:20260425T195218
CREATED:20241204T181508Z
LAST-MODIFIED:20250810T154125Z
UID:10002454-1762336800-1762354800@cobblestonequilters.com
SUMMARY:QuiltNFriends (Splinter Group)
DESCRIPTION:Meets at Stallsville Church in Summerville every Werdnesday \n10-3
URL:https://cobblestonequilters.com/events/quilt-friends-splinter-group/2025-11-05/
LOCATION:Stallsville Methodist Church\, 255 Stallsville Loop\, Summerville\, SC
ORGANIZER;CN="Cobblestone Quilters Guild":MAILTO:website@csq.websmithshop.com/
END:VEVENT
BEGIN:VEVENT
DTSTART;TZID=America/New_York:20251106T173000
DTEND;TZID=America/New_York:20251106T200000
DTSTAMP:20260425T195218
CREATED:20241204T184726Z
LAST-MODIFIED:20241204T184807Z
UID:10001914-1762450200-1762459200@cobblestonequilters.com
SUMMARY:Bonneau Quilting Group (Splinter Group)
DESCRIPTION:Meets  1st Thursdays at Arise Church Fellowship Hall \n5:30-8
URL:https://cobblestonequilters.com/events/bonneau-quilting-group-splinter-group/2025-11-06/
LOCATION:Arise Church\, 1253 Long Acre Drive\, Bonneau\, SC\, 29431\, United States
ORGANIZER;CN="Cobblestone Quilters Guild":MAILTO:website@csq.websmithshop.com/
END:VEVENT
BEGIN:VEVENT
DTSTART;TZID=America/New_York:20251107T110000
DTEND;TZID=America/New_York:20251107T160000
DTSTAMP:20260425T195218
CREATED:20241201T141716Z
LAST-MODIFIED:20241204T171643Z
UID:10001295-1762513200-1762531200@cobblestonequilters.com
SUMMARY:Friendship Quilting Group (Splinter Group)
DESCRIPTION:Hanahan Senior Center \nEvery Friday \nll:15 – 5 \n 
URL:https://cobblestonequilters.com/events/friendship-quilting-group-splinter-group-9/2025-11-07/
LOCATION:Hanahan Senior Center\, 3100 Mabeline Road\, Hanahan\, SC
ORGANIZER;CN="Cobblestone Quilters Guild":MAILTO:website@csq.websmithshop.com/
END:VEVENT
BEGIN:VEVENT
DTSTART;TZID=America/New_York:20251108T093000
DTEND;TZID=America/New_York:20251108T160000
DTSTAMP:20260425T195218
CREATED:20250803T125355Z
LAST-MODIFIED:20250803T125355Z
UID:10002396-1762594200-1762617600@cobblestonequilters.com
SUMMARY:Monthly Guild Meeting
DESCRIPTION:9:30  Business meeting and presentation \n12:30  Bag Class with Benjamin Smith
URL:https://cobblestonequilters.com/events/monthly-guild-meeting-5/
LOCATION:Yeamans Presbyterian Park Church\, 5931 Murray Drive\, Hanahan\, SC\, 29410
ORGANIZER;CN="Cobblestone Quilters Guild":MAILTO:website@csq.websmithshop.com/
END:VEVENT
BEGIN:VEVENT
DTSTART;TZID=America/New_York:20251111T100000
DTEND;TZID=America/New_York:20251111T120000
DTSTAMP:20260425T195218
CREATED:20241204T184130Z
LAST-MODIFIED:20241204T184130Z
UID:10001853-1762855200-1762862400@cobblestonequilters.com
SUMMARY:Duck Ditch Quilters (Splinter Group)
DESCRIPTION:Meets 2nd Tuesday of Each month at 10:00 \nSt. Luke’s Lutheran Church\, Summerville\, SC
URL:https://cobblestonequilters.com/events/duck-ditch-quilters-splinter-group/2025-11-11/
LOCATION:St. Luke’s Lutheran Church\, 200 Central Avenue\, Summerville\, United States
ORGANIZER;CN="Cobblestone Quilters Guild":MAILTO:website@csq.websmithshop.com/
END:VEVENT
BEGIN:VEVENT
DTSTART;TZID=America/New_York:20251111T183000
DTEND;TZID=America/New_York:20251111T210000
DTSTAMP:20260425T195218
CREATED:20241204T183516Z
LAST-MODIFIED:20241204T183516Z
UID:10001793-1762885800-1762894800@cobblestonequilters.com
SUMMARY:Indigo Quilters (Splinter Group)
DESCRIPTION:Meets 2nd Tuesday at 6:30 pm \nREV Credit Union
URL:https://cobblestonequilters.com/events/indigo-quilters-splinter-group/2025-11-11/
LOCATION:REV Credit Union Coleman\, 847 Coleman Blvd\, Mt Pleasant\, SC
ORGANIZER;CN="Cobblestone Quilters Guild":MAILTO:website@csq.websmithshop.com/
END:VEVENT
BEGIN:VEVENT
DTSTART;TZID=America/New_York:20251112T100000
DTEND;TZID=America/New_York:20251112T150000
DTSTAMP:20260425T195218
CREATED:20241204T181508Z
LAST-MODIFIED:20250810T154125Z
UID:10002455-1762941600-1762959600@cobblestonequilters.com
SUMMARY:QuiltNFriends (Splinter Group)
DESCRIPTION:Meets at Stallsville Church in Summerville every Werdnesday \n10-3
URL:https://cobblestonequilters.com/events/quilt-friends-splinter-group/2025-11-12/
LOCATION:Stallsville Methodist Church\, 255 Stallsville Loop\, Summerville\, SC
ORGANIZER;CN="Cobblestone Quilters Guild":MAILTO:website@csq.websmithshop.com/
END:VEVENT
BEGIN:VEVENT
DTSTART;TZID=America/New_York:20251113T173000
DTEND;TZID=America/New_York:20251113T200000
DTSTAMP:20260425T195218
CREATED:20241204T185028Z
LAST-MODIFIED:20241204T185551Z
UID:10002094-1763055000-1763064000@cobblestonequilters.com
SUMMARY:Bonneau Quilting Group (Splinter Group)
DESCRIPTION:Meets at Arise Church 2nd Thursdays \n5:30
URL:https://cobblestonequilters.com/events/bonneau-quilting-group-splinter-group-2/2025-11-13/
LOCATION:Arise Church\, 1253 Long Acre Drive\, Bonneau\, SC\, 29431\, United States
ORGANIZER;CN="Cobblestone Quilters Guild":MAILTO:website@csq.websmithshop.com/
END:VEVENT
BEGIN:VEVENT
DTSTART;TZID=America/New_York:20251114T110000
DTEND;TZID=America/New_York:20251114T160000
DTSTAMP:20260425T195218
CREATED:20241201T141716Z
LAST-MODIFIED:20241204T171643Z
UID:10001296-1763118000-1763136000@cobblestonequilters.com
SUMMARY:Friendship Quilting Group (Splinter Group)
DESCRIPTION:Hanahan Senior Center \nEvery Friday \nll:15 – 5 \n 
URL:https://cobblestonequilters.com/events/friendship-quilting-group-splinter-group-9/2025-11-14/
LOCATION:Hanahan Senior Center\, 3100 Mabeline Road\, Hanahan\, SC
ORGANIZER;CN="Cobblestone Quilters Guild":MAILTO:website@csq.websmithshop.com/
END:VEVENT
BEGIN:VEVENT
DTSTART;TZID=America/New_York:20251119T100000
DTEND;TZID=America/New_York:20251119T150000
DTSTAMP:20260425T195218
CREATED:20241204T181508Z
LAST-MODIFIED:20250810T154125Z
UID:10002456-1763546400-1763564400@cobblestonequilters.com
SUMMARY:QuiltNFriends (Splinter Group)
DESCRIPTION:Meets at Stallsville Church in Summerville every Werdnesday \n10-3
URL:https://cobblestonequilters.com/events/quilt-friends-splinter-group/2025-11-19/
LOCATION:Stallsville Methodist Church\, 255 Stallsville Loop\, Summerville\, SC
ORGANIZER;CN="Cobblestone Quilters Guild":MAILTO:website@csq.websmithshop.com/
END:VEVENT
BEGIN:VEVENT
DTSTART;TZID=America/New_York:20251120T173000
DTEND;TZID=America/New_York:20251120T200000
DTSTAMP:20260425T195218
CREATED:20241204T185325Z
LAST-MODIFIED:20241204T185325Z
UID:10002034-1763659800-1763668800@cobblestonequilters.com
SUMMARY:Bonneau Quilting Group (Splinter Group)
DESCRIPTION:Meets 3rd Thursdays at Arise Church in Bonneau \n5:30
URL:https://cobblestonequilters.com/events/bonneau-quilting-group-splinter-group-3/2025-11-20/
LOCATION:Arise Church\, 1253 Long Acre Drive\, Bonneau\, SC\, 29431\, United States
ORGANIZER;CN="Cobblestone Quilters Guild":MAILTO:website@csq.websmithshop.com/
END:VEVENT
BEGIN:VEVENT
DTSTART;TZID=America/New_York:20251121T110000
DTEND;TZID=America/New_York:20251121T160000
DTSTAMP:20260425T195218
CREATED:20241201T141716Z
LAST-MODIFIED:20241204T171643Z
UID:10001297-1763722800-1763740800@cobblestonequilters.com
SUMMARY:Friendship Quilting Group (Splinter Group)
DESCRIPTION:Hanahan Senior Center \nEvery Friday \nll:15 – 5 \n 
URL:https://cobblestonequilters.com/events/friendship-quilting-group-splinter-group-9/2025-11-21/
LOCATION:Hanahan Senior Center\, 3100 Mabeline Road\, Hanahan\, SC
ORGANIZER;CN="Cobblestone Quilters Guild":MAILTO:website@csq.websmithshop.com/
END:VEVENT
BEGIN:VEVENT
DTSTART;TZID=America/New_York:20251126T100000
DTEND;TZID=America/New_York:20251126T150000
DTSTAMP:20260425T195218
CREATED:20241204T181508Z
LAST-MODIFIED:20250810T154125Z
UID:10002457-1764151200-1764169200@cobblestonequilters.com
SUMMARY:QuiltNFriends (Splinter Group)
DESCRIPTION:Meets at Stallsville Church in Summerville every Werdnesday \n10-3
URL:https://cobblestonequilters.com/events/quilt-friends-splinter-group/2025-11-26/
LOCATION:Stallsville Methodist Church\, 255 Stallsville Loop\, Summerville\, SC
ORGANIZER;CN="Cobblestone Quilters Guild":MAILTO:website@csq.websmithshop.com/
END:VEVENT
BEGIN:VEVENT
DTSTART;TZID=America/New_York:20251128T110000
DTEND;TZID=America/New_York:20251128T160000
DTSTAMP:20260425T195218
CREATED:20241201T141716Z
LAST-MODIFIED:20241204T171643Z
UID:10001298-1764327600-1764345600@cobblestonequilters.com
SUMMARY:Friendship Quilting Group (Splinter Group)
DESCRIPTION:Hanahan Senior Center \nEvery Friday \nll:15 – 5 \n 
URL:https://cobblestonequilters.com/events/friendship-quilting-group-splinter-group-9/2025-11-28/
LOCATION:Hanahan Senior Center\, 3100 Mabeline Road\, Hanahan\, SC
ORGANIZER;CN="Cobblestone Quilters Guild":MAILTO:website@csq.websmithshop.com/
END:VEVENT
END:VCALENDAR