BEGIN:VCALENDAR
VERSION:2.0
PRODID:-//Cobblestone Quilters Guild - ECPv6.15.20//NONSGML v1.0//EN
CALSCALE:GREGORIAN
METHOD:PUBLISH
X-ORIGINAL-URL:https://cobblestonequilters.com
X-WR-CALDESC:Events for Cobblestone Quilters Guild
REFRESH-INTERVAL;VALUE=DURATION:PT1H
X-Robots-Tag:noindex
X-PUBLISHED-TTL:PT1H
BEGIN:VTIMEZONE
TZID:America/New_York
BEGIN:DAYLIGHT
TZOFFSETFROM:-0500
TZOFFSETTO:-0400
TZNAME:EDT
DTSTART:20240310T070000
END:DAYLIGHT
BEGIN:STANDARD
TZOFFSETFROM:-0400
TZOFFSETTO:-0500
TZNAME:EST
DTSTART:20241103T060000
END:STANDARD
BEGIN:DAYLIGHT
TZOFFSETFROM:-0500
TZOFFSETTO:-0400
TZNAME:EDT
DTSTART:20250309T070000
END:DAYLIGHT
BEGIN:STANDARD
TZOFFSETFROM:-0400
TZOFFSETTO:-0500
TZNAME:EST
DTSTART:20251102T060000
END:STANDARD
BEGIN:DAYLIGHT
TZOFFSETFROM:-0500
TZOFFSETTO:-0400
TZNAME:EDT
DTSTART:20260308T070000
END:DAYLIGHT
BEGIN:STANDARD
TZOFFSETFROM:-0400
TZOFFSETTO:-0500
TZNAME:EST
DTSTART:20261101T060000
END:STANDARD
END:VTIMEZONE
BEGIN:VEVENT
DTSTART;TZID=America/New_York:20250903T100000
DTEND;TZID=America/New_York:20250903T150000
DTSTAMP:20260425T230817
CREATED:20241204T181508Z
LAST-MODIFIED:20250810T154125Z
UID:10002445-1756893600-1756911600@cobblestonequilters.com
SUMMARY:QuiltNFriends (Splinter Group)
DESCRIPTION:Meets at Stallsville Church in Summerville every Werdnesday \n10-3
URL:https://cobblestonequilters.com/events/quilt-friends-splinter-group/2025-09-03/
LOCATION:Stallsville Methodist Church\, 255 Stallsville Loop\, Summerville\, SC
ORGANIZER;CN="Cobblestone Quilters Guild":MAILTO:website@csq.websmithshop.com/
END:VEVENT
BEGIN:VEVENT
DTSTART;TZID=America/New_York:20250904T173000
DTEND;TZID=America/New_York:20250904T200000
DTSTAMP:20260425T230817
CREATED:20241204T184726Z
LAST-MODIFIED:20241204T184807Z
UID:10001912-1757007000-1757016000@cobblestonequilters.com
SUMMARY:Bonneau Quilting Group (Splinter Group)
DESCRIPTION:Meets  1st Thursdays at Arise Church Fellowship Hall \n5:30-8
URL:https://cobblestonequilters.com/events/bonneau-quilting-group-splinter-group/2025-09-04/
LOCATION:Arise Church\, 1253 Long Acre Drive\, Bonneau\, SC\, 29431\, United States
ORGANIZER;CN="Cobblestone Quilters Guild":MAILTO:website@csq.websmithshop.com/
END:VEVENT
BEGIN:VEVENT
DTSTART;TZID=America/New_York:20250905T110000
DTEND;TZID=America/New_York:20250905T160000
DTSTAMP:20260425T230817
CREATED:20241201T141716Z
LAST-MODIFIED:20241204T171643Z
UID:10001286-1757070000-1757088000@cobblestonequilters.com
SUMMARY:Friendship Quilting Group (Splinter Group)
DESCRIPTION:Hanahan Senior Center \nEvery Friday \nll:15 – 5 \n 
URL:https://cobblestonequilters.com/events/friendship-quilting-group-splinter-group-9/2025-09-05/
LOCATION:Hanahan Senior Center\, 3100 Mabeline Road\, Hanahan\, SC
ORGANIZER;CN="Cobblestone Quilters Guild":MAILTO:website@csq.websmithshop.com/
END:VEVENT
BEGIN:VEVENT
DTSTART;TZID=America/New_York:20250909T100000
DTEND;TZID=America/New_York:20250909T120000
DTSTAMP:20260425T230817
CREATED:20241204T184130Z
LAST-MODIFIED:20241204T184130Z
UID:10001851-1757412000-1757419200@cobblestonequilters.com
SUMMARY:Duck Ditch Quilters (Splinter Group)
DESCRIPTION:Meets 2nd Tuesday of Each month at 10:00 \nSt. Luke’s Lutheran Church\, Summerville\, SC
URL:https://cobblestonequilters.com/events/duck-ditch-quilters-splinter-group/2025-09-09/
LOCATION:St. Luke’s Lutheran Church\, 200 Central Avenue\, Summerville\, United States
ORGANIZER;CN="Cobblestone Quilters Guild":MAILTO:website@csq.websmithshop.com/
END:VEVENT
BEGIN:VEVENT
DTSTART;TZID=America/New_York:20250909T183000
DTEND;TZID=America/New_York:20250909T210000
DTSTAMP:20260425T230817
CREATED:20241204T183516Z
LAST-MODIFIED:20241204T183516Z
UID:10001791-1757442600-1757451600@cobblestonequilters.com
SUMMARY:Indigo Quilters (Splinter Group)
DESCRIPTION:Meets 2nd Tuesday at 6:30 pm \nREV Credit Union
URL:https://cobblestonequilters.com/events/indigo-quilters-splinter-group/2025-09-09/
LOCATION:REV Credit Union Coleman\, 847 Coleman Blvd\, Mt Pleasant\, SC
ORGANIZER;CN="Cobblestone Quilters Guild":MAILTO:website@csq.websmithshop.com/
END:VEVENT
BEGIN:VEVENT
DTSTART;TZID=America/New_York:20250910T100000
DTEND;TZID=America/New_York:20250910T150000
DTSTAMP:20260425T230817
CREATED:20241204T181508Z
LAST-MODIFIED:20250810T154125Z
UID:10002446-1757498400-1757516400@cobblestonequilters.com
SUMMARY:QuiltNFriends (Splinter Group)
DESCRIPTION:Meets at Stallsville Church in Summerville every Werdnesday \n10-3
URL:https://cobblestonequilters.com/events/quilt-friends-splinter-group/2025-09-10/
LOCATION:Stallsville Methodist Church\, 255 Stallsville Loop\, Summerville\, SC
ORGANIZER;CN="Cobblestone Quilters Guild":MAILTO:website@csq.websmithshop.com/
END:VEVENT
BEGIN:VEVENT
DTSTART;TZID=America/New_York:20250911T173000
DTEND;TZID=America/New_York:20250911T200000
DTSTAMP:20260425T230817
CREATED:20241204T185028Z
LAST-MODIFIED:20241204T185551Z
UID:10002092-1757611800-1757620800@cobblestonequilters.com
SUMMARY:Bonneau Quilting Group (Splinter Group)
DESCRIPTION:Meets at Arise Church 2nd Thursdays \n5:30
URL:https://cobblestonequilters.com/events/bonneau-quilting-group-splinter-group-2/2025-09-11/
LOCATION:Arise Church\, 1253 Long Acre Drive\, Bonneau\, SC\, 29431\, United States
ORGANIZER;CN="Cobblestone Quilters Guild":MAILTO:website@csq.websmithshop.com/
END:VEVENT
BEGIN:VEVENT
DTSTART;TZID=America/New_York:20250912T110000
DTEND;TZID=America/New_York:20250912T160000
DTSTAMP:20260425T230817
CREATED:20241201T141716Z
LAST-MODIFIED:20241204T171643Z
UID:10001287-1757674800-1757692800@cobblestonequilters.com
SUMMARY:Friendship Quilting Group (Splinter Group)
DESCRIPTION:Hanahan Senior Center \nEvery Friday \nll:15 – 5 \n 
URL:https://cobblestonequilters.com/events/friendship-quilting-group-splinter-group-9/2025-09-12/
LOCATION:Hanahan Senior Center\, 3100 Mabeline Road\, Hanahan\, SC
ORGANIZER;CN="Cobblestone Quilters Guild":MAILTO:website@csq.websmithshop.com/
END:VEVENT
BEGIN:VEVENT
DTSTART;TZID=America/New_York:20250913T093000
DTEND;TZID=America/New_York:20250913T160000
DTSTAMP:20260425T230817
CREATED:20250803T124559Z
LAST-MODIFIED:20250803T124559Z
UID:10002392-1757755800-1757779200@cobblestonequilters.com
SUMMARY:Monthly Guild Meeting
DESCRIPTION:9:30 Business Meeting \nAfternoon class:  Applique
URL:https://cobblestonequilters.com/events/monthly-guild-meeting/2025-09-13/
LOCATION:Yeamans Presbyterian Park Church\, 5931 Murray Drive\, Hanahan\, SC\, 29410
ORGANIZER;CN="Cobblestone Quilters Guild":MAILTO:website@csq.websmithshop.com/
END:VEVENT
BEGIN:VEVENT
DTSTART;TZID=America/New_York:20250913T093000
DTEND;TZID=America/New_York:20250913T160000
DTSTAMP:20260425T230817
CREATED:20250803T124829Z
LAST-MODIFIED:20250803T124829Z
UID:10002393-1757755800-1757779200@cobblestonequilters.com
SUMMARY:Monthly Guild Meeting
DESCRIPTION:9:30  Business Meeting and Presentation \n12:30 – Legit kits with Kristy Rollins
URL:https://cobblestonequilters.com/events/monthly-guild-meeting-2/
LOCATION:Yeamans Presbyterian Park Church\, 5931 Murray Drive\, Hanahan\, SC\, 29410
ORGANIZER;CN="Cobblestone Quilters Guild":MAILTO:website@csq.websmithshop.com/
END:VEVENT
BEGIN:VEVENT
DTSTART;TZID=America/New_York:20250917T100000
DTEND;TZID=America/New_York:20250917T150000
DTSTAMP:20260425T230817
CREATED:20241204T181508Z
LAST-MODIFIED:20250810T154125Z
UID:10002447-1758103200-1758121200@cobblestonequilters.com
SUMMARY:QuiltNFriends (Splinter Group)
DESCRIPTION:Meets at Stallsville Church in Summerville every Werdnesday \n10-3
URL:https://cobblestonequilters.com/events/quilt-friends-splinter-group/2025-09-17/
LOCATION:Stallsville Methodist Church\, 255 Stallsville Loop\, Summerville\, SC
ORGANIZER;CN="Cobblestone Quilters Guild":MAILTO:website@csq.websmithshop.com/
END:VEVENT
BEGIN:VEVENT
DTSTART;TZID=America/New_York:20250918T173000
DTEND;TZID=America/New_York:20250918T200000
DTSTAMP:20260425T230817
CREATED:20241204T185325Z
LAST-MODIFIED:20241204T185325Z
UID:10002032-1758216600-1758225600@cobblestonequilters.com
SUMMARY:Bonneau Quilting Group (Splinter Group)
DESCRIPTION:Meets 3rd Thursdays at Arise Church in Bonneau \n5:30
URL:https://cobblestonequilters.com/events/bonneau-quilting-group-splinter-group-3/2025-09-18/
LOCATION:Arise Church\, 1253 Long Acre Drive\, Bonneau\, SC\, 29431\, United States
ORGANIZER;CN="Cobblestone Quilters Guild":MAILTO:website@csq.websmithshop.com/
END:VEVENT
BEGIN:VEVENT
DTSTART;TZID=America/New_York:20250919T110000
DTEND;TZID=America/New_York:20250919T160000
DTSTAMP:20260425T230817
CREATED:20241201T141716Z
LAST-MODIFIED:20241204T171643Z
UID:10001288-1758279600-1758297600@cobblestonequilters.com
SUMMARY:Friendship Quilting Group (Splinter Group)
DESCRIPTION:Hanahan Senior Center \nEvery Friday \nll:15 – 5 \n 
URL:https://cobblestonequilters.com/events/friendship-quilting-group-splinter-group-9/2025-09-19/
LOCATION:Hanahan Senior Center\, 3100 Mabeline Road\, Hanahan\, SC
ORGANIZER;CN="Cobblestone Quilters Guild":MAILTO:website@csq.websmithshop.com/
END:VEVENT
BEGIN:VEVENT
DTSTART;TZID=America/New_York:20250924T100000
DTEND;TZID=America/New_York:20250924T150000
DTSTAMP:20260425T230817
CREATED:20241204T181508Z
LAST-MODIFIED:20250810T154125Z
UID:10002448-1758708000-1758726000@cobblestonequilters.com
SUMMARY:QuiltNFriends (Splinter Group)
DESCRIPTION:Meets at Stallsville Church in Summerville every Werdnesday \n10-3
URL:https://cobblestonequilters.com/events/quilt-friends-splinter-group/2025-09-24/
LOCATION:Stallsville Methodist Church\, 255 Stallsville Loop\, Summerville\, SC
ORGANIZER;CN="Cobblestone Quilters Guild":MAILTO:website@csq.websmithshop.com/
END:VEVENT
BEGIN:VEVENT
DTSTART;TZID=America/New_York:20250926T110000
DTEND;TZID=America/New_York:20250926T160000
DTSTAMP:20260425T230817
CREATED:20241201T141716Z
LAST-MODIFIED:20241204T171643Z
UID:10001289-1758884400-1758902400@cobblestonequilters.com
SUMMARY:Friendship Quilting Group (Splinter Group)
DESCRIPTION:Hanahan Senior Center \nEvery Friday \nll:15 – 5 \n 
URL:https://cobblestonequilters.com/events/friendship-quilting-group-splinter-group-9/2025-09-26/
LOCATION:Hanahan Senior Center\, 3100 Mabeline Road\, Hanahan\, SC
ORGANIZER;CN="Cobblestone Quilters Guild":MAILTO:website@csq.websmithshop.com/
END:VEVENT
END:VCALENDAR