BEGIN:VCALENDAR
VERSION:2.0
PRODID:-//Cobblestone Quilters Guild - ECPv6.15.20//NONSGML v1.0//EN
CALSCALE:GREGORIAN
METHOD:PUBLISH
X-WR-CALNAME:Cobblestone Quilters Guild
X-ORIGINAL-URL:https://cobblestonequilters.com
X-WR-CALDESC:Events for Cobblestone Quilters Guild
REFRESH-INTERVAL;VALUE=DURATION:PT1H
X-Robots-Tag:noindex
X-PUBLISHED-TTL:PT1H
BEGIN:VTIMEZONE
TZID:America/New_York
BEGIN:DAYLIGHT
TZOFFSETFROM:-0500
TZOFFSETTO:-0400
TZNAME:EDT
DTSTART:20250309T070000
END:DAYLIGHT
BEGIN:STANDARD
TZOFFSETFROM:-0400
TZOFFSETTO:-0500
TZNAME:EST
DTSTART:20251102T060000
END:STANDARD
BEGIN:DAYLIGHT
TZOFFSETFROM:-0500
TZOFFSETTO:-0400
TZNAME:EDT
DTSTART:20260308T070000
END:DAYLIGHT
BEGIN:STANDARD
TZOFFSETFROM:-0400
TZOFFSETTO:-0500
TZNAME:EST
DTSTART:20261101T060000
END:STANDARD
BEGIN:DAYLIGHT
TZOFFSETFROM:-0500
TZOFFSETTO:-0400
TZNAME:EDT
DTSTART:20270314T070000
END:DAYLIGHT
BEGIN:STANDARD
TZOFFSETFROM:-0400
TZOFFSETTO:-0500
TZNAME:EST
DTSTART:20271107T060000
END:STANDARD
END:VTIMEZONE
BEGIN:VEVENT
DTSTART;TZID=America/New_York:20260109T110000
DTEND;TZID=America/New_York:20260109T160000
DTSTAMP:20260425T195607
CREATED:20241201T141716Z
LAST-MODIFIED:20241204T171643Z
UID:10001304-1767956400-1767974400@cobblestonequilters.com
SUMMARY:Friendship Quilting Group (Splinter Group)
DESCRIPTION:Hanahan Senior Center \nEvery Friday \nll:15 – 5 \n 
URL:https://cobblestonequilters.com/events/friendship-quilting-group-splinter-group-9/2026-01-09/
LOCATION:Hanahan Senior Center\, 3100 Mabeline Road\, Hanahan\, SC
ORGANIZER;CN="Cobblestone Quilters Guild":MAILTO:website@csq.websmithshop.com/
END:VEVENT
BEGIN:VEVENT
DTSTART;TZID=America/New_York:20260110T080000
DTEND;TZID=America/New_York:20260110T170000
DTSTAMP:20260425T195607
CREATED:20251230T135532Z
LAST-MODIFIED:20260101T130035Z
UID:10002859-1768032000-1768064400@cobblestonequilters.com
SUMMARY:Monthly Guild Meeting
DESCRIPTION:9:30    Business Meeting  AM \nWorkshop PM
URL:https://cobblestonequilters.com/events/monthly-guild-meeting-6/2026-01-10/1/
LOCATION:Yeamans Presbyterian Park Church\, 5931 Murray Drive\, Hanahan\, SC\, 29410
ORGANIZER;CN="Cobblestone Quilters Guild":MAILTO:website@csq.websmithshop.com/
END:VEVENT
BEGIN:VEVENT
DTSTART;TZID=America/New_York:20260110T110000
DTEND;TZID=America/New_York:20260110T130000
DTSTAMP:20260425T195607
CREATED:20251230T135532Z
LAST-MODIFIED:20260101T130035Z
UID:10002922-1768042800-1768050000@cobblestonequilters.com
SUMMARY:Monthly Guild Meeting
DESCRIPTION:9:30    Business Meeting  AM \nWorkshop PM
URL:https://cobblestonequilters.com/events/monthly-guild-meeting-6/2026-01-10/2/
LOCATION:Yeamans Presbyterian Park Church\, 5931 Murray Drive\, Hanahan\, SC\, 29410
ORGANIZER;CN="Cobblestone Quilters Guild":MAILTO:website@csq.websmithshop.com/
END:VEVENT
BEGIN:VEVENT
DTSTART;TZID=America/New_York:20260113T100000
DTEND;TZID=America/New_York:20260113T120000
DTSTAMP:20260425T195607
CREATED:20241204T184130Z
LAST-MODIFIED:20241204T184130Z
UID:10001855-1768298400-1768305600@cobblestonequilters.com
SUMMARY:Duck Ditch Quilters (Splinter Group)
DESCRIPTION:Meets 2nd Tuesday of Each month at 10:00 \nSt. Luke’s Lutheran Church\, Summerville\, SC
URL:https://cobblestonequilters.com/events/duck-ditch-quilters-splinter-group/2026-01-13/
LOCATION:St. Luke’s Lutheran Church\, 200 Central Avenue\, Summerville\, United States
ORGANIZER;CN="Cobblestone Quilters Guild":MAILTO:website@csq.websmithshop.com/
END:VEVENT
BEGIN:VEVENT
DTSTART;TZID=America/New_York:20260113T183000
DTEND;TZID=America/New_York:20260113T210000
DTSTAMP:20260425T195607
CREATED:20241204T183516Z
LAST-MODIFIED:20241204T183516Z
UID:10001795-1768329000-1768338000@cobblestonequilters.com
SUMMARY:Indigo Quilters (Splinter Group)
DESCRIPTION:Meets 2nd Tuesday at 6:30 pm \nREV Credit Union
URL:https://cobblestonequilters.com/events/indigo-quilters-splinter-group/2026-01-13/
LOCATION:REV Credit Union Coleman\, 847 Coleman Blvd\, Mt Pleasant\, SC
ORGANIZER;CN="Cobblestone Quilters Guild":MAILTO:website@csq.websmithshop.com/
END:VEVENT
BEGIN:VEVENT
DTSTART;TZID=America/New_York:20260114T100000
DTEND;TZID=America/New_York:20260114T150000
DTSTAMP:20260425T195607
CREATED:20241204T181508Z
LAST-MODIFIED:20250810T154125Z
UID:10002464-1768384800-1768402800@cobblestonequilters.com
SUMMARY:QuiltNFriends (Splinter Group)
DESCRIPTION:Meets at Stallsville Church in Summerville every Werdnesday \n10-3
URL:https://cobblestonequilters.com/events/quilt-friends-splinter-group/2026-01-14/
LOCATION:Stallsville Methodist Church\, 255 Stallsville Loop\, Summerville\, SC
ORGANIZER;CN="Cobblestone Quilters Guild":MAILTO:website@csq.websmithshop.com/
END:VEVENT
BEGIN:VEVENT
DTSTART;TZID=America/New_York:20260115T173000
DTEND;TZID=America/New_York:20260115T200000
DTSTAMP:20260425T195607
CREATED:20241204T185325Z
LAST-MODIFIED:20241204T185325Z
UID:10002036-1768498200-1768507200@cobblestonequilters.com
SUMMARY:Bonneau Quilting Group (Splinter Group)
DESCRIPTION:Meets 3rd Thursdays at Arise Church in Bonneau \n5:30
URL:https://cobblestonequilters.com/events/bonneau-quilting-group-splinter-group-3/2026-01-15/
LOCATION:Arise Church\, 1253 Long Acre Drive\, Bonneau\, SC\, 29431\, United States
ORGANIZER;CN="Cobblestone Quilters Guild":MAILTO:website@csq.websmithshop.com/
END:VEVENT
BEGIN:VEVENT
DTSTART;TZID=America/New_York:20260116T110000
DTEND;TZID=America/New_York:20260116T160000
DTSTAMP:20260425T195607
CREATED:20241201T141716Z
LAST-MODIFIED:20241204T171643Z
UID:10001305-1768561200-1768579200@cobblestonequilters.com
SUMMARY:Friendship Quilting Group (Splinter Group)
DESCRIPTION:Hanahan Senior Center \nEvery Friday \nll:15 – 5 \n 
URL:https://cobblestonequilters.com/events/friendship-quilting-group-splinter-group-9/2026-01-16/
LOCATION:Hanahan Senior Center\, 3100 Mabeline Road\, Hanahan\, SC
ORGANIZER;CN="Cobblestone Quilters Guild":MAILTO:website@csq.websmithshop.com/
END:VEVENT
BEGIN:VEVENT
DTSTART;TZID=America/New_York:20260121T100000
DTEND;TZID=America/New_York:20260121T120000
DTSTAMP:20260425T195607
CREATED:20251230T140746Z
LAST-MODIFIED:20251231T231548Z
UID:10002848-1768989600-1768996800@cobblestonequilters.com
SUMMARY:Patchwork Gals (Splinter Group)
DESCRIPTION:Wando Mt. Pleasant Library \nMeets the 3rd Wednesday of each month \nMeeting starts at 10:00 \nALL quilters are WELCOME!
URL:https://cobblestonequilters.com/events/patchwork-gals-splinter-group-2-2/2026-01-21/
LOCATION:Wando Mount Pleasant Library\, 1400 Carolina Boulevard\, Mount Pleasant\, SC\, 29466\, United States
ORGANIZER;CN="Cobblestone Quilters Guild":MAILTO:website@csq.websmithshop.com/
END:VEVENT
BEGIN:VEVENT
DTSTART;TZID=America/New_York:20260121T100000
DTEND;TZID=America/New_York:20260121T150000
DTSTAMP:20260425T195607
CREATED:20241204T181508Z
LAST-MODIFIED:20250810T154125Z
UID:10002465-1768989600-1769007600@cobblestonequilters.com
SUMMARY:QuiltNFriends (Splinter Group)
DESCRIPTION:Meets at Stallsville Church in Summerville every Werdnesday \n10-3
URL:https://cobblestonequilters.com/events/quilt-friends-splinter-group/2026-01-21/
LOCATION:Stallsville Methodist Church\, 255 Stallsville Loop\, Summerville\, SC
ORGANIZER;CN="Cobblestone Quilters Guild":MAILTO:website@csq.websmithshop.com/
END:VEVENT
BEGIN:VEVENT
DTSTART;TZID=America/New_York:20260123T110000
DTEND;TZID=America/New_York:20260123T160000
DTSTAMP:20260425T195607
CREATED:20241201T141716Z
LAST-MODIFIED:20241204T171643Z
UID:10001306-1769166000-1769184000@cobblestonequilters.com
SUMMARY:Friendship Quilting Group (Splinter Group)
DESCRIPTION:Hanahan Senior Center \nEvery Friday \nll:15 – 5 \n 
URL:https://cobblestonequilters.com/events/friendship-quilting-group-splinter-group-9/2026-01-23/
LOCATION:Hanahan Senior Center\, 3100 Mabeline Road\, Hanahan\, SC
ORGANIZER;CN="Cobblestone Quilters Guild":MAILTO:website@csq.websmithshop.com/
END:VEVENT
BEGIN:VEVENT
DTSTART;TZID=America/New_York:20260128T100000
DTEND;TZID=America/New_York:20260128T150000
DTSTAMP:20260425T195607
CREATED:20241204T181508Z
LAST-MODIFIED:20250810T154125Z
UID:10002466-1769594400-1769612400@cobblestonequilters.com
SUMMARY:QuiltNFriends (Splinter Group)
DESCRIPTION:Meets at Stallsville Church in Summerville every Werdnesday \n10-3
URL:https://cobblestonequilters.com/events/quilt-friends-splinter-group/2026-01-28/
LOCATION:Stallsville Methodist Church\, 255 Stallsville Loop\, Summerville\, SC
ORGANIZER;CN="Cobblestone Quilters Guild":MAILTO:website@csq.websmithshop.com/
END:VEVENT
BEGIN:VEVENT
DTSTART;TZID=America/New_York:20260130T110000
DTEND;TZID=America/New_York:20260130T160000
DTSTAMP:20260425T195607
CREATED:20241201T141716Z
LAST-MODIFIED:20241204T171643Z
UID:10001307-1769770800-1769788800@cobblestonequilters.com
SUMMARY:Friendship Quilting Group (Splinter Group)
DESCRIPTION:Hanahan Senior Center \nEvery Friday \nll:15 – 5 \n 
URL:https://cobblestonequilters.com/events/friendship-quilting-group-splinter-group-9/2026-01-30/
LOCATION:Hanahan Senior Center\, 3100 Mabeline Road\, Hanahan\, SC
ORGANIZER;CN="Cobblestone Quilters Guild":MAILTO:website@csq.websmithshop.com/
END:VEVENT
BEGIN:VEVENT
DTSTART;TZID=America/New_York:20260204T100000
DTEND;TZID=America/New_York:20260204T150000
DTSTAMP:20260425T195607
CREATED:20241204T181508Z
LAST-MODIFIED:20250810T154125Z
UID:10002467-1770199200-1770217200@cobblestonequilters.com
SUMMARY:QuiltNFriends (Splinter Group)
DESCRIPTION:Meets at Stallsville Church in Summerville every Werdnesday \n10-3
URL:https://cobblestonequilters.com/events/quilt-friends-splinter-group/2026-02-04/
LOCATION:Stallsville Methodist Church\, 255 Stallsville Loop\, Summerville\, SC
ORGANIZER;CN="Cobblestone Quilters Guild":MAILTO:website@csq.websmithshop.com/
END:VEVENT
BEGIN:VEVENT
DTSTART;TZID=America/New_York:20260205T173000
DTEND;TZID=America/New_York:20260205T200000
DTSTAMP:20260425T195607
CREATED:20241204T184726Z
LAST-MODIFIED:20241204T184807Z
UID:10001917-1770312600-1770321600@cobblestonequilters.com
SUMMARY:Bonneau Quilting Group (Splinter Group)
DESCRIPTION:Meets  1st Thursdays at Arise Church Fellowship Hall \n5:30-8
URL:https://cobblestonequilters.com/events/bonneau-quilting-group-splinter-group/2026-02-05/
LOCATION:Arise Church\, 1253 Long Acre Drive\, Bonneau\, SC\, 29431\, United States
ORGANIZER;CN="Cobblestone Quilters Guild":MAILTO:website@csq.websmithshop.com/
END:VEVENT
BEGIN:VEVENT
DTSTART;TZID=America/New_York:20260206T110000
DTEND;TZID=America/New_York:20260206T160000
DTSTAMP:20260425T195607
CREATED:20241201T141716Z
LAST-MODIFIED:20241204T171643Z
UID:10001308-1770375600-1770393600@cobblestonequilters.com
SUMMARY:Friendship Quilting Group (Splinter Group)
DESCRIPTION:Hanahan Senior Center \nEvery Friday \nll:15 – 5 \n 
URL:https://cobblestonequilters.com/events/friendship-quilting-group-splinter-group-9/2026-02-06/
LOCATION:Hanahan Senior Center\, 3100 Mabeline Road\, Hanahan\, SC
ORGANIZER;CN="Cobblestone Quilters Guild":MAILTO:website@csq.websmithshop.com/
END:VEVENT
BEGIN:VEVENT
DTSTART;TZID=America/New_York:20260210T100000
DTEND;TZID=America/New_York:20260210T120000
DTSTAMP:20260425T195607
CREATED:20241204T184130Z
LAST-MODIFIED:20241204T184130Z
UID:10001856-1770717600-1770724800@cobblestonequilters.com
SUMMARY:Duck Ditch Quilters (Splinter Group)
DESCRIPTION:Meets 2nd Tuesday of Each month at 10:00 \nSt. Luke’s Lutheran Church\, Summerville\, SC
URL:https://cobblestonequilters.com/events/duck-ditch-quilters-splinter-group/2026-02-10/
LOCATION:St. Luke’s Lutheran Church\, 200 Central Avenue\, Summerville\, United States
ORGANIZER;CN="Cobblestone Quilters Guild":MAILTO:website@csq.websmithshop.com/
END:VEVENT
BEGIN:VEVENT
DTSTART;TZID=America/New_York:20260210T183000
DTEND;TZID=America/New_York:20260210T210000
DTSTAMP:20260425T195607
CREATED:20241204T183516Z
LAST-MODIFIED:20241204T183516Z
UID:10001796-1770748200-1770757200@cobblestonequilters.com
SUMMARY:Indigo Quilters (Splinter Group)
DESCRIPTION:Meets 2nd Tuesday at 6:30 pm \nREV Credit Union
URL:https://cobblestonequilters.com/events/indigo-quilters-splinter-group/2026-02-10/
LOCATION:REV Credit Union Coleman\, 847 Coleman Blvd\, Mt Pleasant\, SC
ORGANIZER;CN="Cobblestone Quilters Guild":MAILTO:website@csq.websmithshop.com/
END:VEVENT
BEGIN:VEVENT
DTSTART;TZID=America/New_York:20260211T100000
DTEND;TZID=America/New_York:20260211T150000
DTSTAMP:20260425T195607
CREATED:20241204T181508Z
LAST-MODIFIED:20250810T154125Z
UID:10002468-1770804000-1770822000@cobblestonequilters.com
SUMMARY:QuiltNFriends (Splinter Group)
DESCRIPTION:Meets at Stallsville Church in Summerville every Werdnesday \n10-3
URL:https://cobblestonequilters.com/events/quilt-friends-splinter-group/2026-02-11/
LOCATION:Stallsville Methodist Church\, 255 Stallsville Loop\, Summerville\, SC
ORGANIZER;CN="Cobblestone Quilters Guild":MAILTO:website@csq.websmithshop.com/
END:VEVENT
BEGIN:VEVENT
DTSTART;TZID=America/New_York:20260212T173000
DTEND;TZID=America/New_York:20260212T200000
DTSTAMP:20260425T195607
CREATED:20241204T185028Z
LAST-MODIFIED:20241204T185551Z
UID:10002097-1770917400-1770926400@cobblestonequilters.com
SUMMARY:Bonneau Quilting Group (Splinter Group)
DESCRIPTION:Meets at Arise Church 2nd Thursdays \n5:30
URL:https://cobblestonequilters.com/events/bonneau-quilting-group-splinter-group-2/2026-02-12/
LOCATION:Arise Church\, 1253 Long Acre Drive\, Bonneau\, SC\, 29431\, United States
ORGANIZER;CN="Cobblestone Quilters Guild":MAILTO:website@csq.websmithshop.com/
END:VEVENT
BEGIN:VEVENT
DTSTART;TZID=America/New_York:20260213T110000
DTEND;TZID=America/New_York:20260213T160000
DTSTAMP:20260425T195607
CREATED:20241201T141716Z
LAST-MODIFIED:20241204T171643Z
UID:10001309-1770980400-1770998400@cobblestonequilters.com
SUMMARY:Friendship Quilting Group (Splinter Group)
DESCRIPTION:Hanahan Senior Center \nEvery Friday \nll:15 – 5 \n 
URL:https://cobblestonequilters.com/events/friendship-quilting-group-splinter-group-9/2026-02-13/
LOCATION:Hanahan Senior Center\, 3100 Mabeline Road\, Hanahan\, SC
ORGANIZER;CN="Cobblestone Quilters Guild":MAILTO:website@csq.websmithshop.com/
END:VEVENT
BEGIN:VEVENT
DTSTART;TZID=America/New_York:20260214T093000
DTEND;TZID=America/New_York:20260214T150000
DTSTAMP:20260425T195607
CREATED:20251230T135532Z
LAST-MODIFIED:20260101T130035Z
UID:10002861-1771061400-1771081200@cobblestonequilters.com
SUMMARY:Monthly Guild Meeting
DESCRIPTION:9:30    Business Meeting  AM \nWorkshop PM
URL:https://cobblestonequilters.com/events/monthly-guild-meeting-6/2026-02-14/1/
LOCATION:Yeamans Presbyterian Park Church\, 5931 Murray Drive\, Hanahan\, SC\, 29410
ORGANIZER;CN="Cobblestone Quilters Guild":MAILTO:website@csq.websmithshop.com/
END:VEVENT
BEGIN:VEVENT
DTSTART;TZID=America/New_York:20260214T110000
DTEND;TZID=America/New_York:20260214T130000
DTSTAMP:20260425T195607
CREATED:20251230T135532Z
LAST-MODIFIED:20260101T130035Z
UID:10002923-1771066800-1771074000@cobblestonequilters.com
SUMMARY:Monthly Guild Meeting
DESCRIPTION:9:30    Business Meeting  AM \nWorkshop PM
URL:https://cobblestonequilters.com/events/monthly-guild-meeting-6/2026-02-14/2/
LOCATION:Yeamans Presbyterian Park Church\, 5931 Murray Drive\, Hanahan\, SC\, 29410
ORGANIZER;CN="Cobblestone Quilters Guild":MAILTO:website@csq.websmithshop.com/
END:VEVENT
BEGIN:VEVENT
DTSTART;TZID=America/New_York:20260218T100000
DTEND;TZID=America/New_York:20260218T120000
DTSTAMP:20260425T195607
CREATED:20251230T140746Z
LAST-MODIFIED:20251231T231548Z
UID:10002849-1771408800-1771416000@cobblestonequilters.com
SUMMARY:Patchwork Gals (Splinter Group)
DESCRIPTION:Wando Mt. Pleasant Library \nMeets the 3rd Wednesday of each month \nMeeting starts at 10:00 \nALL quilters are WELCOME!
URL:https://cobblestonequilters.com/events/patchwork-gals-splinter-group-2-2/2026-02-18/
LOCATION:Wando Mount Pleasant Library\, 1400 Carolina Boulevard\, Mount Pleasant\, SC\, 29466\, United States
ORGANIZER;CN="Cobblestone Quilters Guild":MAILTO:website@csq.websmithshop.com/
END:VEVENT
BEGIN:VEVENT
DTSTART;TZID=America/New_York:20260218T100000
DTEND;TZID=America/New_York:20260218T150000
DTSTAMP:20260425T195607
CREATED:20241204T181508Z
LAST-MODIFIED:20250810T154125Z
UID:10002469-1771408800-1771426800@cobblestonequilters.com
SUMMARY:QuiltNFriends (Splinter Group)
DESCRIPTION:Meets at Stallsville Church in Summerville every Werdnesday \n10-3
URL:https://cobblestonequilters.com/events/quilt-friends-splinter-group/2026-02-18/
LOCATION:Stallsville Methodist Church\, 255 Stallsville Loop\, Summerville\, SC
ORGANIZER;CN="Cobblestone Quilters Guild":MAILTO:website@csq.websmithshop.com/
END:VEVENT
BEGIN:VEVENT
DTSTART;TZID=America/New_York:20260219T173000
DTEND;TZID=America/New_York:20260219T200000
DTSTAMP:20260425T195607
CREATED:20241204T185325Z
LAST-MODIFIED:20241204T185325Z
UID:10002037-1771522200-1771531200@cobblestonequilters.com
SUMMARY:Bonneau Quilting Group (Splinter Group)
DESCRIPTION:Meets 3rd Thursdays at Arise Church in Bonneau \n5:30
URL:https://cobblestonequilters.com/events/bonneau-quilting-group-splinter-group-3/2026-02-19/
LOCATION:Arise Church\, 1253 Long Acre Drive\, Bonneau\, SC\, 29431\, United States
ORGANIZER;CN="Cobblestone Quilters Guild":MAILTO:website@csq.websmithshop.com/
END:VEVENT
BEGIN:VEVENT
DTSTART;TZID=America/New_York:20260220T110000
DTEND;TZID=America/New_York:20260220T160000
DTSTAMP:20260425T195607
CREATED:20241201T141716Z
LAST-MODIFIED:20241204T171643Z
UID:10001310-1771585200-1771603200@cobblestonequilters.com
SUMMARY:Friendship Quilting Group (Splinter Group)
DESCRIPTION:Hanahan Senior Center \nEvery Friday \nll:15 – 5 \n 
URL:https://cobblestonequilters.com/events/friendship-quilting-group-splinter-group-9/2026-02-20/
LOCATION:Hanahan Senior Center\, 3100 Mabeline Road\, Hanahan\, SC
ORGANIZER;CN="Cobblestone Quilters Guild":MAILTO:website@csq.websmithshop.com/
END:VEVENT
BEGIN:VEVENT
DTSTART;TZID=America/New_York:20260225T100000
DTEND;TZID=America/New_York:20260225T150000
DTSTAMP:20260425T195607
CREATED:20241204T181508Z
LAST-MODIFIED:20250810T154125Z
UID:10002470-1772013600-1772031600@cobblestonequilters.com
SUMMARY:QuiltNFriends (Splinter Group)
DESCRIPTION:Meets at Stallsville Church in Summerville every Werdnesday \n10-3
URL:https://cobblestonequilters.com/events/quilt-friends-splinter-group/2026-02-25/
LOCATION:Stallsville Methodist Church\, 255 Stallsville Loop\, Summerville\, SC
ORGANIZER;CN="Cobblestone Quilters Guild":MAILTO:website@csq.websmithshop.com/
END:VEVENT
BEGIN:VEVENT
DTSTART;TZID=America/New_York:20260227T110000
DTEND;TZID=America/New_York:20260227T160000
DTSTAMP:20260425T195607
CREATED:20241201T141716Z
LAST-MODIFIED:20241204T171643Z
UID:10001311-1772190000-1772208000@cobblestonequilters.com
SUMMARY:Friendship Quilting Group (Splinter Group)
DESCRIPTION:Hanahan Senior Center \nEvery Friday \nll:15 – 5 \n 
URL:https://cobblestonequilters.com/events/friendship-quilting-group-splinter-group-9/2026-02-27/
LOCATION:Hanahan Senior Center\, 3100 Mabeline Road\, Hanahan\, SC
ORGANIZER;CN="Cobblestone Quilters Guild":MAILTO:website@csq.websmithshop.com/
END:VEVENT
BEGIN:VEVENT
DTSTART;TZID=America/New_York:20260304T100000
DTEND;TZID=America/New_York:20260304T150000
DTSTAMP:20260425T195607
CREATED:20241204T181508Z
LAST-MODIFIED:20250810T154125Z
UID:10002471-1772618400-1772636400@cobblestonequilters.com
SUMMARY:QuiltNFriends (Splinter Group)
DESCRIPTION:Meets at Stallsville Church in Summerville every Werdnesday \n10-3
URL:https://cobblestonequilters.com/events/quilt-friends-splinter-group/2026-03-04/
LOCATION:Stallsville Methodist Church\, 255 Stallsville Loop\, Summerville\, SC
ORGANIZER;CN="Cobblestone Quilters Guild":MAILTO:website@csq.websmithshop.com/
END:VEVENT
END:VCALENDAR