BEGIN:VCALENDAR
VERSION:2.0
PRODID:-//Cobblestone Quilters Guild - ECPv6.15.20//NONSGML v1.0//EN
CALSCALE:GREGORIAN
METHOD:PUBLISH
X-WR-CALNAME:Cobblestone Quilters Guild
X-ORIGINAL-URL:https://cobblestonequilters.com
X-WR-CALDESC:Events for Cobblestone Quilters Guild
REFRESH-INTERVAL;VALUE=DURATION:PT1H
X-Robots-Tag:noindex
X-PUBLISHED-TTL:PT1H
BEGIN:VTIMEZONE
TZID:America/New_York
BEGIN:DAYLIGHT
TZOFFSETFROM:-0500
TZOFFSETTO:-0400
TZNAME:EDT
DTSTART:20240310T070000
END:DAYLIGHT
BEGIN:STANDARD
TZOFFSETFROM:-0400
TZOFFSETTO:-0500
TZNAME:EST
DTSTART:20241103T060000
END:STANDARD
BEGIN:DAYLIGHT
TZOFFSETFROM:-0500
TZOFFSETTO:-0400
TZNAME:EDT
DTSTART:20250309T070000
END:DAYLIGHT
BEGIN:STANDARD
TZOFFSETFROM:-0400
TZOFFSETTO:-0500
TZNAME:EST
DTSTART:20251102T060000
END:STANDARD
BEGIN:DAYLIGHT
TZOFFSETFROM:-0500
TZOFFSETTO:-0400
TZNAME:EDT
DTSTART:20260308T070000
END:DAYLIGHT
BEGIN:STANDARD
TZOFFSETFROM:-0400
TZOFFSETTO:-0500
TZNAME:EST
DTSTART:20261101T060000
END:STANDARD
BEGIN:DAYLIGHT
TZOFFSETFROM:-0500
TZOFFSETTO:-0400
TZNAME:EDT
DTSTART:20270314T070000
END:DAYLIGHT
BEGIN:STANDARD
TZOFFSETFROM:-0400
TZOFFSETTO:-0500
TZNAME:EST
DTSTART:20271107T060000
END:STANDARD
END:VTIMEZONE
BEGIN:VEVENT
DTSTART;TZID=America/New_York:20260204T100000
DTEND;TZID=America/New_York:20260204T150000
DTSTAMP:20260425T200332
CREATED:20241204T181508Z
LAST-MODIFIED:20250810T154125Z
UID:10002467-1770199200-1770217200@cobblestonequilters.com
SUMMARY:QuiltNFriends (Splinter Group)
DESCRIPTION:Meets at Stallsville Church in Summerville every Werdnesday \n10-3
URL:https://cobblestonequilters.com/events/quilt-friends-splinter-group/2026-02-04/
LOCATION:Stallsville Methodist Church\, 255 Stallsville Loop\, Summerville\, SC
ORGANIZER;CN="Cobblestone Quilters Guild":MAILTO:website@csq.websmithshop.com/
END:VEVENT
BEGIN:VEVENT
DTSTART;TZID=America/New_York:20260130T110000
DTEND;TZID=America/New_York:20260130T160000
DTSTAMP:20260425T200332
CREATED:20241201T141716Z
LAST-MODIFIED:20241204T171643Z
UID:10001307-1769770800-1769788800@cobblestonequilters.com
SUMMARY:Friendship Quilting Group (Splinter Group)
DESCRIPTION:Hanahan Senior Center \nEvery Friday \nll:15 – 5 \n 
URL:https://cobblestonequilters.com/events/friendship-quilting-group-splinter-group-9/2026-01-30/
LOCATION:Hanahan Senior Center\, 3100 Mabeline Road\, Hanahan\, SC
ORGANIZER;CN="Cobblestone Quilters Guild":MAILTO:website@csq.websmithshop.com/
END:VEVENT
BEGIN:VEVENT
DTSTART;TZID=America/New_York:20260128T100000
DTEND;TZID=America/New_York:20260128T150000
DTSTAMP:20260425T200332
CREATED:20241204T181508Z
LAST-MODIFIED:20250810T154125Z
UID:10002466-1769594400-1769612400@cobblestonequilters.com
SUMMARY:QuiltNFriends (Splinter Group)
DESCRIPTION:Meets at Stallsville Church in Summerville every Werdnesday \n10-3
URL:https://cobblestonequilters.com/events/quilt-friends-splinter-group/2026-01-28/
LOCATION:Stallsville Methodist Church\, 255 Stallsville Loop\, Summerville\, SC
ORGANIZER;CN="Cobblestone Quilters Guild":MAILTO:website@csq.websmithshop.com/
END:VEVENT
BEGIN:VEVENT
DTSTART;TZID=America/New_York:20260123T110000
DTEND;TZID=America/New_York:20260123T160000
DTSTAMP:20260425T200332
CREATED:20241201T141716Z
LAST-MODIFIED:20241204T171643Z
UID:10001306-1769166000-1769184000@cobblestonequilters.com
SUMMARY:Friendship Quilting Group (Splinter Group)
DESCRIPTION:Hanahan Senior Center \nEvery Friday \nll:15 – 5 \n 
URL:https://cobblestonequilters.com/events/friendship-quilting-group-splinter-group-9/2026-01-23/
LOCATION:Hanahan Senior Center\, 3100 Mabeline Road\, Hanahan\, SC
ORGANIZER;CN="Cobblestone Quilters Guild":MAILTO:website@csq.websmithshop.com/
END:VEVENT
BEGIN:VEVENT
DTSTART;TZID=America/New_York:20260121T100000
DTEND;TZID=America/New_York:20260121T150000
DTSTAMP:20260425T200332
CREATED:20241204T181508Z
LAST-MODIFIED:20250810T154125Z
UID:10002465-1768989600-1769007600@cobblestonequilters.com
SUMMARY:QuiltNFriends (Splinter Group)
DESCRIPTION:Meets at Stallsville Church in Summerville every Werdnesday \n10-3
URL:https://cobblestonequilters.com/events/quilt-friends-splinter-group/2026-01-21/
LOCATION:Stallsville Methodist Church\, 255 Stallsville Loop\, Summerville\, SC
ORGANIZER;CN="Cobblestone Quilters Guild":MAILTO:website@csq.websmithshop.com/
END:VEVENT
BEGIN:VEVENT
DTSTART;TZID=America/New_York:20260121T100000
DTEND;TZID=America/New_York:20260121T120000
DTSTAMP:20260425T200332
CREATED:20251230T140746Z
LAST-MODIFIED:20251231T231548Z
UID:10002848-1768989600-1768996800@cobblestonequilters.com
SUMMARY:Patchwork Gals (Splinter Group)
DESCRIPTION:Wando Mt. Pleasant Library \nMeets the 3rd Wednesday of each month \nMeeting starts at 10:00 \nALL quilters are WELCOME!
URL:https://cobblestonequilters.com/events/patchwork-gals-splinter-group-2-2/2026-01-21/
LOCATION:Wando Mount Pleasant Library\, 1400 Carolina Boulevard\, Mount Pleasant\, SC\, 29466\, United States
ORGANIZER;CN="Cobblestone Quilters Guild":MAILTO:website@csq.websmithshop.com/
END:VEVENT
BEGIN:VEVENT
DTSTART;TZID=America/New_York:20260116T110000
DTEND;TZID=America/New_York:20260116T160000
DTSTAMP:20260425T200332
CREATED:20241201T141716Z
LAST-MODIFIED:20241204T171643Z
UID:10001305-1768561200-1768579200@cobblestonequilters.com
SUMMARY:Friendship Quilting Group (Splinter Group)
DESCRIPTION:Hanahan Senior Center \nEvery Friday \nll:15 – 5 \n 
URL:https://cobblestonequilters.com/events/friendship-quilting-group-splinter-group-9/2026-01-16/
LOCATION:Hanahan Senior Center\, 3100 Mabeline Road\, Hanahan\, SC
ORGANIZER;CN="Cobblestone Quilters Guild":MAILTO:website@csq.websmithshop.com/
END:VEVENT
BEGIN:VEVENT
DTSTART;TZID=America/New_York:20260115T173000
DTEND;TZID=America/New_York:20260115T200000
DTSTAMP:20260425T200332
CREATED:20241204T185325Z
LAST-MODIFIED:20241204T185325Z
UID:10002036-1768498200-1768507200@cobblestonequilters.com
SUMMARY:Bonneau Quilting Group (Splinter Group)
DESCRIPTION:Meets 3rd Thursdays at Arise Church in Bonneau \n5:30
URL:https://cobblestonequilters.com/events/bonneau-quilting-group-splinter-group-3/2026-01-15/
LOCATION:Arise Church\, 1253 Long Acre Drive\, Bonneau\, SC\, 29431\, United States
ORGANIZER;CN="Cobblestone Quilters Guild":MAILTO:website@csq.websmithshop.com/
END:VEVENT
BEGIN:VEVENT
DTSTART;TZID=America/New_York:20260114T100000
DTEND;TZID=America/New_York:20260114T150000
DTSTAMP:20260425T200332
CREATED:20241204T181508Z
LAST-MODIFIED:20250810T154125Z
UID:10002464-1768384800-1768402800@cobblestonequilters.com
SUMMARY:QuiltNFriends (Splinter Group)
DESCRIPTION:Meets at Stallsville Church in Summerville every Werdnesday \n10-3
URL:https://cobblestonequilters.com/events/quilt-friends-splinter-group/2026-01-14/
LOCATION:Stallsville Methodist Church\, 255 Stallsville Loop\, Summerville\, SC
ORGANIZER;CN="Cobblestone Quilters Guild":MAILTO:website@csq.websmithshop.com/
END:VEVENT
BEGIN:VEVENT
DTSTART;TZID=America/New_York:20260113T183000
DTEND;TZID=America/New_York:20260113T210000
DTSTAMP:20260425T200332
CREATED:20241204T183516Z
LAST-MODIFIED:20241204T183516Z
UID:10001795-1768329000-1768338000@cobblestonequilters.com
SUMMARY:Indigo Quilters (Splinter Group)
DESCRIPTION:Meets 2nd Tuesday at 6:30 pm \nREV Credit Union
URL:https://cobblestonequilters.com/events/indigo-quilters-splinter-group/2026-01-13/
LOCATION:REV Credit Union Coleman\, 847 Coleman Blvd\, Mt Pleasant\, SC
ORGANIZER;CN="Cobblestone Quilters Guild":MAILTO:website@csq.websmithshop.com/
END:VEVENT
BEGIN:VEVENT
DTSTART;TZID=America/New_York:20260113T100000
DTEND;TZID=America/New_York:20260113T120000
DTSTAMP:20260425T200332
CREATED:20241204T184130Z
LAST-MODIFIED:20241204T184130Z
UID:10001855-1768298400-1768305600@cobblestonequilters.com
SUMMARY:Duck Ditch Quilters (Splinter Group)
DESCRIPTION:Meets 2nd Tuesday of Each month at 10:00 \nSt. Luke’s Lutheran Church\, Summerville\, SC
URL:https://cobblestonequilters.com/events/duck-ditch-quilters-splinter-group/2026-01-13/
LOCATION:St. Luke’s Lutheran Church\, 200 Central Avenue\, Summerville\, United States
ORGANIZER;CN="Cobblestone Quilters Guild":MAILTO:website@csq.websmithshop.com/
END:VEVENT
BEGIN:VEVENT
DTSTART;TZID=America/New_York:20260110T110000
DTEND;TZID=America/New_York:20260110T130000
DTSTAMP:20260425T200332
CREATED:20251230T135532Z
LAST-MODIFIED:20260101T130035Z
UID:10002922-1768042800-1768050000@cobblestonequilters.com
SUMMARY:Monthly Guild Meeting
DESCRIPTION:9:30    Business Meeting  AM \nWorkshop PM
URL:https://cobblestonequilters.com/events/monthly-guild-meeting-6/2026-01-10/2/
LOCATION:Yeamans Presbyterian Park Church\, 5931 Murray Drive\, Hanahan\, SC\, 29410
ORGANIZER;CN="Cobblestone Quilters Guild":MAILTO:website@csq.websmithshop.com/
END:VEVENT
BEGIN:VEVENT
DTSTART;TZID=America/New_York:20260110T080000
DTEND;TZID=America/New_York:20260110T170000
DTSTAMP:20260425T200332
CREATED:20251230T135532Z
LAST-MODIFIED:20260101T130035Z
UID:10002859-1768032000-1768064400@cobblestonequilters.com
SUMMARY:Monthly Guild Meeting
DESCRIPTION:9:30    Business Meeting  AM \nWorkshop PM
URL:https://cobblestonequilters.com/events/monthly-guild-meeting-6/2026-01-10/1/
LOCATION:Yeamans Presbyterian Park Church\, 5931 Murray Drive\, Hanahan\, SC\, 29410
ORGANIZER;CN="Cobblestone Quilters Guild":MAILTO:website@csq.websmithshop.com/
END:VEVENT
BEGIN:VEVENT
DTSTART;TZID=America/New_York:20260109T110000
DTEND;TZID=America/New_York:20260109T160000
DTSTAMP:20260425T200332
CREATED:20241201T141716Z
LAST-MODIFIED:20241204T171643Z
UID:10001304-1767956400-1767974400@cobblestonequilters.com
SUMMARY:Friendship Quilting Group (Splinter Group)
DESCRIPTION:Hanahan Senior Center \nEvery Friday \nll:15 – 5 \n 
URL:https://cobblestonequilters.com/events/friendship-quilting-group-splinter-group-9/2026-01-09/
LOCATION:Hanahan Senior Center\, 3100 Mabeline Road\, Hanahan\, SC
ORGANIZER;CN="Cobblestone Quilters Guild":MAILTO:website@csq.websmithshop.com/
END:VEVENT
BEGIN:VEVENT
DTSTART;TZID=America/New_York:20260108T173000
DTEND;TZID=America/New_York:20260108T200000
DTSTAMP:20260425T200332
CREATED:20241204T185028Z
LAST-MODIFIED:20241204T185551Z
UID:10002096-1767893400-1767902400@cobblestonequilters.com
SUMMARY:Bonneau Quilting Group (Splinter Group)
DESCRIPTION:Meets at Arise Church 2nd Thursdays \n5:30
URL:https://cobblestonequilters.com/events/bonneau-quilting-group-splinter-group-2/2026-01-08/
LOCATION:Arise Church\, 1253 Long Acre Drive\, Bonneau\, SC\, 29431\, United States
ORGANIZER;CN="Cobblestone Quilters Guild":MAILTO:website@csq.websmithshop.com/
END:VEVENT
BEGIN:VEVENT
DTSTART;TZID=America/New_York:20260107T100000
DTEND;TZID=America/New_York:20260107T150000
DTSTAMP:20260425T200332
CREATED:20241204T181508Z
LAST-MODIFIED:20250810T154125Z
UID:10002463-1767780000-1767798000@cobblestonequilters.com
SUMMARY:QuiltNFriends (Splinter Group)
DESCRIPTION:Meets at Stallsville Church in Summerville every Werdnesday \n10-3
URL:https://cobblestonequilters.com/events/quilt-friends-splinter-group/2026-01-07/
LOCATION:Stallsville Methodist Church\, 255 Stallsville Loop\, Summerville\, SC
ORGANIZER;CN="Cobblestone Quilters Guild":MAILTO:website@csq.websmithshop.com/
END:VEVENT
BEGIN:VEVENT
DTSTART;TZID=America/New_York:20260102T110000
DTEND;TZID=America/New_York:20260102T160000
DTSTAMP:20260425T200332
CREATED:20241201T141716Z
LAST-MODIFIED:20241204T171643Z
UID:10001303-1767351600-1767369600@cobblestonequilters.com
SUMMARY:Friendship Quilting Group (Splinter Group)
DESCRIPTION:Hanahan Senior Center \nEvery Friday \nll:15 – 5 \n 
URL:https://cobblestonequilters.com/events/friendship-quilting-group-splinter-group-9/2026-01-02/
LOCATION:Hanahan Senior Center\, 3100 Mabeline Road\, Hanahan\, SC
ORGANIZER;CN="Cobblestone Quilters Guild":MAILTO:website@csq.websmithshop.com/
END:VEVENT
BEGIN:VEVENT
DTSTART;TZID=America/New_York:20260101T173000
DTEND;TZID=America/New_York:20260101T200000
DTSTAMP:20260425T200332
CREATED:20241204T184726Z
LAST-MODIFIED:20241204T184807Z
UID:10001916-1767288600-1767297600@cobblestonequilters.com
SUMMARY:Bonneau Quilting Group (Splinter Group)
DESCRIPTION:Meets  1st Thursdays at Arise Church Fellowship Hall \n5:30-8
URL:https://cobblestonequilters.com/events/bonneau-quilting-group-splinter-group/2026-01-01/
LOCATION:Arise Church\, 1253 Long Acre Drive\, Bonneau\, SC\, 29431\, United States
ORGANIZER;CN="Cobblestone Quilters Guild":MAILTO:website@csq.websmithshop.com/
END:VEVENT
BEGIN:VEVENT
DTSTART;TZID=America/New_York:20251231T100000
DTEND;TZID=America/New_York:20251231T150000
DTSTAMP:20260425T200332
CREATED:20241204T181508Z
LAST-MODIFIED:20250810T154125Z
UID:10002462-1767175200-1767193200@cobblestonequilters.com
SUMMARY:QuiltNFriends (Splinter Group)
DESCRIPTION:Meets at Stallsville Church in Summerville every Werdnesday \n10-3
URL:https://cobblestonequilters.com/events/quilt-friends-splinter-group/2025-12-31/
LOCATION:Stallsville Methodist Church\, 255 Stallsville Loop\, Summerville\, SC
ORGANIZER;CN="Cobblestone Quilters Guild":MAILTO:website@csq.websmithshop.com/
END:VEVENT
BEGIN:VEVENT
DTSTART;TZID=America/New_York:20251226T110000
DTEND;TZID=America/New_York:20251226T160000
DTSTAMP:20260425T200332
CREATED:20241201T141716Z
LAST-MODIFIED:20241204T171643Z
UID:10001302-1766746800-1766764800@cobblestonequilters.com
SUMMARY:Friendship Quilting Group (Splinter Group)
DESCRIPTION:Hanahan Senior Center \nEvery Friday \nll:15 – 5 \n 
URL:https://cobblestonequilters.com/events/friendship-quilting-group-splinter-group-9/2025-12-26/
LOCATION:Hanahan Senior Center\, 3100 Mabeline Road\, Hanahan\, SC
ORGANIZER;CN="Cobblestone Quilters Guild":MAILTO:website@csq.websmithshop.com/
END:VEVENT
BEGIN:VEVENT
DTSTART;TZID=America/New_York:20251224T100000
DTEND;TZID=America/New_York:20251224T150000
DTSTAMP:20260425T200332
CREATED:20241204T181508Z
LAST-MODIFIED:20250810T154125Z
UID:10002461-1766570400-1766588400@cobblestonequilters.com
SUMMARY:QuiltNFriends (Splinter Group)
DESCRIPTION:Meets at Stallsville Church in Summerville every Werdnesday \n10-3
URL:https://cobblestonequilters.com/events/quilt-friends-splinter-group/2025-12-24/
LOCATION:Stallsville Methodist Church\, 255 Stallsville Loop\, Summerville\, SC
ORGANIZER;CN="Cobblestone Quilters Guild":MAILTO:website@csq.websmithshop.com/
END:VEVENT
BEGIN:VEVENT
DTSTART;TZID=America/New_York:20251219T110000
DTEND;TZID=America/New_York:20251219T160000
DTSTAMP:20260425T200332
CREATED:20241201T141716Z
LAST-MODIFIED:20241204T171643Z
UID:10001301-1766142000-1766160000@cobblestonequilters.com
SUMMARY:Friendship Quilting Group (Splinter Group)
DESCRIPTION:Hanahan Senior Center \nEvery Friday \nll:15 – 5 \n 
URL:https://cobblestonequilters.com/events/friendship-quilting-group-splinter-group-9/2025-12-19/
LOCATION:Hanahan Senior Center\, 3100 Mabeline Road\, Hanahan\, SC
ORGANIZER;CN="Cobblestone Quilters Guild":MAILTO:website@csq.websmithshop.com/
END:VEVENT
BEGIN:VEVENT
DTSTART;TZID=America/New_York:20251218T173000
DTEND;TZID=America/New_York:20251218T200000
DTSTAMP:20260425T200332
CREATED:20241204T185325Z
LAST-MODIFIED:20241204T185325Z
UID:10002035-1766079000-1766088000@cobblestonequilters.com
SUMMARY:Bonneau Quilting Group (Splinter Group)
DESCRIPTION:Meets 3rd Thursdays at Arise Church in Bonneau \n5:30
URL:https://cobblestonequilters.com/events/bonneau-quilting-group-splinter-group-3/2025-12-18/
LOCATION:Arise Church\, 1253 Long Acre Drive\, Bonneau\, SC\, 29431\, United States
ORGANIZER;CN="Cobblestone Quilters Guild":MAILTO:website@csq.websmithshop.com/
END:VEVENT
BEGIN:VEVENT
DTSTART;TZID=America/New_York:20251217T100000
DTEND;TZID=America/New_York:20251217T150000
DTSTAMP:20260425T200332
CREATED:20241204T181508Z
LAST-MODIFIED:20250810T154125Z
UID:10002460-1765965600-1765983600@cobblestonequilters.com
SUMMARY:QuiltNFriends (Splinter Group)
DESCRIPTION:Meets at Stallsville Church in Summerville every Werdnesday \n10-3
URL:https://cobblestonequilters.com/events/quilt-friends-splinter-group/2025-12-17/
LOCATION:Stallsville Methodist Church\, 255 Stallsville Loop\, Summerville\, SC
ORGANIZER;CN="Cobblestone Quilters Guild":MAILTO:website@csq.websmithshop.com/
END:VEVENT
BEGIN:VEVENT
DTSTART;TZID=America/New_York:20251212T110000
DTEND;TZID=America/New_York:20251212T160000
DTSTAMP:20260425T200332
CREATED:20241201T141716Z
LAST-MODIFIED:20241204T171643Z
UID:10001300-1765537200-1765555200@cobblestonequilters.com
SUMMARY:Friendship Quilting Group (Splinter Group)
DESCRIPTION:Hanahan Senior Center \nEvery Friday \nll:15 – 5 \n 
URL:https://cobblestonequilters.com/events/friendship-quilting-group-splinter-group-9/2025-12-12/
LOCATION:Hanahan Senior Center\, 3100 Mabeline Road\, Hanahan\, SC
ORGANIZER;CN="Cobblestone Quilters Guild":MAILTO:website@csq.websmithshop.com/
END:VEVENT
BEGIN:VEVENT
DTSTART;TZID=America/New_York:20251211T173000
DTEND;TZID=America/New_York:20251211T200000
DTSTAMP:20260425T200332
CREATED:20241204T185028Z
LAST-MODIFIED:20241204T185551Z
UID:10002095-1765474200-1765483200@cobblestonequilters.com
SUMMARY:Bonneau Quilting Group (Splinter Group)
DESCRIPTION:Meets at Arise Church 2nd Thursdays \n5:30
URL:https://cobblestonequilters.com/events/bonneau-quilting-group-splinter-group-2/2025-12-11/
LOCATION:Arise Church\, 1253 Long Acre Drive\, Bonneau\, SC\, 29431\, United States
ORGANIZER;CN="Cobblestone Quilters Guild":MAILTO:website@csq.websmithshop.com/
END:VEVENT
BEGIN:VEVENT
DTSTART;TZID=America/New_York:20251210T100000
DTEND;TZID=America/New_York:20251210T150000
DTSTAMP:20260425T200333
CREATED:20241204T181508Z
LAST-MODIFIED:20250810T154125Z
UID:10002459-1765360800-1765378800@cobblestonequilters.com
SUMMARY:QuiltNFriends (Splinter Group)
DESCRIPTION:Meets at Stallsville Church in Summerville every Werdnesday \n10-3
URL:https://cobblestonequilters.com/events/quilt-friends-splinter-group/2025-12-10/
LOCATION:Stallsville Methodist Church\, 255 Stallsville Loop\, Summerville\, SC
ORGANIZER;CN="Cobblestone Quilters Guild":MAILTO:website@csq.websmithshop.com/
END:VEVENT
BEGIN:VEVENT
DTSTART;TZID=America/New_York:20251209T183000
DTEND;TZID=America/New_York:20251209T210000
DTSTAMP:20260425T200333
CREATED:20241204T183516Z
LAST-MODIFIED:20241204T183516Z
UID:10001794-1765305000-1765314000@cobblestonequilters.com
SUMMARY:Indigo Quilters (Splinter Group)
DESCRIPTION:Meets 2nd Tuesday at 6:30 pm \nREV Credit Union
URL:https://cobblestonequilters.com/events/indigo-quilters-splinter-group/2025-12-09/
LOCATION:REV Credit Union Coleman\, 847 Coleman Blvd\, Mt Pleasant\, SC
ORGANIZER;CN="Cobblestone Quilters Guild":MAILTO:website@csq.websmithshop.com/
END:VEVENT
BEGIN:VEVENT
DTSTART;TZID=America/New_York:20251209T100000
DTEND;TZID=America/New_York:20251209T120000
DTSTAMP:20260425T200333
CREATED:20241204T184130Z
LAST-MODIFIED:20241204T184130Z
UID:10001854-1765274400-1765281600@cobblestonequilters.com
SUMMARY:Duck Ditch Quilters (Splinter Group)
DESCRIPTION:Meets 2nd Tuesday of Each month at 10:00 \nSt. Luke’s Lutheran Church\, Summerville\, SC
URL:https://cobblestonequilters.com/events/duck-ditch-quilters-splinter-group/2025-12-09/
LOCATION:St. Luke’s Lutheran Church\, 200 Central Avenue\, Summerville\, United States
ORGANIZER;CN="Cobblestone Quilters Guild":MAILTO:website@csq.websmithshop.com/
END:VEVENT
BEGIN:VEVENT
DTSTART;TZID=America/New_York:20251205T110000
DTEND;TZID=America/New_York:20251205T160000
DTSTAMP:20260425T200333
CREATED:20241201T141716Z
LAST-MODIFIED:20241204T171643Z
UID:10001299-1764932400-1764950400@cobblestonequilters.com
SUMMARY:Friendship Quilting Group (Splinter Group)
DESCRIPTION:Hanahan Senior Center \nEvery Friday \nll:15 – 5 \n 
URL:https://cobblestonequilters.com/events/friendship-quilting-group-splinter-group-9/2025-12-05/
LOCATION:Hanahan Senior Center\, 3100 Mabeline Road\, Hanahan\, SC
ORGANIZER;CN="Cobblestone Quilters Guild":MAILTO:website@csq.websmithshop.com/
END:VEVENT
END:VCALENDAR