BEGIN:VCALENDAR
VERSION:2.0
PRODID:-//Cobblestone Quilters Guild - ECPv6.15.20//NONSGML v1.0//EN
CALSCALE:GREGORIAN
METHOD:PUBLISH
X-ORIGINAL-URL:https://cobblestonequilters.com
X-WR-CALDESC:Events for Cobblestone Quilters Guild
REFRESH-INTERVAL;VALUE=DURATION:PT1H
X-Robots-Tag:noindex
X-PUBLISHED-TTL:PT1H
BEGIN:VTIMEZONE
TZID:America/New_York
BEGIN:DAYLIGHT
TZOFFSETFROM:-0500
TZOFFSETTO:-0400
TZNAME:EDT
DTSTART:20250309T070000
END:DAYLIGHT
BEGIN:STANDARD
TZOFFSETFROM:-0400
TZOFFSETTO:-0500
TZNAME:EST
DTSTART:20251102T060000
END:STANDARD
BEGIN:DAYLIGHT
TZOFFSETFROM:-0500
TZOFFSETTO:-0400
TZNAME:EDT
DTSTART:20260308T070000
END:DAYLIGHT
BEGIN:STANDARD
TZOFFSETFROM:-0400
TZOFFSETTO:-0500
TZNAME:EST
DTSTART:20261101T060000
END:STANDARD
BEGIN:DAYLIGHT
TZOFFSETFROM:-0500
TZOFFSETTO:-0400
TZNAME:EDT
DTSTART:20270314T070000
END:DAYLIGHT
BEGIN:STANDARD
TZOFFSETFROM:-0400
TZOFFSETTO:-0500
TZNAME:EST
DTSTART:20271107T060000
END:STANDARD
END:VTIMEZONE
BEGIN:VEVENT
DTSTART;TZID=America/New_York:20260414T100000
DTEND;TZID=America/New_York:20260414T120000
DTSTAMP:20260425T135049
CREATED:20241204T184130Z
LAST-MODIFIED:20241204T184130Z
UID:10001858-1776160800-1776168000@cobblestonequilters.com
SUMMARY:Duck Ditch Quilters (Splinter Group)
DESCRIPTION:Meets 2nd Tuesday of Each month at 10:00 \nSt. Luke’s Lutheran Church\, Summerville\, SC
URL:https://cobblestonequilters.com/events/duck-ditch-quilters-splinter-group/2026-04-14/
LOCATION:St. Luke’s Lutheran Church\, 200 Central Avenue\, Summerville\, United States
ORGANIZER;CN="Cobblestone Quilters Guild":MAILTO:website@csq.websmithshop.com/
END:VEVENT
BEGIN:VEVENT
DTSTART;TZID=America/New_York:20260414T183000
DTEND;TZID=America/New_York:20260414T210000
DTSTAMP:20260425T135049
CREATED:20241204T183516Z
LAST-MODIFIED:20241204T183516Z
UID:10001798-1776191400-1776200400@cobblestonequilters.com
SUMMARY:Indigo Quilters (Splinter Group)
DESCRIPTION:Meets 2nd Tuesday at 6:30 pm \nREV Credit Union
URL:https://cobblestonequilters.com/events/indigo-quilters-splinter-group/2026-04-14/
LOCATION:REV Credit Union Coleman\, 847 Coleman Blvd\, Mt Pleasant\, SC
ORGANIZER;CN="Cobblestone Quilters Guild":MAILTO:website@csq.websmithshop.com/
END:VEVENT
END:VCALENDAR